Back to Multiple platform build/check report for BioC 3.10 |
|
This page was generated on 2020-04-15 12:09:49 -0400 (Wed, 15 Apr 2020).
Package 1142/1823 | Hostname | OS / Arch | INSTALL | BUILD | CHECK | BUILD BIN | ||||||
netbenchmark 1.18.0 Pau Bellot
| malbec1 | Linux (Ubuntu 18.04.4 LTS) / x86_64 | ERROR | [ ERROR ] | skipped | |||||||
tokay1 | Windows Server 2012 R2 Standard / x64 | ERROR | ERROR | skipped | skipped | |||||||
merida1 | OS X 10.11.6 El Capitan / x86_64 | ERROR | ERROR | skipped | skipped |
Package: netbenchmark |
Version: 1.18.0 |
Command: /home/biocbuild/bbs-3.10-bioc/R/bin/R CMD build --keep-empty-dirs --no-resave-data netbenchmark |
StartedAt: 2020-04-14 21:19:58 -0400 (Tue, 14 Apr 2020) |
EndedAt: 2020-04-14 21:20:00 -0400 (Tue, 14 Apr 2020) |
EllapsedTime: 1.3 seconds |
RetCode: 1 |
Status: ERROR |
PackageFile: None |
PackageFileSize: NA |
############################################################################## ############################################################################## ### ### Running command: ### ### /home/biocbuild/bbs-3.10-bioc/R/bin/R CMD build --keep-empty-dirs --no-resave-data netbenchmark ### ############################################################################## ############################################################################## * checking for file ‘netbenchmark/DESCRIPTION’ ... OK * preparing ‘netbenchmark’: * checking DESCRIPTION meta-information ... OK * cleaning src * installing the package to build vignettes ----------------------------------- ERROR: dependency ‘PCIT’ is not available for package ‘netbenchmark’ * removing ‘/tmp/Rtmpv8ai94/Rinst64617a2cf378/netbenchmark’ ----------------------------------- ERROR: package installation failed