Back to Multiple platform build/check report for BioC 3.10 |
|
This page was generated on 2020-04-15 12:24:34 -0400 (Wed, 15 Apr 2020).
Package 1142/1823 | Hostname | OS / Arch | INSTALL | BUILD | CHECK | BUILD BIN | ||||||
netbenchmark 1.18.0 Pau Bellot
| malbec1 | Linux (Ubuntu 18.04.4 LTS) / x86_64 | ERROR | ERROR | skipped | |||||||
tokay1 | Windows Server 2012 R2 Standard / x64 | [ ERROR ] | ERROR | skipped | skipped | |||||||
merida1 | OS X 10.11.6 El Capitan / x86_64 | ERROR | ERROR | skipped | skipped |
Package: netbenchmark |
Version: 1.18.0 |
Command: C:\cygwin\bin\curl.exe -O https://malbec1.bioconductor.org/BBS/3.10/bioc/src/contrib/netbenchmark_1.18.0.tar.gz && rm -rf netbenchmark.buildbin-libdir && mkdir netbenchmark.buildbin-libdir && C:\Users\biocbuild\bbs-3.10-bioc\R\bin\R.exe CMD INSTALL --merge-multiarch --build --library=netbenchmark.buildbin-libdir netbenchmark_1.18.0.tar.gz && C:\Users\biocbuild\bbs-3.10-bioc\R\bin\R.exe CMD INSTALL netbenchmark_1.18.0.zip && rm netbenchmark_1.18.0.tar.gz netbenchmark_1.18.0.zip |
StartedAt: 2020-04-14 20:42:17 -0400 (Tue, 14 Apr 2020) |
EndedAt: 2020-04-14 20:42:18 -0400 (Tue, 14 Apr 2020) |
EllapsedTime: 1.0 seconds |
RetCode: 1 |
Status: ERROR |
############################################################################## ############################################################################## ### ### Running command: ### ### C:\cygwin\bin\curl.exe -O https://malbec1.bioconductor.org/BBS/3.10/bioc/src/contrib/netbenchmark_1.18.0.tar.gz && rm -rf netbenchmark.buildbin-libdir && mkdir netbenchmark.buildbin-libdir && C:\Users\biocbuild\bbs-3.10-bioc\R\bin\R.exe CMD INSTALL --merge-multiarch --build --library=netbenchmark.buildbin-libdir netbenchmark_1.18.0.tar.gz && C:\Users\biocbuild\bbs-3.10-bioc\R\bin\R.exe CMD INSTALL netbenchmark_1.18.0.zip && rm netbenchmark_1.18.0.tar.gz netbenchmark_1.18.0.zip ### ############################################################################## ############################################################################## % Total % Received % Xferd Average Speed Time Time Time Current Dload Upload Total Spent Left Speed 0 0 0 0 0 0 0 0 --:--:-- --:--:-- --:--:-- 0 100 34335 100 34335 0 0 982k 0 --:--:-- --:--:-- --:--:-- 1081k install for i386 ERROR: dependency 'PCIT' is not available for package 'netbenchmark' * removing 'C:/Users/biocbuild/bbs-3.10-bioc/meat/netbenchmark.buildbin-libdir/netbenchmark'