Back to Multiple platform build/check report for BioC 3.10 |
|
This page was generated on 2020-04-15 12:50:25 -0400 (Wed, 15 Apr 2020).
Package 1197/1823 | Hostname | OS / Arch | INSTALL | BUILD | CHECK | BUILD BIN | ||||||
oppti 1.0.0 Abdulkadir Elmas
| malbec1 | Linux (Ubuntu 18.04.4 LTS) / x86_64 | OK | OK | OK | |||||||
tokay1 | Windows Server 2012 R2 Standard / x64 | OK | OK | OK | OK | |||||||
merida1 | OS X 10.11.6 El Capitan / x86_64 | OK | OK | [ OK ] | OK |
Package: oppti |
Version: 1.0.0 |
Command: /Library/Frameworks/R.framework/Versions/Current/Resources/bin/R CMD check --install=check:oppti.install-out.txt --library=/Library/Frameworks/R.framework/Versions/Current/Resources/library --no-vignettes --timings oppti_1.0.0.tar.gz |
StartedAt: 2020-04-15 04:23:14 -0400 (Wed, 15 Apr 2020) |
EndedAt: 2020-04-15 04:24:23 -0400 (Wed, 15 Apr 2020) |
EllapsedTime: 69.6 seconds |
RetCode: 0 |
Status: OK |
CheckDir: oppti.Rcheck |
Warnings: 0 |
############################################################################## ############################################################################## ### ### Running command: ### ### /Library/Frameworks/R.framework/Versions/Current/Resources/bin/R CMD check --install=check:oppti.install-out.txt --library=/Library/Frameworks/R.framework/Versions/Current/Resources/library --no-vignettes --timings oppti_1.0.0.tar.gz ### ############################################################################## ############################################################################## * using log directory ‘/Users/biocbuild/bbs-3.10-bioc/meat/oppti.Rcheck’ * using R version 3.6.3 (2020-02-29) * using platform: x86_64-apple-darwin15.6.0 (64-bit) * using session charset: UTF-8 * using option ‘--no-vignettes’ * checking for file ‘oppti/DESCRIPTION’ ... OK * checking extension type ... Package * this is package ‘oppti’ version ‘1.0.0’ * package encoding: UTF-8 * checking package namespace information ... OK * checking package dependencies ... OK * checking if this is a source package ... OK * checking if there is a namespace ... OK * checking for hidden files and directories ... OK * checking for portable file names ... OK * checking for sufficient/correct file permissions ... OK * checking whether package ‘oppti’ can be installed ... OK * checking installed package size ... OK * checking package directory ... OK * checking ‘build’ directory ... OK * checking DESCRIPTION meta-information ... NOTE License components which are templates and need '+ file LICENSE': MIT * checking top-level files ... OK * checking for left-over files ... OK * checking index information ... OK * checking package subdirectories ... OK * checking R files for non-ASCII characters ... OK * checking R files for syntax errors ... OK * checking whether the package can be loaded ... OK * checking whether the package can be loaded with stated dependencies ... OK * checking whether the package can be unloaded cleanly ... OK * checking whether the namespace can be loaded with stated dependencies ... OK * checking whether the namespace can be unloaded cleanly ... OK * checking dependencies in R code ... OK * checking S3 generic/method consistency ... OK * checking replacement functions ... OK * checking foreign function calls ... OK * checking R code for possible problems ... NOTE gqplot: no visible binding for global variable ‘variable2’ gqplot: no visible binding for global variable ‘variable1’ gqplot: no visible binding for global variable ‘cupper’ gqplot: no visible binding for global variable ‘clower’ markOut: no visible binding for global variable ‘data’ Undefined global functions or variables: clower cupper data variable1 variable2 Consider adding importFrom("utils", "data") to your NAMESPACE file. * checking Rd files ... OK * checking Rd metadata ... OK * checking Rd cross-references ... OK * checking for missing documentation entries ... OK * checking for code/documentation mismatches ... OK * checking Rd \usage sections ... OK * checking Rd contents ... OK * checking for unstated dependencies in examples ... OK * checking files in ‘vignettes’ ... OK * checking examples ... OK Examples with CPU or elapsed time > 5s user system elapsed markOut 6.08 0.079 6.208 * checking for unstated dependencies in vignettes ... OK * checking package vignettes in ‘inst/doc’ ... OK * checking running R code from vignettes ... SKIPPED * checking re-building of vignette outputs ... SKIPPED * checking PDF version of manual ... OK * DONE Status: 2 NOTEs See ‘/Users/biocbuild/bbs-3.10-bioc/meat/oppti.Rcheck/00check.log’ for details.
oppti.Rcheck/00install.out
############################################################################## ############################################################################## ### ### Running command: ### ### /Library/Frameworks/R.framework/Versions/Current/Resources/bin/R CMD INSTALL oppti ### ############################################################################## ############################################################################## * installing to library ‘/Library/Frameworks/R.framework/Versions/3.6/Resources/library’ * installing *source* package ‘oppti’ ... ** using staged installation ** R ** byte-compile and prepare package for lazy loading ** help *** installing help indices ** building package indices ** installing vignettes ** testing if installed package can be loaded from temporary location ** testing if installed package can be loaded from final location ** testing if installed package keeps a record of temporary installation path * DONE (oppti)
oppti.Rcheck/oppti-Ex.timings
name | user | system | elapsed | |
artImpute | 0.049 | 0.002 | 0.051 | |
clusterData | 0.077 | 0.004 | 0.081 | |
dropMarkers | 0.006 | 0.000 | 0.006 | |
dysReg | 0.211 | 0.004 | 0.216 | |
markOut | 6.080 | 0.079 | 6.208 | |
oppti | 0.355 | 0.007 | 0.364 | |
outScores | 0.020 | 0.000 | 0.021 | |
plotDen | 0.055 | 0.002 | 0.062 | |
rankPerOut | 0.359 | 0.001 | 0.365 | |
statTest | 0.051 | 0.000 | 0.053 | |