Back to Multiple platform build/check report for BioC 3.10 |
|
This page was generated on 2020-04-15 12:33:32 -0400 (Wed, 15 Apr 2020).
Package 1197/1823 | Hostname | OS / Arch | INSTALL | BUILD | CHECK | BUILD BIN | ||||||
oppti 1.0.0 Abdulkadir Elmas
| malbec1 | Linux (Ubuntu 18.04.4 LTS) / x86_64 | OK | OK | OK | |||||||
tokay1 | Windows Server 2012 R2 Standard / x64 | [ OK ] | OK | OK | OK | |||||||
merida1 | OS X 10.11.6 El Capitan / x86_64 | OK | OK | OK | OK |
Package: oppti |
Version: 1.0.0 |
Command: C:\cygwin\bin\curl.exe -O https://malbec1.bioconductor.org/BBS/3.10/bioc/src/contrib/oppti_1.0.0.tar.gz && rm -rf oppti.buildbin-libdir && mkdir oppti.buildbin-libdir && C:\Users\biocbuild\bbs-3.10-bioc\R\bin\R.exe CMD INSTALL --merge-multiarch --build --library=oppti.buildbin-libdir oppti_1.0.0.tar.gz && C:\Users\biocbuild\bbs-3.10-bioc\R\bin\R.exe CMD INSTALL oppti_1.0.0.zip && rm oppti_1.0.0.tar.gz oppti_1.0.0.zip |
StartedAt: 2020-04-14 19:27:17 -0400 (Tue, 14 Apr 2020) |
EndedAt: 2020-04-14 19:27:58 -0400 (Tue, 14 Apr 2020) |
EllapsedTime: 40.3 seconds |
RetCode: 0 |
Status: OK |
############################################################################## ############################################################################## ### ### Running command: ### ### C:\cygwin\bin\curl.exe -O https://malbec1.bioconductor.org/BBS/3.10/bioc/src/contrib/oppti_1.0.0.tar.gz && rm -rf oppti.buildbin-libdir && mkdir oppti.buildbin-libdir && C:\Users\biocbuild\bbs-3.10-bioc\R\bin\R.exe CMD INSTALL --merge-multiarch --build --library=oppti.buildbin-libdir oppti_1.0.0.tar.gz && C:\Users\biocbuild\bbs-3.10-bioc\R\bin\R.exe CMD INSTALL oppti_1.0.0.zip && rm oppti_1.0.0.tar.gz oppti_1.0.0.zip ### ############################################################################## ############################################################################## % Total % Received % Xferd Average Speed Time Time Time Current Dload Upload Total Spent Left Speed 0 0 0 0 0 0 0 0 --:--:-- --:--:-- --:--:-- 0 100 20531 100 20531 0 0 431k 0 --:--:-- --:--:-- --:--:-- 466k install for i386 * installing *source* package 'oppti' ... ** using staged installation ** R ** byte-compile and prepare package for lazy loading ** help *** installing help indices converting help for package 'oppti' finding HTML links ... done artImpute html clusterData html dropMarkers html dysReg html markOut html oppti html outScores html plotDen html rankPerOut html statTest html ** building package indices ** installing vignettes ** testing if installed package can be loaded from temporary location ** testing if installed package can be loaded from final location ** testing if installed package keeps a record of temporary installation path install for x64 * installing *source* package 'oppti' ... ** testing if installed package can be loaded * MD5 sums packaged installation of 'oppti' as oppti_1.0.0.zip * DONE (oppti) * installing to library 'C:/Users/biocbuild/bbs-3.10-bioc/R/library' package 'oppti' successfully unpacked and MD5 sums checked