Back to Multiple platform build/check report for BioC 3.10 |
|
This page was generated on 2019-07-05 11:58:32 -0400 (Fri, 05 Jul 2019).
Package 1337/1740 | Hostname | OS / Arch | INSTALL | BUILD | CHECK | BUILD BIN | ||||||
readat 1.11.0 Richard Cotton
| malbec1 | Linux (Ubuntu 18.04.2 LTS) / x86_64 | OK | OK | [ OK ] | |||||||
tokay1 | Windows Server 2012 R2 Standard / x64 | OK | OK | WARNINGS | OK | |||||||
merida1 | OS X 10.11.6 El Capitan / x86_64 | OK | OK | OK | OK |
Package: readat |
Version: 1.11.0 |
Command: /home/biocbuild/bbs-3.10-bioc/R/bin/R CMD check --install=check:readat.install-out.txt --library=/home/biocbuild/bbs-3.10-bioc/R/library --no-vignettes --timings readat_1.11.0.tar.gz |
StartedAt: 2019-07-05 06:33:07 -0400 (Fri, 05 Jul 2019) |
EndedAt: 2019-07-05 06:37:57 -0400 (Fri, 05 Jul 2019) |
EllapsedTime: 290.3 seconds |
RetCode: 0 |
Status: OK |
CheckDir: readat.Rcheck |
Warnings: 0 |
############################################################################## ############################################################################## ### ### Running command: ### ### /home/biocbuild/bbs-3.10-bioc/R/bin/R CMD check --install=check:readat.install-out.txt --library=/home/biocbuild/bbs-3.10-bioc/R/library --no-vignettes --timings readat_1.11.0.tar.gz ### ############################################################################## ############################################################################## * using log directory ‘/home/biocbuild/bbs-3.10-bioc/meat/readat.Rcheck’ * using R version 3.6.0 (2019-04-26) * using platform: x86_64-pc-linux-gnu (64-bit) * using session charset: UTF-8 * using option ‘--no-vignettes’ * checking for file ‘readat/DESCRIPTION’ ... OK * this is package ‘readat’ version ‘1.11.0’ * checking package namespace information ... OK * checking package dependencies ... OK * checking if this is a source package ... OK * checking if there is a namespace ... OK * checking for hidden files and directories ... OK * checking for portable file names ... OK * checking for sufficient/correct file permissions ... OK * checking whether package ‘readat’ can be installed ... OK * checking installed package size ... OK * checking package directory ... OK * checking ‘build’ directory ... OK * checking DESCRIPTION meta-information ... OK * checking top-level files ... OK * checking for left-over files ... OK * checking index information ... OK * checking package subdirectories ... OK * checking R files for non-ASCII characters ... OK * checking R files for syntax errors ... OK * checking whether the package can be loaded ... OK * checking whether the package can be loaded with stated dependencies ... OK * checking whether the package can be unloaded cleanly ... OK * checking whether the namespace can be loaded with stated dependencies ... OK * checking whether the namespace can be unloaded cleanly ... OK * checking dependencies in R code ... OK * checking S3 generic/method consistency ... OK * checking replacement functions ... OK * checking foreign function calls ... OK * checking R code for possible problems ... NOTE sfread: no visible binding for global variable ‘header’ sfread: no visible binding for global variable ‘nrows’ Undefined global functions or variables: header nrows * checking Rd files ... OK * checking Rd metadata ... OK * checking Rd cross-references ... OK * checking for missing documentation entries ... OK * checking for code/documentation mismatches ... OK * checking Rd \usage sections ... OK * checking Rd contents ... OK * checking for unstated dependencies in examples ... OK * checking contents of ‘data’ directory ... OK * checking data for non-ASCII characters ... OK * checking data for ASCII and uncompressed saves ... OK * checking files in ‘vignettes’ ... OK * checking examples ... OK Examples with CPU or elapsed time > 5s user system elapsed as.ExpressionSet 49.464 0.256 16.944 sub-.WideSomaLogicData 48.344 0.204 14.045 WideSomaLogicDataAttributes 46.820 0.160 14.429 readAdat 46.336 0.108 13.793 colnamesStartWithSeqId 45.964 0.136 13.303 as.SummarizedExperiment 45.860 0.156 12.586 * checking for unstated dependencies in ‘tests’ ... OK * checking tests ... Running ‘testthat.R’ OK * checking for unstated dependencies in vignettes ... OK * checking package vignettes in ‘inst/doc’ ... OK * checking running R code from vignettes ... SKIPPED * checking re-building of vignette outputs ... SKIPPED * checking PDF version of manual ... OK * DONE Status: 1 NOTE See ‘/home/biocbuild/bbs-3.10-bioc/meat/readat.Rcheck/00check.log’ for details.
readat.Rcheck/00install.out
############################################################################## ############################################################################## ### ### Running command: ### ### /home/biocbuild/bbs-3.10-bioc/R/bin/R CMD INSTALL readat ### ############################################################################## ############################################################################## * installing to library ‘/home/biocbuild/bbs-3.10-bioc/R/library’ * installing *source* package ‘readat’ ... ** using staged installation ** R ** data *** moving datasets to lazyload DB ** inst ** byte-compile and prepare package for lazy loading ** help *** installing help indices ** building package indices ** installing vignettes ** testing if installed package can be loaded from temporary location ** testing if installed package can be loaded from final location ** testing if installed package keeps a record of temporary installation path * DONE (readat)
readat.Rcheck/tests/testthat.Rout
R version 3.6.0 (2019-04-26) -- "Planting of a Tree" Copyright (C) 2019 The R Foundation for Statistical Computing Platform: x86_64-pc-linux-gnu (64-bit) R is free software and comes with ABSOLUTELY NO WARRANTY. You are welcome to redistribute it under certain conditions. Type 'license()' or 'licence()' for distribution details. R is a collaborative project with many contributors. Type 'contributors()' for more information and 'citation()' on how to cite R or R packages in publications. Type 'demo()' for some demos, 'help()' for on-line help, or 'help.start()' for an HTML browser interface to help. Type 'q()' to quit R. > library(readat) > library(testthat) > > test_check("readat") ══ testthat results ═══════════════════════════════════════════════════════════ OK: 62 SKIPPED: 0 WARNINGS: 0 FAILED: 0 > > proc.time() user system elapsed 69.828 0.564 27.225
readat.Rcheck/readat-Ex.timings
name | user | system | elapsed | |
WideSomaLogicData | 0.016 | 0.004 | 0.022 | |
WideSomaLogicDataAttributes | 46.820 | 0.160 | 14.429 | |
aptamers | 0.012 | 0.000 | 0.012 | |
as.ExpressionSet | 49.464 | 0.256 | 16.944 | |
as.SummarizedExperiment | 45.860 | 0.156 | 12.586 | |
chromosomalPositions | 0.156 | 0.004 | 0.160 | |
colnamesStartWithSeqId | 45.964 | 0.136 | 13.303 | |
convertSeqIdToAptamer | 0.000 | 0.000 | 0.001 | |
ensemblIds | 0.004 | 0.000 | 0.003 | |
extractSampleData | 0.004 | 0.004 | 0.039 | |
getChromosomalPositions | 0.048 | 0.000 | 0.049 | |
getEnsemblIds | 0.004 | 0.000 | 0.004 | |
getGoMolecularFunctions | 0.344 | 0.012 | 0.360 | |
getKeggDefinitions | 0.032 | 0.000 | 0.033 | |
getPfam | 0.012 | 0.004 | 0.014 | |
getUniProtKeywords | 0.024 | 0.000 | 0.022 | |
goMolecularFunction | 0.940 | 0.044 | 0.983 | |
keggDefinitions | 0.040 | 0.000 | 0.043 | |
pfam | 0.012 | 0.000 | 0.016 | |
readAdat | 46.336 | 0.108 | 13.793 | |
readComments | 0.136 | 0.000 | 0.072 | |
readControls | 0.272 | 0.000 | 0.200 | |
readSamples | 0.376 | 0.000 | 0.288 | |
readSlides | 0.108 | 0.000 | 0.073 | |
sub-.WideSomaLogicData | 48.344 | 0.204 | 14.045 | |
uniprotKeywords | 0.028 | 0.000 | 0.026 | |
writeSampleSubmissionForm | 0.448 | 0.004 | 0.205 | |