scAlign.Rcheck/tests_i386/testthat.Rout.fail
R version 3.6.1 (2019-07-05) -- "Action of the Toes"
Copyright (C) 2019 The R Foundation for Statistical Computing
Platform: i386-w64-mingw32/i386 (32-bit)
R is free software and comes with ABSOLUTELY NO WARRANTY.
You are welcome to redistribute it under certain conditions.
Type 'license()' or 'licence()' for distribution details.
R is a collaborative project with many contributors.
Type 'contributors()' for more information and
'citation()' on how to cite R or R packages in publications.
Type 'demo()' for some demos, 'help()' for on-line help, or
'help.start()' for an HTML browser interface to help.
Type 'q()' to quit R.
> library(testthat)
>
> test_check("scAlign")
Loading required package: scAlign
Loading required package: SingleCellExperiment
Loading required package: SummarizedExperiment
Loading required package: GenomicRanges
Loading required package: stats4
Loading required package: BiocGenerics
Loading required package: parallel
Attaching package: 'BiocGenerics'
The following objects are masked from 'package:parallel':
clusterApply, clusterApplyLB, clusterCall, clusterEvalQ,
clusterExport, clusterMap, parApply, parCapply, parLapply,
parLapplyLB, parRapply, parSapply, parSapplyLB
The following objects are masked from 'package:stats':
IQR, mad, sd, var, xtabs
The following objects are masked from 'package:base':
Filter, Find, Map, Position, Reduce, anyDuplicated, append,
as.data.frame, basename, cbind, colnames, dirname, do.call,
duplicated, eval, evalq, get, grep, grepl, intersect, is.unsorted,
lapply, mapply, match, mget, order, paste, pmax, pmax.int, pmin,
pmin.int, rank, rbind, rownames, sapply, setdiff, sort, table,
tapply, union, unique, unsplit, which, which.max, which.min
Loading required package: S4Vectors
Attaching package: 'S4Vectors'
The following object is masked from 'package:base':
expand.grid
Loading required package: IRanges
Attaching package: 'IRanges'
The following object is masked from 'package:grDevices':
windows
Loading required package: GenomeInfoDb
Loading required package: Biobase
Welcome to Bioconductor
Vignettes contain introductory material; view with
'browseVignettes()'. To cite Bioconductor, see
'citation("Biobase")', and for packages 'citation("pkgname")'.
Loading required package: DelayedArray
Loading required package: matrixStats
Attaching package: 'matrixStats'
The following objects are masked from 'package:Biobase':
anyMissing, rowMedians
Loading required package: BiocParallel
Attaching package: 'DelayedArray'
The following objects are masked from 'package:matrixStats':
colMaxs, colMins, colRanges, rowMaxs, rowMins, rowRanges
The following objects are masked from 'package:base':
aperm, apply, rowsum
Loading required package: Seurat
Attaching package: 'Seurat'
The following object is masked from 'package:SummarizedExperiment':
Assays
Loading required package: tensorflow
Loading required package: purrr
Attaching package: 'purrr'
The following object is masked from 'package:DelayedArray':
simplify
The following object is masked from 'package:GenomicRanges':
reduce
The following object is masked from 'package:IRanges':
reduce
The following object is masked from 'package:testthat':
is_null
Loading required package: irlba
Loading required package: Matrix
Attaching package: 'Matrix'
The following object is masked from 'package:S4Vectors':
expand
Loading required package: Rtsne
Loading required package: ggplot2
Loading required package: FNN
Loading required package: PMA
[1] "Computing CCA using Seurat."
|
| | 0%
|
|=================================== | 50%
|
|======================================================================| 100%
|
| | 0%
|
|=================================== | 50%
|
|======================================================================| 100%
-- 1. Error: Alignment produces consistent results (@test-scalign.R#77) -------
Error with system install of tensorflow, check R for Tensorflow docs.
1: scAlign(scAlignCB, options = scAlignOptions(steps = 500, log.every = 500, norm = TRUE,
batch.norm.layer = TRUE, early.stop = FALSE), encoder.data = "scale.data", supervised = "none",
run.encoder = TRUE, run.decoder = FALSE, log.dir = file.path("~/models_temp",
"gene_input"), device = "CPU") at testthat/test-scalign.R:77
2: .check_tensorflow()
3: tryCatch({
with(tf$Session() %as% sess, {
sess$run(tf$Print("", list("Passed"), "TensorFlow check: "))
})
}, error = function(e) {
stop("Error with system install of tensorflow, check R for Tensorflow docs.")
})
4: tryCatchList(expr, classes, parentenv, handlers)
5: tryCatchOne(expr, names, parentenv, handlers[[1L]])
6: value[[3L]](cond)
7: stop("Error with system install of tensorflow, check R for Tensorflow docs.")
== testthat results ===========================================================
[ OK: 2 | SKIPPED: 0 | WARNINGS: 1 | FAILED: 1 ]
1. Error: Alignment produces consistent results (@test-scalign.R#77)
Error: testthat unit tests failed
Execution halted
|
scAlign.Rcheck/tests_x64/testthat.Rout.fail
R version 3.6.1 (2019-07-05) -- "Action of the Toes"
Copyright (C) 2019 The R Foundation for Statistical Computing
Platform: x86_64-w64-mingw32/x64 (64-bit)
R is free software and comes with ABSOLUTELY NO WARRANTY.
You are welcome to redistribute it under certain conditions.
Type 'license()' or 'licence()' for distribution details.
R is a collaborative project with many contributors.
Type 'contributors()' for more information and
'citation()' on how to cite R or R packages in publications.
Type 'demo()' for some demos, 'help()' for on-line help, or
'help.start()' for an HTML browser interface to help.
Type 'q()' to quit R.
> library(testthat)
>
> test_check("scAlign")
Loading required package: scAlign
Loading required package: SingleCellExperiment
Loading required package: SummarizedExperiment
Loading required package: GenomicRanges
Loading required package: stats4
Loading required package: BiocGenerics
Loading required package: parallel
Attaching package: 'BiocGenerics'
The following objects are masked from 'package:parallel':
clusterApply, clusterApplyLB, clusterCall, clusterEvalQ,
clusterExport, clusterMap, parApply, parCapply, parLapply,
parLapplyLB, parRapply, parSapply, parSapplyLB
The following objects are masked from 'package:stats':
IQR, mad, sd, var, xtabs
The following objects are masked from 'package:base':
Filter, Find, Map, Position, Reduce, anyDuplicated, append,
as.data.frame, basename, cbind, colnames, dirname, do.call,
duplicated, eval, evalq, get, grep, grepl, intersect, is.unsorted,
lapply, mapply, match, mget, order, paste, pmax, pmax.int, pmin,
pmin.int, rank, rbind, rownames, sapply, setdiff, sort, table,
tapply, union, unique, unsplit, which, which.max, which.min
Loading required package: S4Vectors
Attaching package: 'S4Vectors'
The following object is masked from 'package:base':
expand.grid
Loading required package: IRanges
Attaching package: 'IRanges'
The following object is masked from 'package:grDevices':
windows
Loading required package: GenomeInfoDb
Loading required package: Biobase
Welcome to Bioconductor
Vignettes contain introductory material; view with
'browseVignettes()'. To cite Bioconductor, see
'citation("Biobase")', and for packages 'citation("pkgname")'.
Loading required package: DelayedArray
Loading required package: matrixStats
Attaching package: 'matrixStats'
The following objects are masked from 'package:Biobase':
anyMissing, rowMedians
Loading required package: BiocParallel
Attaching package: 'DelayedArray'
The following objects are masked from 'package:matrixStats':
colMaxs, colMins, colRanges, rowMaxs, rowMins, rowRanges
The following objects are masked from 'package:base':
aperm, apply, rowsum
Loading required package: Seurat
Attaching package: 'Seurat'
The following object is masked from 'package:SummarizedExperiment':
Assays
Loading required package: tensorflow
Loading required package: purrr
Attaching package: 'purrr'
The following object is masked from 'package:DelayedArray':
simplify
The following object is masked from 'package:GenomicRanges':
reduce
The following object is masked from 'package:IRanges':
reduce
The following object is masked from 'package:testthat':
is_null
Loading required package: irlba
Loading required package: Matrix
Attaching package: 'Matrix'
The following object is masked from 'package:S4Vectors':
expand
Loading required package: Rtsne
Loading required package: ggplot2
Loading required package: FNN
Loading required package: PMA
C:\Python37\lib\site-packages\tensorflow\python\framework\dtypes.py:516: FutureWarning: Passing (type, 1) or '1type' as a synonym of type is deprecated; in a future version of numpy, it will be understood as (type, (1,)) / '(1,)type'.
_np_qint8 = np.dtype([("qint8", np.int8, 1)])
C:\Python37\lib\site-packages\tensorflow\python\framework\dtypes.py:517: FutureWarning: Passing (type, 1) or '1type' as a synonym of type is deprecated; in a future version of numpy, it will be understood as (type, (1,)) / '(1,)type'.
_np_quint8 = np.dtype([("quint8", np.uint8, 1)])
C:\Python37\lib\site-packages\tensorflow\python\framework\dtypes.py:518: FutureWarning: Passing (type, 1) or '1type' as a synonym of type is deprecated; in a future version of numpy, it will be understood as (type, (1,)) / '(1,)type'.
_np_qint16 = np.dtype([("qint16", np.int16, 1)])
C:\Python37\lib\site-packages\tensorflow\python\framework\dtypes.py:519: FutureWarning: Passing (type, 1) or '1type' as a synonym of type is deprecated; in a future version of numpy, it will be understood as (type, (1,)) / '(1,)type'.
_np_quint16 = np.dtype([("quint16", np.uint16, 1)])
C:\Python37\lib\site-packages\tensorflow\python\framework\dtypes.py:520: FutureWarning: Passing (type, 1) or '1type' as a synonym of type is deprecated; in a future version of numpy, it will be understood as (type, (1,)) / '(1,)type'.
_np_qint32 = np.dtype([("qint32", np.int32, 1)])
C:\Python37\lib\site-packages\tensorflow\python\framework\dtypes.py:525: FutureWarning: Passing (type, 1) or '1type' as a synonym of type is deprecated; in a future version of numpy, it will be understood as (type, (1,)) / '(1,)type'.
np_resource = np.dtype([("resource", np.ubyte, 1)])
C:\Python37\lib\site-packages\tensorboard\compat\tensorflow_stub\dtypes.py:541: FutureWarning: Passing (type, 1) or '1type' as a synonym of type is deprecated; in a future version of numpy, it will be understood as (type, (1,)) / '(1,)type'.
_np_qint8 = np.dtype([("qint8", np.int8, 1)])
C:\Python37\lib\site-packages\tensorboard\compat\tensorflow_stub\dtypes.py:542: FutureWarning: Passing (type, 1) or '1type' as a synonym of type is deprecated; in a future version of numpy, it will be understood as (type, (1,)) / '(1,)type'.
_np_quint8 = np.dtype([("quint8", np.uint8, 1)])
C:\Python37\lib\site-packages\tensorboard\compat\tensorflow_stub\dtypes.py:543: FutureWarning: Passing (type, 1) or '1type' as a synonym of type is deprecated; in a future version of numpy, it will be understood as (type, (1,)) / '(1,)type'.
_np_qint16 = np.dtype([("qint16", np.int16, 1)])
C:\Python37\lib\site-packages\tensorboard\compat\tensorflow_stub\dtypes.py:544: FutureWarning: Passing (type, 1) or '1type' as a synonym of type is deprecated; in a future version of numpy, it will be understood as (type, (1,)) / '(1,)type'.
_np_quint16 = np.dtype([("quint16", np.uint16, 1)])
C:\Python37\lib\site-packages\tensorboard\compat\tensorflow_stub\dtypes.py:545: FutureWarning: Passing (type, 1) or '1type' as a synonym of type is deprecated; in a future version of numpy, it will be understood as (type, (1,)) / '(1,)type'.
_np_qint32 = np.dtype([("qint32", np.int32, 1)])
C:\Python37\lib\site-packages\tensorboard\compat\tensorflow_stub\dtypes.py:550: FutureWarning: Passing (type, 1) or '1type' as a synonym of type is deprecated; in a future version of numpy, it will be understood as (type, (1,)) / '(1,)type'.
np_resource = np.dtype([("resource", np.ubyte, 1)])
WARNING:tensorflow:From C:\Python37\lib\site-packages\tensorflow\python\util\deprecation_wrapper.py:119: The name tf.Session is deprecated. Please use tf.compat.v1.Session instead.
2019-09-20 06:13:39.637421: I tensorflow/core/platform/cpu_feature_guard.cc:142] Your CPU supports instructions that this TensorFlow binary was not compiled to use: AVX2
WARNING:tensorflow:From C:\Python37\lib\site-packages\tensorflow\python\util\deprecation.py:320: Print (from tensorflow.python.ops.logging_ops) is deprecated and will be removed after 2018-08-20.
Instructions for updating:
Use tf.print instead of tf.Print. Note that tf.print returns a no-output operator that directly prints the output. Outside of defuns or eager mode, this operator will not be executed unless it is directly specified in session.run or used as a control dependency for other operators. This is only a concern in graph mode. Below is an example of how to ensure tf.print executes in graph mode:
```python
sess = tf.compat.v1.Session()
with sess.as_default():
tensor = tf.range(10)
print_op = tf.print(tensor)
with tf.control_dependencies([print_op]):
out = tf.add(tensor, tensor)
sess.run(out)
```
Additionally, to use tf.print in python 2.7, users must make sure to import
the following:
`from __future__ import print_function`
TensorFlow check: [Passed]
[1] "Computing CCA using Seurat."
|
| | 0%
|
|=================================== | 50%
|
|======================================================================| 100%
|
| | 0%
|
|=================================== | 50%
|
|======================================================================| 100%
TensorFlow check: [Passed]
WARNING:tensorflow:From C:\Python37\lib\site-packages\tensorflow\python\util\deprecation_wrapper.py:119: The name tf.ConfigProto is deprecated. Please use tf.compat.v1.ConfigProto instead.
WARNING:tensorflow:From C:\Python37\lib\site-packages\tensorflow\python\util\deprecation_wrapper.py:119: The name tf.GPUOptions is deprecated. Please use tf.compat.v1.GPUOptions instead.
[1] "============== Step 1/3: Encoder training ==============="
[1] "Graph construction"
WARNING:tensorflow:From C:\Python37\lib\site-packages\tensorflow\python\util\deprecation_wrapper.py:119: The name tf.placeholder is deprecated. Please use tf.compat.v1.placeholder instead.
WARNING:tensorflow:From C:\Python37\lib\site-packages\tensorflow\python\util\deprecation.py:320: DatasetV1.make_initializable_iterator (from tensorflow.python.data.ops.dataset_ops) is deprecated and will be removed in a future version.
Instructions for updating:
Use `for ... in dataset:` to iterate over a dataset. If using `tf.estimator`, return the `Dataset` object directly from your input function. As a last resort, you can use `tf.compat.v1.data.make_initializable_iterator(dataset)`.
WARNING:tensorflow:From C:\Python37\lib\site-packages\tensorflow\python\util\deprecation_wrapper.py:119: The name tf.variable_scope is deprecated. Please use tf.compat.v1.variable_scope instead.
WARNING:tensorflow:
The TensorFlow contrib module will not be included in TensorFlow 2.0.
For more information, please see:
* https://github.com/tensorflow/community/blob/master/rfcs/20180907-contrib-sunset.md
* https://github.com/tensorflow/addons
* https://github.com/tensorflow/io (for I/O related ops)
If you depend on functionality not listed there, please file an issue.
WARNING:tensorflow:From C:\Python37\lib\site-packages\tensorflow\python\util\deprecation.py:320: dense (from tensorflow.python.layers.core) is deprecated and will be removed in a future version.
Instructions for updating:
Use keras.layers.dense instead.
WARNING:tensorflow:Entity > could not be transformed and will be executed as-is. Please report this to the AutgoGraph team. When filing the bug, set the verbosity to 10 (on Linux, `export AUTOGRAPH_VERBOSITY=10`) and attach the full output. Cause: converting >: AssertionError: Bad argument number for Name: 3, expecting 4
WARNING:tensorflow:From C:\Python37\lib\site-packages\tensorflow\python\util\deprecation.py:320: batch_normalization (from tensorflow.python.layers.normalization) is deprecated and will be removed in a future version.
Instructions for updating:
Use keras.layers.BatchNormalization instead. In particular, `tf.control_dependencies(tf.GraphKeys.UPDATE_OPS)` should not be used (consult the `tf.keras.layers.batch_normalization` documentation).
WARNING:tensorflow:Entity > could not be transformed and will be executed as-is. Please report this to the AutgoGraph team. When filing the bug, set the verbosity to 10 (on Linux, `export AUTOGRAPH_VERBOSITY=10`) and attach the full output. Cause: converting >: AssertionError: Bad argument number for Name: 3, expecting 4
WARNING:tensorflow:From C:\Python37\lib\site-packages\tensorflow\python\util\deprecation.py:320: dropout (from tensorflow.python.layers.core) is deprecated and will be removed in a future version.
Instructions for updating:
Use keras.layers.dropout instead.
WARNING:tensorflow:Entity > could not be transformed and will be executed as-is. Please report this to the AutgoGraph team. When filing the bug, set the verbosity to 10 (on Linux, `export AUTOGRAPH_VERBOSITY=10`) and attach the full output. Cause: converting >: AssertionError: Bad argument number for Name: 3, expecting 4
WARNING:tensorflow:Entity > could not be transformed and will be executed as-is. Please report this to the AutgoGraph team. When filing the bug, set the verbosity to 10 (on Linux, `export AUTOGRAPH_VERBOSITY=10`) and attach the full output. Cause: converting >: AssertionError: Bad argument number for Name: 3, expecting 4
WARNING:tensorflow:Entity > could not be transformed and will be executed as-is. Please report this to the AutgoGraph team. When filing the bug, set the verbosity to 10 (on Linux, `export AUTOGRAPH_VERBOSITY=10`) and attach the full output. Cause: converting >: AssertionError: Bad argument number for Name: 3, expecting 4
WARNING:tensorflow:Entity > could not be transformed and will be executed as-is. Please report this to the AutgoGraph team. When filing the bug, set the verbosity to 10 (on Linux, `export AUTOGRAPH_VERBOSITY=10`) and attach the full output. Cause: converting >: AssertionError: Bad argument number for Name: 3, expecting 4
WARNING:tensorflow:Entity > could not be transformed and will be executed as-is. Please report this to the AutgoGraph team. When filing the bug, set the verbosity to 10 (on Linux, `export AUTOGRAPH_VERBOSITY=10`) and attach the full output. Cause: converting >: AssertionError: Bad argument number for Name: 3, expecting 4
WARNING:tensorflow:Entity > could not be transformed and will be executed as-is. Please report this to the AutgoGraph team. When filing the bug, set the verbosity to 10 (on Linux, `export AUTOGRAPH_VERBOSITY=10`) and attach the full output. Cause: converting >: AssertionError: Bad argument number for Name: 3, expecting 4
WARNING:tensorflow:Entity > could not be transformed and will be executed as-is. Please report this to the AutgoGraph team. When filing the bug, set the verbosity to 10 (on Linux, `export AUTOGRAPH_VERBOSITY=10`) and attach the full output. Cause: converting >: AssertionError: Bad argument number for Name: 3, expecting 4
WARNING:tensorflow:Entity > could not be transformed and will be executed as-is. Please report this to the AutgoGraph team. When filing the bug, set the verbosity to 10 (on Linux, `export AUTOGRAPH_VERBOSITY=10`) and attach the full output. Cause: converting >: AssertionError: Bad argument number for Name: 3, expecting 4
WARNING:tensorflow:From C:\Python37\lib\site-packages\tensorflow\python\ops\init_ops.py:1251: calling VarianceScaling.__init__ (from tensorflow.python.ops.init_ops) with dtype is deprecated and will be removed in a future version.
Instructions for updating:
Call initializer instance with the dtype argument instead of passing it to the constructor
WARNING:tensorflow:Entity > could not be transformed and will be executed as-is. Please report this to the AutgoGraph team. When filing the bug, set the verbosity to 10 (on Linux, `export AUTOGRAPH_VERBOSITY=10`) and attach the full output. Cause: converting >: AssertionError: Bad argument number for Name: 3, expecting 4
WARNING:tensorflow:Entity > could not be transformed and will be executed as-is. Please report this to the AutgoGraph team. When filing the bug, set the verbosity to 10 (on Linux, `export AUTOGRAPH_VERBOSITY=10`) and attach the full output. Cause: converting >: AssertionError: Bad argument number for Name: 3, expecting 4
WARNING:tensorflow:Entity > could not be transformed and will be executed as-is. Please report this to the AutgoGraph team. When filing the bug, set the verbosity to 10 (on Linux, `export AUTOGRAPH_VERBOSITY=10`) and attach the full output. Cause: converting >: AssertionError: Bad argument number for Name: 3, expecting 4
WARNING:tensorflow:Entity > could not be transformed and will be executed as-is. Please report this to the AutgoGraph team. When filing the bug, set the verbosity to 10 (on Linux, `export AUTOGRAPH_VERBOSITY=10`) and attach the full output. Cause: converting >: AssertionError: Bad argument number for Name: 3, expecting 4
WARNING:tensorflow:Entity > could not be transformed and will be executed as-is. Please report this to the AutgoGraph team. When filing the bug, set the verbosity to 10 (on Linux, `export AUTOGRAPH_VERBOSITY=10`) and attach the full output. Cause: converting >: AssertionError: Bad argument number for Name: 3, expecting 4
WARNING:tensorflow:Entity > could not be transformed and will be executed as-is. Please report this to the AutgoGraph team. When filing the bug, set the verbosity to 10 (on Linux, `export AUTOGRAPH_VERBOSITY=10`) and attach the full output. Cause: converting >: AssertionError: Bad argument number for Name: 3, expecting 4
WARNING:tensorflow:Entity > could not be transformed and will be executed as-is. Please report this to the AutgoGraph team. When filing the bug, set the verbosity to 10 (on Linux, `export AUTOGRAPH_VERBOSITY=10`) and attach the full output. Cause: converting >: AssertionError: Bad argument number for Name: 3, expecting 4
WARNING:tensorflow:Entity > could not be transformed and will be executed as-is. Please report this to the AutgoGraph team. When filing the bug, set the verbosity to 10 (on Linux, `export AUTOGRAPH_VERBOSITY=10`) and attach the full output. Cause: converting >: AssertionError: Bad argument number for Name: 3, expecting 4
WARNING:tensorflow:Entity > could not be transformed and will be executed as-is. Please report this to the AutgoGraph team. When filing the bug, set the verbosity to 10 (on Linux, `export AUTOGRAPH_VERBOSITY=10`) and attach the full output. Cause: converting >: AssertionError: Bad argument number for Name: 3, expecting 4
WARNING:tensorflow:Entity > could not be transformed and will be executed as-is. Please report this to the AutgoGraph team. When filing the bug, set the verbosity to 10 (on Linux, `export AUTOGRAPH_VERBOSITY=10`) and attach the full output. Cause: converting >: AssertionError: Bad argument number for Name: 3, expecting 4
WARNING:tensorflow:Entity > could not be transformed and will be executed as-is. Please report this to the AutgoGraph team. When filing the bug, set the verbosity to 10 (on Linux, `export AUTOGRAPH_VERBOSITY=10`) and attach the full output. Cause: converting >: AssertionError: Bad argument number for Name: 3, expecting 4
WARNING:tensorflow:Entity > could not be transformed and will be executed as-is. Please report this to the AutgoGraph team. When filing the bug, set the verbosity to 10 (on Linux, `export AUTOGRAPH_VERBOSITY=10`) and attach the full output. Cause: converting >: AssertionError: Bad argument number for Name: 3, expecting 4
WARNING:tensorflow:Entity > could not be transformed and will be executed as-is. Please report this to the AutgoGraph team. When filing the bug, set the verbosity to 10 (on Linux, `export AUTOGRAPH_VERBOSITY=10`) and attach the full output. Cause: converting >: AssertionError: Bad argument number for Name: 3, expecting 4
WARNING:tensorflow:Entity > could not be transformed and will be executed as-is. Please report this to the AutgoGraph team. When filing the bug, set the verbosity to 10 (on Linux, `export AUTOGRAPH_VERBOSITY=10`) and attach the full output. Cause: converting >: AssertionError: Bad argument number for Name: 3, expecting 4
WARNING:tensorflow:Entity > could not be transformed and will be executed as-is. Please report this to the AutgoGraph team. When filing the bug, set the verbosity to 10 (on Linux, `export AUTOGRAPH_VERBOSITY=10`) and attach the full output. Cause: converting >: AssertionError: Bad argument number for Name: 3, expecting 4
WARNING:tensorflow:Entity > could not be transformed and will be executed as-is. Please report this to the AutgoGraph team. When filing the bug, set the verbosity to 10 (on Linux, `export AUTOGRAPH_VERBOSITY=10`) and attach the full output. Cause: converting >: AssertionError: Bad argument number for Name: 3, expecting 4
WARNING:tensorflow:Entity > could not be transformed and will be executed as-is. Please report this to the AutgoGraph team. When filing the bug, set the verbosity to 10 (on Linux, `export AUTOGRAPH_VERBOSITY=10`) and attach the full output. Cause: converting >: AssertionError: Bad argument number for Name: 3, expecting 4
WARNING:tensorflow:Entity > could not be transformed and will be executed as-is. Please report this to the AutgoGraph team. When filing the bug, set the verbosity to 10 (on Linux, `export AUTOGRAPH_VERBOSITY=10`) and attach the full output. Cause: converting >: AssertionError: Bad argument number for Name: 3, expecting 4
WARNING:tensorflow:Entity > could not be transformed and will be executed as-is. Please report this to the AutgoGraph team. When filing the bug, set the verbosity to 10 (on Linux, `export AUTOGRAPH_VERBOSITY=10`) and attach the full output. Cause: converting >: AssertionError: Bad argument number for Name: 3, expecting 4
WARNING:tensorflow:Entity > could not be transformed and will be executed as-is. Please report this to the AutgoGraph team. When filing the bug, set the verbosity to 10 (on Linux, `export AUTOGRAPH_VERBOSITY=10`) and attach the full output. Cause: converting >: AssertionError: Bad argument number for Name: 3, expecting 4
WARNING:tensorflow:Entity > could not be transformed and will be executed as-is. Please report this to the AutgoGraph team. When filing the bug, set the verbosity to 10 (on Linux, `export AUTOGRAPH_VERBOSITY=10`) and attach the full output. Cause: converting >: AssertionError: Bad argument number for Name: 3, expecting 4
[1] "Adding source walker loss"
WARNING:tensorflow:From C:/Users/biocbuild/bbs-3.10-bioc/R/library/reticulate/python\rpytools\call.py:13: add_dispatch_support..wrapper (from tensorflow.python.ops.array_ops) is deprecated and will be removed in a future version.
Instructions for updating:
Use tf.where in 2.0, which has the same broadcast rule as np.where
WARNING:tensorflow:From C:\Python37\lib\site-packages\tensorflow\python\util\deprecation_wrapper.py:119: The name tf.losses.softmax_cross_entropy is deprecated. Please use tf.compat.v1.losses.softmax_cross_entropy instead.
WARNING:tensorflow:From C:\Python37\lib\site-packages\tensorflow\python\util\deprecation_wrapper.py:119: The name tf.summary.histogram is deprecated. Please use tf.compat.v1.summary.histogram instead.
WARNING:tensorflow:From C:\Python37\lib\site-packages\tensorflow\python\util\deprecation_wrapper.py:119: The name tf.summary.scalar is deprecated. Please use tf.compat.v1.summary.scalar instead.
[1] "Adding target walker loss"
WARNING:tensorflow:From C:\Python37\lib\site-packages\tensorflow\python\util\deprecation_wrapper.py:119: The name tf.train.get_or_create_global_step is deprecated. Please use tf.compat.v1.train.get_or_create_global_step instead.
WARNING:tensorflow:From C:\Python37\lib\site-packages\tensorflow\python\util\deprecation_wrapper.py:119: The name tf.train.exponential_decay is deprecated. Please use tf.compat.v1.train.exponential_decay instead.
WARNING:tensorflow:From C:\Python37\lib\site-packages\tensorflow\python\util\deprecation_wrapper.py:119: The name tf.losses.get_total_loss is deprecated. Please use tf.compat.v1.losses.get_total_loss instead.
WARNING:tensorflow:From C:\Python37\lib\site-packages\tensorflow\python\util\deprecation_wrapper.py:119: The name tf.train.AdamOptimizer is deprecated. Please use tf.compat.v1.train.AdamOptimizer instead.
WARNING:tensorflow:From C:\Python37\lib\site-packages\tensorflow\python\util\deprecation_wrapper.py:119: The name tf.summary.merge_all is deprecated. Please use tf.compat.v1.summary.merge_all instead.
WARNING:tensorflow:From C:\Python37\lib\site-packages\tensorflow\python\util\deprecation_wrapper.py:119: The name tf.logging.set_verbosity is deprecated. Please use tf.compat.v1.logging.set_verbosity instead.
WARNING:tensorflow:From C:\Python37\lib\site-packages\tensorflow\python\util\deprecation_wrapper.py:119: The name tf.logging.FATAL is deprecated. Please use tf.compat.v1.logging.FATAL instead.
[1] "Done random initialization"
[1] "Step: 1 Loss: 61.1994"
[1] "Step: 100 Loss: 41.542"
[1] "Step: 200 Loss: 38.5748"
[1] "Step: 300 Loss: 31.1811"
[1] "Step: 400 Loss: 33.5432"
[1] "Step: 500 Loss: 31.7264"
[1] "============== Alignment Complete =============="
-- 1. Failure: Alignment produces consistent results (@test-scalign.R#96) -----
`class_acc` is not more than 0.5. Difference: -0.0101
== testthat results ===========================================================
[ OK: 2 | SKIPPED: 0 | WARNINGS: 1 | FAILED: 1 ]
1. Failure: Alignment produces consistent results (@test-scalign.R#96)
Error: testthat unit tests failed
Execution halted
|