Back to Multiple platform build/check report for BioC 3.10 |
|
This page was generated on 2020-04-15 12:08:25 -0400 (Wed, 15 Apr 2020).
Package 1548/1823 | Hostname | OS / Arch | INSTALL | BUILD | CHECK | BUILD BIN | ||||||
scsR 1.22.0 Andrea Franceschini
| malbec1 | Linux (Ubuntu 18.04.4 LTS) / x86_64 | OK | OK | [ OK ] | |||||||
tokay1 | Windows Server 2012 R2 Standard / x64 | OK | OK | OK | OK | |||||||
merida1 | OS X 10.11.6 El Capitan / x86_64 | OK | OK | OK | OK |
Package: scsR |
Version: 1.22.0 |
Command: /home/biocbuild/bbs-3.10-bioc/R/bin/R CMD check --install=check:scsR.install-out.txt --library=/home/biocbuild/bbs-3.10-bioc/R/library --no-vignettes --timings scsR_1.22.0.tar.gz |
StartedAt: 2020-04-15 02:04:00 -0400 (Wed, 15 Apr 2020) |
EndedAt: 2020-04-15 02:06:25 -0400 (Wed, 15 Apr 2020) |
EllapsedTime: 145.3 seconds |
RetCode: 0 |
Status: OK |
CheckDir: scsR.Rcheck |
Warnings: 0 |
############################################################################## ############################################################################## ### ### Running command: ### ### /home/biocbuild/bbs-3.10-bioc/R/bin/R CMD check --install=check:scsR.install-out.txt --library=/home/biocbuild/bbs-3.10-bioc/R/library --no-vignettes --timings scsR_1.22.0.tar.gz ### ############################################################################## ############################################################################## * using log directory ‘/home/biocbuild/bbs-3.10-bioc/meat/scsR.Rcheck’ * using R version 3.6.3 (2020-02-29) * using platform: x86_64-pc-linux-gnu (64-bit) * using session charset: UTF-8 * using option ‘--no-vignettes’ * checking for file ‘scsR/DESCRIPTION’ ... OK * checking extension type ... Package * this is package ‘scsR’ version ‘1.22.0’ * checking package namespace information ... OK * checking package dependencies ... NOTE Depends: includes the non-default packages: 'STRINGdb', 'BiocGenerics', 'Biostrings', 'IRanges', 'plyr', 'tcltk' Adding so many packages to the search path is excessive and importing selectively is preferable. * checking if this is a source package ... OK * checking if there is a namespace ... OK * checking for hidden files and directories ... OK * checking for portable file names ... OK * checking for sufficient/correct file permissions ... OK * checking whether package ‘scsR’ can be installed ... OK * checking installed package size ... OK * checking package directory ... OK * checking ‘build’ directory ... OK * checking DESCRIPTION meta-information ... OK * checking top-level files ... OK * checking for left-over files ... OK * checking index information ... OK * checking package subdirectories ... OK * checking R files for non-ASCII characters ... OK * checking R files for syntax errors ... OK * checking whether the package can be loaded ... OK * checking whether the package can be loaded with stated dependencies ... OK * checking whether the package can be unloaded cleanly ... OK * checking whether the namespace can be loaded with stated dependencies ... OK * checking whether the namespace can be unloaded cleanly ... OK * checking dependencies in R code ... OK * checking S3 generic/method consistency ... OK * checking replacement functions ... OK * checking foreign function calls ... OK * checking R code for possible problems ... NOTE OPIrsaScore : <anonymous>: no visible global function definition for ‘phyper’ enrichment_geneSet: no visible global function definition for ‘phyper’ enrichment_heatmap: no visible global function definition for ‘heatmap.2’ get_seed_oligos_df: no visible global function definition for ‘txtProgressBar’ get_seed_oligos_df: no visible global function definition for ‘setTxtProgressBar’ get_seed_oligos_df: no visible global function definition for ‘phyper’ get_seed_oligos_df: no visible global function definition for ‘ks.test’ plot_seed_score_sd: no visible global function definition for ‘lm’ plot_seed_score_sd: no visible global function definition for ‘cor.test’ seed_correction: no visible global function definition for ‘txtProgressBar’ seed_correction: no visible global function definition for ‘setTxtProgressBar’ seed_correction_pooled: no visible global function definition for ‘txtProgressBar’ seed_correction_pooled: no visible global function definition for ‘setTxtProgressBar’ seed_removal: no visible global function definition for ‘txtProgressBar’ seed_removal: no visible global function definition for ‘setTxtProgressBar’ seeds_analysis : <anonymous>: no visible global function definition for ‘ks.test’ seeds_analysis: no visible global function definition for ‘phyper’ transcribe_seqs: no visible global function definition for ‘txtProgressBar’ transcribe_seqs: no visible global function definition for ‘setTxtProgressBar’ Undefined global functions or variables: cor.test heatmap.2 ks.test lm phyper setTxtProgressBar txtProgressBar Consider adding importFrom("stats", "cor.test", "ks.test", "lm", "phyper") importFrom("utils", "setTxtProgressBar", "txtProgressBar") to your NAMESPACE file. * checking Rd files ... OK * checking Rd metadata ... OK * checking Rd cross-references ... OK * checking for missing documentation entries ... OK * checking for code/documentation mismatches ... OK * checking Rd \usage sections ... OK * checking Rd contents ... OK * checking for unstated dependencies in examples ... OK * checking contents of ‘data’ directory ... OK * checking data for non-ASCII characters ... OK * checking data for ASCII and uncompressed saves ... OK * checking files in ‘vignettes’ ... OK * checking examples ... OK Examples with CPU or elapsed time > 5s user system elapsed compare_sorted_geneSets 17.632 0.764 18.51 * checking for unstated dependencies in vignettes ... OK * checking package vignettes in ‘inst/doc’ ... OK * checking running R code from vignettes ... SKIPPED * checking re-building of vignette outputs ... SKIPPED * checking PDF version of manual ... OK * DONE Status: 2 NOTEs See ‘/home/biocbuild/bbs-3.10-bioc/meat/scsR.Rcheck/00check.log’ for details.
scsR.Rcheck/00install.out
############################################################################## ############################################################################## ### ### Running command: ### ### /home/biocbuild/bbs-3.10-bioc/R/bin/R CMD INSTALL scsR ### ############################################################################## ############################################################################## * installing to library ‘/home/biocbuild/bbs-3.10-bioc/R/library’ * installing *source* package ‘scsR’ ... ** using staged installation ** R ** data ** byte-compile and prepare package for lazy loading ** help *** installing help indices ** building package indices ** installing vignettes ** testing if installed package can be loaded from temporary location ** testing if installed package can be loaded from final location ** testing if installed package keeps a record of temporary installation path * DONE (scsR)
scsR.Rcheck/scsR-Ex.timings
name | user | system | elapsed | |
add_rank_col | 0.640 | 0.032 | 0.691 | |
add_seed | 0.292 | 0.004 | 0.300 | |
benchmark_shared_hits | 1.820 | 0.052 | 1.887 | |
bydf | 0.424 | 0.044 | 0.460 | |
check_consistency | 1.336 | 0.012 | 1.348 | |
compare_sorted_geneSets | 17.632 | 0.764 | 18.510 | |
create_sd_matrix | 0.320 | 0.028 | 0.346 | |
delColDf | 0.280 | 0.000 | 0.279 | |
delete_undefined_rows | 0.500 | 0.004 | 0.505 | |
enrichment_geneSet | 0.624 | 0.008 | 0.637 | |
enrichment_heatmap | 0.532 | 0.020 | 0.552 | |
get_sd_quant | 0.956 | 0.168 | 1.105 | |
get_seed_oligos_df | 0.740 | 0.120 | 0.849 | |
intersectAll | 0.000 | 0.000 | 0.001 | |
launch_RSA | 0.480 | 0.024 | 0.500 | |
median_replicates | 0.680 | 0.016 | 0.696 | |
plot_screen_hits | 1.740 | 0.152 | 1.935 | |
plot_seeds_methods | 1.908 | 0.360 | 2.251 | |
randomSortOnVal | 0.268 | 0.000 | 0.269 | |
randomizeInner | 0.248 | 0.004 | 0.250 | |
removeSharedOffTargets | 0.584 | 0.008 | 0.591 | |
renameColDf | 0.288 | 0.000 | 0.292 | |
replace_non_null_elements | 0.312 | 0.004 | 0.322 | |
seed_correction | 0.592 | 0.052 | 0.644 | |
seed_correction_pooled | 0.488 | 0.080 | 0.563 | |
seed_removal | 0.420 | 0.016 | 0.438 | |
seeds_analysis | 1.244 | 0.124 | 1.383 | |
sortInner | 0.284 | 0.000 | 0.289 | |
split_df | 0.216 | 0.004 | 0.221 | |
transcribe_seqs | 0.304 | 0.024 | 0.333 | |