Back to Multiple platform build/check report for BioC 3.10 |
|
This page was generated on 2020-04-15 12:39:43 -0400 (Wed, 15 Apr 2020).
Package 1548/1823 | Hostname | OS / Arch | INSTALL | BUILD | CHECK | BUILD BIN | ||||||
scsR 1.22.0 Andrea Franceschini
| malbec1 | Linux (Ubuntu 18.04.4 LTS) / x86_64 | OK | OK | OK | |||||||
tokay1 | Windows Server 2012 R2 Standard / x64 | OK | OK | OK | OK | |||||||
merida1 | OS X 10.11.6 El Capitan / x86_64 | OK | OK | [ OK ] | OK |
Package: scsR |
Version: 1.22.0 |
Command: /Library/Frameworks/R.framework/Versions/Current/Resources/bin/R CMD check --install=check:scsR.install-out.txt --library=/Library/Frameworks/R.framework/Versions/Current/Resources/library --no-vignettes --timings scsR_1.22.0.tar.gz |
StartedAt: 2020-04-15 05:32:50 -0400 (Wed, 15 Apr 2020) |
EndedAt: 2020-04-15 05:35:59 -0400 (Wed, 15 Apr 2020) |
EllapsedTime: 189.0 seconds |
RetCode: 0 |
Status: OK |
CheckDir: scsR.Rcheck |
Warnings: 0 |
############################################################################## ############################################################################## ### ### Running command: ### ### /Library/Frameworks/R.framework/Versions/Current/Resources/bin/R CMD check --install=check:scsR.install-out.txt --library=/Library/Frameworks/R.framework/Versions/Current/Resources/library --no-vignettes --timings scsR_1.22.0.tar.gz ### ############################################################################## ############################################################################## * using log directory ‘/Users/biocbuild/bbs-3.10-bioc/meat/scsR.Rcheck’ * using R version 3.6.3 (2020-02-29) * using platform: x86_64-apple-darwin15.6.0 (64-bit) * using session charset: UTF-8 * using option ‘--no-vignettes’ * checking for file ‘scsR/DESCRIPTION’ ... OK * checking extension type ... Package * this is package ‘scsR’ version ‘1.22.0’ * checking package namespace information ... OK * checking package dependencies ... NOTE Depends: includes the non-default packages: 'STRINGdb', 'BiocGenerics', 'Biostrings', 'IRanges', 'plyr', 'tcltk' Adding so many packages to the search path is excessive and importing selectively is preferable. * checking if this is a source package ... OK * checking if there is a namespace ... OK * checking for hidden files and directories ... OK * checking for portable file names ... OK * checking for sufficient/correct file permissions ... OK * checking whether package ‘scsR’ can be installed ... OK * checking installed package size ... OK * checking package directory ... OK * checking ‘build’ directory ... OK * checking DESCRIPTION meta-information ... OK * checking top-level files ... OK * checking for left-over files ... OK * checking index information ... OK * checking package subdirectories ... OK * checking R files for non-ASCII characters ... OK * checking R files for syntax errors ... OK * checking whether the package can be loaded ... OK * checking whether the package can be loaded with stated dependencies ... OK * checking whether the package can be unloaded cleanly ... OK * checking whether the namespace can be loaded with stated dependencies ... OK * checking whether the namespace can be unloaded cleanly ... OK * checking dependencies in R code ... OK * checking S3 generic/method consistency ... OK * checking replacement functions ... OK * checking foreign function calls ... OK * checking R code for possible problems ... NOTE OPIrsaScore : <anonymous>: no visible global function definition for ‘phyper’ enrichment_geneSet: no visible global function definition for ‘phyper’ enrichment_heatmap: no visible global function definition for ‘heatmap.2’ get_seed_oligos_df: no visible global function definition for ‘txtProgressBar’ get_seed_oligos_df: no visible global function definition for ‘setTxtProgressBar’ get_seed_oligos_df: no visible global function definition for ‘phyper’ get_seed_oligos_df: no visible global function definition for ‘ks.test’ plot_seed_score_sd: no visible global function definition for ‘lm’ plot_seed_score_sd: no visible global function definition for ‘cor.test’ seed_correction: no visible global function definition for ‘txtProgressBar’ seed_correction: no visible global function definition for ‘setTxtProgressBar’ seed_correction_pooled: no visible global function definition for ‘txtProgressBar’ seed_correction_pooled: no visible global function definition for ‘setTxtProgressBar’ seed_removal: no visible global function definition for ‘txtProgressBar’ seed_removal: no visible global function definition for ‘setTxtProgressBar’ seeds_analysis : <anonymous>: no visible global function definition for ‘ks.test’ seeds_analysis: no visible global function definition for ‘phyper’ transcribe_seqs: no visible global function definition for ‘txtProgressBar’ transcribe_seqs: no visible global function definition for ‘setTxtProgressBar’ Undefined global functions or variables: cor.test heatmap.2 ks.test lm phyper setTxtProgressBar txtProgressBar Consider adding importFrom("stats", "cor.test", "ks.test", "lm", "phyper") importFrom("utils", "setTxtProgressBar", "txtProgressBar") to your NAMESPACE file. * checking Rd files ... OK * checking Rd metadata ... OK * checking Rd cross-references ... OK * checking for missing documentation entries ... OK * checking for code/documentation mismatches ... OK * checking Rd \usage sections ... OK * checking Rd contents ... OK * checking for unstated dependencies in examples ... OK * checking contents of ‘data’ directory ... OK * checking data for non-ASCII characters ... OK * checking data for ASCII and uncompressed saves ... OK * checking sizes of PDF files under ‘inst/doc’ ... OK * checking files in ‘vignettes’ ... OK * checking examples ... OK Examples with CPU or elapsed time > 5s user system elapsed compare_sorted_geneSets 22.107 1.859 23.984 * checking for unstated dependencies in vignettes ... OK * checking package vignettes in ‘inst/doc’ ... OK * checking running R code from vignettes ... SKIPPED * checking re-building of vignette outputs ... SKIPPED * checking PDF version of manual ... OK * DONE Status: 2 NOTEs See ‘/Users/biocbuild/bbs-3.10-bioc/meat/scsR.Rcheck/00check.log’ for details.
scsR.Rcheck/00install.out
############################################################################## ############################################################################## ### ### Running command: ### ### /Library/Frameworks/R.framework/Versions/Current/Resources/bin/R CMD INSTALL scsR ### ############################################################################## ############################################################################## * installing to library ‘/Library/Frameworks/R.framework/Versions/3.6/Resources/library’ * installing *source* package ‘scsR’ ... ** using staged installation ** R ** data ** byte-compile and prepare package for lazy loading ** help *** installing help indices ** building package indices ** installing vignettes ** testing if installed package can be loaded from temporary location ** testing if installed package can be loaded from final location ** testing if installed package keeps a record of temporary installation path * DONE (scsR)
scsR.Rcheck/scsR-Ex.timings
name | user | system | elapsed | |
add_rank_col | 0.728 | 0.130 | 0.850 | |
add_seed | 0.232 | 0.014 | 0.249 | |
benchmark_shared_hits | 2.205 | 0.244 | 2.449 | |
bydf | 0.493 | 0.135 | 0.615 | |
check_consistency | 1.574 | 0.078 | 1.675 | |
compare_sorted_geneSets | 22.107 | 1.859 | 23.984 | |
create_sd_matrix | 0.411 | 0.063 | 0.474 | |
delColDf | 0.220 | 0.011 | 0.232 | |
delete_undefined_rows | 0.413 | 0.020 | 0.438 | |
enrichment_geneSet | 0.450 | 0.027 | 0.481 | |
enrichment_heatmap | 0.361 | 0.031 | 0.394 | |
get_sd_quant | 1.325 | 0.482 | 1.754 | |
get_seed_oligos_df | 1.115 | 0.287 | 1.374 | |
intersectAll | 0.002 | 0.001 | 0.002 | |
launch_RSA | 0.577 | 0.038 | 0.617 | |
median_replicates | 0.747 | 0.071 | 0.823 | |
plot_screen_hits | 2.372 | 0.408 | 2.741 | |
plot_seeds_methods | 2.956 | 0.998 | 3.852 | |
randomSortOnVal | 0.187 | 0.008 | 0.195 | |
randomizeInner | 0.232 | 0.011 | 0.244 | |
removeSharedOffTargets | 0.748 | 0.034 | 0.782 | |
renameColDf | 0.221 | 0.010 | 0.233 | |
replace_non_null_elements | 0.230 | 0.011 | 0.243 | |
seed_correction | 0.697 | 0.175 | 0.860 | |
seed_correction_pooled | 0.718 | 0.190 | 0.888 | |
seed_removal | 0.500 | 0.067 | 0.562 | |
seeds_analysis | 1.986 | 0.327 | 2.287 | |
sortInner | 0.314 | 0.017 | 0.335 | |
split_df | 0.273 | 0.012 | 0.284 | |
transcribe_seqs | 0.334 | 0.026 | 0.360 | |