Back to Multiple platform build/check report for BioC 3.10 |
|
This page was generated on 2020-04-15 12:12:17 -0400 (Wed, 15 Apr 2020).
Package 1645/1823 | Hostname | OS / Arch | INSTALL | BUILD | CHECK | BUILD BIN | ||||||
splatter 1.10.1 Luke Zappia
| malbec1 | Linux (Ubuntu 18.04.4 LTS) / x86_64 | OK | OK | [ OK ] | |||||||
tokay1 | Windows Server 2012 R2 Standard / x64 | OK | OK | OK | OK | |||||||
merida1 | OS X 10.11.6 El Capitan / x86_64 | OK | OK | OK | OK |
Package: splatter |
Version: 1.10.1 |
Command: /home/biocbuild/bbs-3.10-bioc/R/bin/R CMD check --install=check:splatter.install-out.txt --library=/home/biocbuild/bbs-3.10-bioc/R/library --no-vignettes --timings splatter_1.10.1.tar.gz |
StartedAt: 2020-04-15 04:32:17 -0400 (Wed, 15 Apr 2020) |
EndedAt: 2020-04-15 04:40:23 -0400 (Wed, 15 Apr 2020) |
EllapsedTime: 485.5 seconds |
RetCode: 0 |
Status: OK |
CheckDir: splatter.Rcheck |
Warnings: 0 |
############################################################################## ############################################################################## ### ### Running command: ### ### /home/biocbuild/bbs-3.10-bioc/R/bin/R CMD check --install=check:splatter.install-out.txt --library=/home/biocbuild/bbs-3.10-bioc/R/library --no-vignettes --timings splatter_1.10.1.tar.gz ### ############################################################################## ############################################################################## * using log directory ‘/home/biocbuild/bbs-3.10-bioc/meat/splatter.Rcheck’ * using R version 3.6.3 (2020-02-29) * using platform: x86_64-pc-linux-gnu (64-bit) * using session charset: UTF-8 * using option ‘--no-vignettes’ * checking for file ‘splatter/DESCRIPTION’ ... OK * checking extension type ... Package * this is package ‘splatter’ version ‘1.10.1’ * package encoding: UTF-8 * checking package namespace information ... OK * checking package dependencies ... OK * checking if this is a source package ... OK * checking if there is a namespace ... OK * checking for hidden files and directories ... OK * checking for portable file names ... OK * checking for sufficient/correct file permissions ... OK * checking whether package ‘splatter’ can be installed ... OK * checking installed package size ... OK * checking package directory ... OK * checking ‘build’ directory ... OK * checking DESCRIPTION meta-information ... OK * checking top-level files ... OK * checking for left-over files ... OK * checking index information ... OK * checking package subdirectories ... OK * checking R files for non-ASCII characters ... OK * checking R files for syntax errors ... OK * checking whether the package can be loaded ... OK * checking whether the package can be loaded with stated dependencies ... OK * checking whether the package can be unloaded cleanly ... OK * checking whether the namespace can be loaded with stated dependencies ... OK * checking whether the namespace can be unloaded cleanly ... OK * checking dependencies in R code ... NOTE Unexported object imported by a ':::' call: ‘rlang:::warn_deprecated’ See the note in ?`:::` about the use of this operator. * checking S3 generic/method consistency ... OK * checking replacement functions ... OK * checking foreign function calls ... OK * checking R code for possible problems ... OK * checking Rd files ... OK * checking Rd metadata ... OK * checking Rd cross-references ... OK * checking for missing documentation entries ... OK * checking for code/documentation mismatches ... OK * checking Rd \usage sections ... OK * checking Rd contents ... OK * checking for unstated dependencies in examples ... OK * checking files in ‘vignettes’ ... OK * checking examples ... OK Examples with CPU or elapsed time > 5s user system elapsed scDDEstimate 27.092 0.508 29.258 kersplatEstimate 8.888 0.048 9.423 splatEstimate 6.248 0.008 6.555 * checking for unstated dependencies in ‘tests’ ... OK * checking tests ... Running ‘spelling.R’ Running ‘testthat.R’ OK * checking for unstated dependencies in vignettes ... OK * checking package vignettes in ‘inst/doc’ ... OK * checking running R code from vignettes ... SKIPPED * checking re-building of vignette outputs ... SKIPPED * checking PDF version of manual ... OK * DONE Status: 1 NOTE See ‘/home/biocbuild/bbs-3.10-bioc/meat/splatter.Rcheck/00check.log’ for details.
splatter.Rcheck/00install.out
############################################################################## ############################################################################## ### ### Running command: ### ### /home/biocbuild/bbs-3.10-bioc/R/bin/R CMD INSTALL splatter ### ############################################################################## ############################################################################## * installing to library ‘/home/biocbuild/bbs-3.10-bioc/R/library’ * installing *source* package ‘splatter’ ... ** using staged installation ** R ** inst ** byte-compile and prepare package for lazy loading ** help *** installing help indices ** building package indices ** installing vignettes ** testing if installed package can be loaded from temporary location ** testing if installed package can be loaded from final location ** testing if installed package keeps a record of temporary installation path * DONE (splatter)
splatter.Rcheck/tests/spelling.Rout
R version 3.6.3 (2020-02-29) -- "Holding the Windsock" Copyright (C) 2020 The R Foundation for Statistical Computing Platform: x86_64-pc-linux-gnu (64-bit) R is free software and comes with ABSOLUTELY NO WARRANTY. You are welcome to redistribute it under certain conditions. Type 'license()' or 'licence()' for distribution details. R is a collaborative project with many contributors. Type 'contributors()' for more information and 'citation()' on how to cite R or R packages in publications. Type 'demo()' for some demos, 'help()' for on-line help, or 'help.start()' for an HTML browser interface to help. Type 'q()' to quit R. > if(requireNamespace('spelling', quietly = TRUE)) + spelling::spell_check_test(vignettes = TRUE, error = FALSE, + skip_on_cran = TRUE) NULL > > proc.time() user system elapsed 0.220 0.040 0.346
splatter.Rcheck/tests/testthat.Rout
R version 3.6.3 (2020-02-29) -- "Holding the Windsock" Copyright (C) 2020 The R Foundation for Statistical Computing Platform: x86_64-pc-linux-gnu (64-bit) R is free software and comes with ABSOLUTELY NO WARRANTY. You are welcome to redistribute it under certain conditions. Type 'license()' or 'licence()' for distribution details. R is a collaborative project with many contributors. Type 'contributors()' for more information and 'citation()' on how to cite R or R packages in publications. Type 'demo()' for some demos, 'help()' for on-line help, or 'help.start()' for an HTML browser interface to help. Type 'q()' to quit R. > # setting R_TESTS to empty string because of > # https://github.com/hadley/testthat/issues/144 > # revert this when that issue in R is fixed. > Sys.setenv("R_TESTS" = "") > > library(testthat) > library(splatter) Loading required package: SingleCellExperiment Loading required package: SummarizedExperiment Loading required package: GenomicRanges Loading required package: stats4 Loading required package: BiocGenerics Loading required package: parallel Attaching package: 'BiocGenerics' The following objects are masked from 'package:parallel': clusterApply, clusterApplyLB, clusterCall, clusterEvalQ, clusterExport, clusterMap, parApply, parCapply, parLapply, parLapplyLB, parRapply, parSapply, parSapplyLB The following objects are masked from 'package:stats': IQR, mad, sd, var, xtabs The following objects are masked from 'package:base': Filter, Find, Map, Position, Reduce, anyDuplicated, append, as.data.frame, basename, cbind, colnames, dirname, do.call, duplicated, eval, evalq, get, grep, grepl, intersect, is.unsorted, lapply, mapply, match, mget, order, paste, pmax, pmax.int, pmin, pmin.int, rank, rbind, rownames, sapply, setdiff, sort, table, tapply, union, unique, unsplit, which, which.max, which.min Loading required package: S4Vectors Attaching package: 'S4Vectors' The following object is masked from 'package:base': expand.grid Loading required package: IRanges Loading required package: GenomeInfoDb Loading required package: Biobase Welcome to Bioconductor Vignettes contain introductory material; view with 'browseVignettes()'. To cite Bioconductor, see 'citation("Biobase")', and for packages 'citation("pkgname")'. Loading required package: DelayedArray Loading required package: matrixStats Attaching package: 'matrixStats' The following objects are masked from 'package:Biobase': anyMissing, rowMedians Loading required package: BiocParallel Attaching package: 'DelayedArray' The following objects are masked from 'package:matrixStats': colMaxs, colMins, colRanges, rowMaxs, rowMins, rowRanges The following objects are masked from 'package:base': aperm, apply, rowsum > > test_check("splatter") ----------------------------------------------------- MCMC sampler has been started: 20000 iterations to go. ----------------------------------------------------- ----------------------------------------------------- End of Burn-in period. ----------------------------------------------------- ----------------------------------------------------- ----------------------------------------------------- All 20000 MCMC iterations have been completed. ----------------------------------------------------- ----------------------------------------------------- ----------------------------------------------------- Please see below a summary of the overall acceptance rates. ----------------------------------------------------- Minimum acceptance rate among mu[i]'s: 0.21 Average acceptance rate among mu[i]'s: 0.421265 Maximum acceptance rate among mu[i]'s: 0.5352 Minimum acceptance rate among delta[i]'s: 0.391267 Average acceptance rate among delta[i]'s: 0.4489 Maximum acceptance rate among delta[i]'s: 0.541733 Acceptance rate for phi (joint): 0.429067 Minimum acceptance rate among nu[j]'s: 0.384467 Average acceptance rate among nu[j]'s: 0.448498 Maximum acceptance rate among nu[j]'s: 0.499933 Minimum acceptance rate among theta[k]'s: 0.462667 Average acceptance rate among theta[k]'s: 0.462667 Maximum acceptance rate among theta[k]'s: 0.462667 ----------------------------------------------------- ----------------------------------------------------- MCMC sampler has been started: 20000 iterations to go. ----------------------------------------------------- ----------------------------------------------------- End of Burn-in period. ----------------------------------------------------- ----------------------------------------------------- ----------------------------------------------------- All 20000 MCMC iterations have been completed. ----------------------------------------------------- ----------------------------------------------------- ----------------------------------------------------- Please see below a summary of the overall acceptance rates. ----------------------------------------------------- Minimum acceptance rate among mu[i]'s: 0.181267 Average acceptance rate among mu[i]'s: 0.444741 Maximum acceptance rate among mu[i]'s: 0.7594 Minimum acceptance rate among delta[i]'s: 0.375667 Average acceptance rate among delta[i]'s: 0.450051 Maximum acceptance rate among delta[i]'s: 0.5164 Minimum acceptance rate among nu[jk]'s: 0.4146 Average acceptance rate among nu[jk]'s: 0.530309 Maximum acceptance rate among nu[jk]'s: 0.637867 Minimum acceptance rate among theta[k]'s: 0.461733 Average acceptance rate among theta[k]'s: 0.462933 Maximum acceptance rate among theta[k]'s: 0.464133 ----------------------------------------------------- ══ testthat results ═══════════════════════════════════════════════════════════ [ OK: 144 | SKIPPED: 0 | WARNINGS: 5 | FAILED: 0 ] > > proc.time() user system elapsed 189.180 1.484 196.209
splatter.Rcheck/splatter-Ex.timings
name | user | system | elapsed | |
BASiCSEstimate | 0 | 0 | 0 | |
BASiCSSimulate | 4.168 | 0.092 | 4.413 | |
addGeneLengths | 0.348 | 0.004 | 0.376 | |
compareSCEs | 3.168 | 0.040 | 3.402 | |
diffSCEs | 2.940 | 0.000 | 3.068 | |
getParam | 0.000 | 0.000 | 0.001 | |
getParams | 0.000 | 0.000 | 0.001 | |
kersplatEstimate | 8.888 | 0.048 | 9.423 | |
kersplatSample | 1.356 | 0.008 | 1.417 | |
kersplatSetup | 0.948 | 0.004 | 0.967 | |
kersplatSimulate | 1.868 | 0.032 | 2.006 | |
listSims | 0.016 | 0.000 | 0.016 | |
lun2Estimate | 0 | 0 | 0 | |
lun2Simulate | 0.324 | 0.012 | 0.369 | |
lunEstimate | 0.428 | 0.000 | 0.461 | |
lunSimulate | 0.304 | 0.000 | 0.367 | |
makeCompPanel | 0 | 0 | 0 | |
makeDiffPanel | 0 | 0 | 0 | |
makeOverallPanel | 0.000 | 0.000 | 0.001 | |
mfaEstimate | 0.120 | 0.000 | 0.235 | |
mfaSimulate | 1.284 | 0.008 | 1.407 | |
newParams | 0.000 | 0.000 | 0.001 | |
phenoEstimate | 0.444 | 0.004 | 0.455 | |
phenoSimulate | 0.896 | 0.004 | 1.059 | |
scDDEstimate | 27.092 | 0.508 | 29.258 | |
scDDSimulate | 0 | 0 | 0 | |
setParam | 0.012 | 0.000 | 0.010 | |
setParams | 0.028 | 0.000 | 0.026 | |
simpleEstimate | 0.396 | 0.016 | 0.417 | |
simpleSimulate | 0.404 | 0.012 | 0.417 | |
sparseDCEstimate | 0.776 | 0.056 | 0.913 | |
sparseDCSimulate | 0.572 | 0.008 | 0.908 | |
splatEstimate | 6.248 | 0.008 | 6.555 | |
splatSimulate | 0.900 | 0.000 | 0.931 | |
summariseDiff | 3.544 | 0.008 | 3.667 | |
zinbEstimate | 3.256 | 0.012 | 3.550 | |
zinbSimulate | 0.056 | 0.000 | 0.057 | |