Back to Multiple platform build/check report for BioC 3.10 |
|
This page was generated on 2020-04-15 12:27:49 -0400 (Wed, 15 Apr 2020).
Package 1645/1823 | Hostname | OS / Arch | INSTALL | BUILD | CHECK | BUILD BIN | ||||||
splatter 1.10.1 Luke Zappia
| malbec1 | Linux (Ubuntu 18.04.4 LTS) / x86_64 | OK | OK | OK | |||||||
tokay1 | Windows Server 2012 R2 Standard / x64 | OK | OK | [ OK ] | OK | |||||||
merida1 | OS X 10.11.6 El Capitan / x86_64 | OK | OK | OK | OK |
Package: splatter |
Version: 1.10.1 |
Command: C:\Users\biocbuild\bbs-3.10-bioc\R\bin\R.exe CMD check --force-multiarch --install=check:splatter.install-out.txt --library=C:\Users\biocbuild\bbs-3.10-bioc\R\library --no-vignettes --timings splatter_1.10.1.tar.gz |
StartedAt: 2020-04-15 06:50:41 -0400 (Wed, 15 Apr 2020) |
EndedAt: 2020-04-15 07:03:21 -0400 (Wed, 15 Apr 2020) |
EllapsedTime: 760.6 seconds |
RetCode: 0 |
Status: OK |
CheckDir: splatter.Rcheck |
Warnings: 0 |
############################################################################## ############################################################################## ### ### Running command: ### ### C:\Users\biocbuild\bbs-3.10-bioc\R\bin\R.exe CMD check --force-multiarch --install=check:splatter.install-out.txt --library=C:\Users\biocbuild\bbs-3.10-bioc\R\library --no-vignettes --timings splatter_1.10.1.tar.gz ### ############################################################################## ############################################################################## * using log directory 'C:/Users/biocbuild/bbs-3.10-bioc/meat/splatter.Rcheck' * using R version 3.6.3 (2020-02-29) * using platform: x86_64-w64-mingw32 (64-bit) * using session charset: ISO8859-1 * using option '--no-vignettes' * checking for file 'splatter/DESCRIPTION' ... OK * checking extension type ... Package * this is package 'splatter' version '1.10.1' * package encoding: UTF-8 * checking package namespace information ... OK * checking package dependencies ... OK * checking if this is a source package ... OK * checking if there is a namespace ... OK * checking for hidden files and directories ... OK * checking for portable file names ... OK * checking whether package 'splatter' can be installed ... OK * checking installed package size ... OK * checking package directory ... OK * checking 'build' directory ... OK * checking DESCRIPTION meta-information ... OK * checking top-level files ... OK * checking for left-over files ... OK * checking index information ... OK * checking package subdirectories ... OK * checking R files for non-ASCII characters ... OK * checking R files for syntax errors ... OK * loading checks for arch 'i386' ** checking whether the package can be loaded ... OK ** checking whether the package can be loaded with stated dependencies ... OK ** checking whether the package can be unloaded cleanly ... OK ** checking whether the namespace can be loaded with stated dependencies ... OK ** checking whether the namespace can be unloaded cleanly ... OK * loading checks for arch 'x64' ** checking whether the package can be loaded ... OK ** checking whether the package can be loaded with stated dependencies ... OK ** checking whether the package can be unloaded cleanly ... OK ** checking whether the namespace can be loaded with stated dependencies ... OK ** checking whether the namespace can be unloaded cleanly ... OK * checking dependencies in R code ... NOTE Unexported object imported by a ':::' call: 'rlang:::warn_deprecated' See the note in ?`:::` about the use of this operator. * checking S3 generic/method consistency ... OK * checking replacement functions ... OK * checking foreign function calls ... OK * checking R code for possible problems ... OK * checking Rd files ... OK * checking Rd metadata ... OK * checking Rd cross-references ... OK * checking for missing documentation entries ... OK * checking for code/documentation mismatches ... OK * checking Rd \usage sections ... OK * checking Rd contents ... OK * checking for unstated dependencies in examples ... OK * checking files in 'vignettes' ... OK * checking examples ... ** running examples for arch 'i386' ... OK Examples with CPU or elapsed time > 5s user system elapsed scDDEstimate 18.64 0.45 19.09 kersplatEstimate 9.12 0.29 11.68 splatEstimate 7.31 0.03 7.35 ** running examples for arch 'x64' ... OK Examples with CPU or elapsed time > 5s user system elapsed scDDEstimate 22.18 0.25 22.42 kersplatEstimate 9.22 0.24 9.47 splatEstimate 7.42 0.02 7.44 * checking for unstated dependencies in 'tests' ... OK * checking tests ... ** running tests for arch 'i386' ... Running 'spelling.R' Running 'testthat.R' OK ** running tests for arch 'x64' ... Running 'spelling.R' Running 'testthat.R' OK * checking for unstated dependencies in vignettes ... OK * checking package vignettes in 'inst/doc' ... OK * checking running R code from vignettes ... SKIPPED * checking re-building of vignette outputs ... SKIPPED * checking PDF version of manual ... OK * DONE Status: 1 NOTE See 'C:/Users/biocbuild/bbs-3.10-bioc/meat/splatter.Rcheck/00check.log' for details.
splatter.Rcheck/00install.out
############################################################################## ############################################################################## ### ### Running command: ### ### C:\cygwin\bin\curl.exe -O https://malbec1.bioconductor.org/BBS/3.10/bioc/src/contrib/splatter_1.10.1.tar.gz && rm -rf splatter.buildbin-libdir && mkdir splatter.buildbin-libdir && C:\Users\biocbuild\bbs-3.10-bioc\R\bin\R.exe CMD INSTALL --merge-multiarch --build --library=splatter.buildbin-libdir splatter_1.10.1.tar.gz && C:\Users\biocbuild\bbs-3.10-bioc\R\bin\R.exe CMD INSTALL splatter_1.10.1.zip && rm splatter_1.10.1.tar.gz splatter_1.10.1.zip ### ############################################################################## ############################################################################## % Total % Received % Xferd Average Speed Time Time Time Current Dload Upload Total Spent Left Speed 0 0 0 0 0 0 0 0 --:--:-- --:--:-- --:--:-- 0 100 5160k 100 5160k 0 0 55.3M 0 --:--:-- --:--:-- --:--:-- 57.9M install for i386 * installing *source* package 'splatter' ... ** using staged installation ** R ** inst ** byte-compile and prepare package for lazy loading ** help *** installing help indices converting help for package 'splatter' finding HTML links ... done BASiCSEstimate html BASiCSParams html BASiCSSimulate html KersplatParams html Lun2Params html LunParams html MFAParams html Params html PhenoParams html SCDDParams html SimpleParams html SparseDCParams html SplatParams html ZINBParams html addFeatureStats html finding level-2 HTML links ... done addGeneLengths html bridge html bringItemsForward html compareSCEs html diffSCEs html expandParams html getBetaStepProbs html getCounts html getLNormFactors html getParam html getParams html getPathOrder html kersplatEstBCV html kersplatEstLib html kersplatEstMean html kersplatEstimate html kersplatGenNetwork html kersplatSample html kersplatSelectRegs html kersplatSetup html kersplatSimAmbientCounts html kersplatSimCellCounts html kersplatSimCellMeans html kersplatSimCounts html kersplatSimGeneMeans html kersplatSimLibSizes html kersplatSimPaths html kersplatSimulate html listSims html logistic html lun2Estimate html lun2Simulate html lunEstimate html lunSimulate html makeCompPanel html makeDiffPanel html makeOverallPanel html mfaEstimate html mfaSimulate html newParams html phenoEstimate html phenoSimulate html rbindMatched html sampleDensity html scDDEstimate html scDDSimulate html selectFit html setParam html setParamUnchecked html setParams html setParamsUnchecked html showDFs html showPP html showValues html simpleEstimate html simpleSimulate html sparseDCEstimate html sparseDCSimulate html splatEstBCV html splatEstDropout html splatEstLib html splatEstMean html splatEstOutlier html splatEstimate html splatSimBCVMeans html splatSimBatchCellMeans html splatSimBatchEffects html splatSimCellMeans html splatSimDE html splatSimDropout html splatSimGeneMeans html splatSimLibSizes html splatSimTrueCounts html splatSimulate html splatter html summariseDiff html summariseKS html summariseStats html tidyStatSumm html winsorize html zinbEstimate html zinbSimulate html ** building package indices ** installing vignettes ** testing if installed package can be loaded from temporary location ** testing if installed package can be loaded from final location ** testing if installed package keeps a record of temporary installation path install for x64 * installing *source* package 'splatter' ... ** testing if installed package can be loaded * MD5 sums packaged installation of 'splatter' as splatter_1.10.1.zip * DONE (splatter) * installing to library 'C:/Users/biocbuild/bbs-3.10-bioc/R/library' package 'splatter' successfully unpacked and MD5 sums checked
splatter.Rcheck/tests_i386/spelling.Rout R version 3.6.3 (2020-02-29) -- "Holding the Windsock" Copyright (C) 2020 The R Foundation for Statistical Computing Platform: i386-w64-mingw32/i386 (32-bit) R is free software and comes with ABSOLUTELY NO WARRANTY. You are welcome to redistribute it under certain conditions. Type 'license()' or 'licence()' for distribution details. R is a collaborative project with many contributors. Type 'contributors()' for more information and 'citation()' on how to cite R or R packages in publications. Type 'demo()' for some demos, 'help()' for on-line help, or 'help.start()' for an HTML browser interface to help. Type 'q()' to quit R. > if(requireNamespace('spelling', quietly = TRUE)) + spelling::spell_check_test(vignettes = TRUE, error = FALSE, + skip_on_cran = TRUE) NULL > > proc.time() user system elapsed 0.15 0.03 0.18 |
splatter.Rcheck/tests_x64/spelling.Rout R version 3.6.3 (2020-02-29) -- "Holding the Windsock" Copyright (C) 2020 The R Foundation for Statistical Computing Platform: x86_64-w64-mingw32/x64 (64-bit) R is free software and comes with ABSOLUTELY NO WARRANTY. You are welcome to redistribute it under certain conditions. Type 'license()' or 'licence()' for distribution details. R is a collaborative project with many contributors. Type 'contributors()' for more information and 'citation()' on how to cite R or R packages in publications. Type 'demo()' for some demos, 'help()' for on-line help, or 'help.start()' for an HTML browser interface to help. Type 'q()' to quit R. > if(requireNamespace('spelling', quietly = TRUE)) + spelling::spell_check_test(vignettes = TRUE, error = FALSE, + skip_on_cran = TRUE) NULL > > proc.time() user system elapsed 0.20 0.06 0.25 |
splatter.Rcheck/tests_i386/testthat.Rout R version 3.6.3 (2020-02-29) -- "Holding the Windsock" Copyright (C) 2020 The R Foundation for Statistical Computing Platform: i386-w64-mingw32/i386 (32-bit) R is free software and comes with ABSOLUTELY NO WARRANTY. You are welcome to redistribute it under certain conditions. Type 'license()' or 'licence()' for distribution details. R is a collaborative project with many contributors. Type 'contributors()' for more information and 'citation()' on how to cite R or R packages in publications. Type 'demo()' for some demos, 'help()' for on-line help, or 'help.start()' for an HTML browser interface to help. Type 'q()' to quit R. > # setting R_TESTS to empty string because of > # https://github.com/hadley/testthat/issues/144 > # revert this when that issue in R is fixed. > Sys.setenv("R_TESTS" = "") > > library(testthat) > library(splatter) Loading required package: SingleCellExperiment Loading required package: SummarizedExperiment Loading required package: GenomicRanges Loading required package: stats4 Loading required package: BiocGenerics Loading required package: parallel Attaching package: 'BiocGenerics' The following objects are masked from 'package:parallel': clusterApply, clusterApplyLB, clusterCall, clusterEvalQ, clusterExport, clusterMap, parApply, parCapply, parLapply, parLapplyLB, parRapply, parSapply, parSapplyLB The following objects are masked from 'package:stats': IQR, mad, sd, var, xtabs The following objects are masked from 'package:base': Filter, Find, Map, Position, Reduce, anyDuplicated, append, as.data.frame, basename, cbind, colnames, dirname, do.call, duplicated, eval, evalq, get, grep, grepl, intersect, is.unsorted, lapply, mapply, match, mget, order, paste, pmax, pmax.int, pmin, pmin.int, rank, rbind, rownames, sapply, setdiff, sort, table, tapply, union, unique, unsplit, which, which.max, which.min Loading required package: S4Vectors Attaching package: 'S4Vectors' The following object is masked from 'package:base': expand.grid Loading required package: IRanges Attaching package: 'IRanges' The following object is masked from 'package:grDevices': windows Loading required package: GenomeInfoDb Loading required package: Biobase Welcome to Bioconductor Vignettes contain introductory material; view with 'browseVignettes()'. To cite Bioconductor, see 'citation("Biobase")', and for packages 'citation("pkgname")'. Loading required package: DelayedArray Loading required package: matrixStats Attaching package: 'matrixStats' The following objects are masked from 'package:Biobase': anyMissing, rowMedians Loading required package: BiocParallel Attaching package: 'DelayedArray' The following objects are masked from 'package:matrixStats': colMaxs, colMins, colRanges, rowMaxs, rowMins, rowRanges The following objects are masked from 'package:base': aperm, apply, rowsum > > test_check("splatter") ----------------------------------------------------- MCMC sampler has been started: 20000 iterations to go. ----------------------------------------------------- ----------------------------------------------------- End of Burn-in period. ----------------------------------------------------- ----------------------------------------------------- ----------------------------------------------------- All 20000 MCMC iterations have been completed. ----------------------------------------------------- ----------------------------------------------------- ----------------------------------------------------- Please see below a summary of the overall acceptance rates. ----------------------------------------------------- Minimum acceptance rate among mu[i]'s: 0.21 Average acceptance rate among mu[i]'s: 0.421265 Maximum acceptance rate among mu[i]'s: 0.5352 Minimum acceptance rate among delta[i]'s: 0.391267 Average acceptance rate among delta[i]'s: 0.4489 Maximum acceptance rate among delta[i]'s: 0.541733 Acceptance rate for phi (joint): 0.429067 Minimum acceptance rate among nu[j]'s: 0.384467 Average acceptance rate among nu[j]'s: 0.448498 Maximum acceptance rate among nu[j]'s: 0.499933 Minimum acceptance rate among theta[k]'s: 0.462667 Average acceptance rate among theta[k]'s: 0.462667 Maximum acceptance rate among theta[k]'s: 0.462667 ----------------------------------------------------- ----------------------------------------------------- MCMC sampler has been started: 20000 iterations to go. ----------------------------------------------------- ----------------------------------------------------- End of Burn-in period. ----------------------------------------------------- ----------------------------------------------------- ----------------------------------------------------- All 20000 MCMC iterations have been completed. ----------------------------------------------------- ----------------------------------------------------- ----------------------------------------------------- Please see below a summary of the overall acceptance rates. ----------------------------------------------------- Minimum acceptance rate among mu[i]'s: 0.181267 Average acceptance rate among mu[i]'s: 0.444741 Maximum acceptance rate among mu[i]'s: 0.7594 Minimum acceptance rate among delta[i]'s: 0.375667 Average acceptance rate among delta[i]'s: 0.450051 Maximum acceptance rate among delta[i]'s: 0.5164 Minimum acceptance rate among nu[jk]'s: 0.4146 Average acceptance rate among nu[jk]'s: 0.530309 Maximum acceptance rate among nu[jk]'s: 0.637867 Minimum acceptance rate among theta[k]'s: 0.461733 Average acceptance rate among theta[k]'s: 0.462933 Maximum acceptance rate among theta[k]'s: 0.464133 ----------------------------------------------------- == testthat results =========================================================== [ OK: 144 | SKIPPED: 0 | WARNINGS: 5 | FAILED: 0 ] > > proc.time() user system elapsed 179.34 8.15 187.57 |
splatter.Rcheck/tests_x64/testthat.Rout R version 3.6.3 (2020-02-29) -- "Holding the Windsock" Copyright (C) 2020 The R Foundation for Statistical Computing Platform: x86_64-w64-mingw32/x64 (64-bit) R is free software and comes with ABSOLUTELY NO WARRANTY. You are welcome to redistribute it under certain conditions. Type 'license()' or 'licence()' for distribution details. R is a collaborative project with many contributors. Type 'contributors()' for more information and 'citation()' on how to cite R or R packages in publications. Type 'demo()' for some demos, 'help()' for on-line help, or 'help.start()' for an HTML browser interface to help. Type 'q()' to quit R. > # setting R_TESTS to empty string because of > # https://github.com/hadley/testthat/issues/144 > # revert this when that issue in R is fixed. > Sys.setenv("R_TESTS" = "") > > library(testthat) > library(splatter) Loading required package: SingleCellExperiment Loading required package: SummarizedExperiment Loading required package: GenomicRanges Loading required package: stats4 Loading required package: BiocGenerics Loading required package: parallel Attaching package: 'BiocGenerics' The following objects are masked from 'package:parallel': clusterApply, clusterApplyLB, clusterCall, clusterEvalQ, clusterExport, clusterMap, parApply, parCapply, parLapply, parLapplyLB, parRapply, parSapply, parSapplyLB The following objects are masked from 'package:stats': IQR, mad, sd, var, xtabs The following objects are masked from 'package:base': Filter, Find, Map, Position, Reduce, anyDuplicated, append, as.data.frame, basename, cbind, colnames, dirname, do.call, duplicated, eval, evalq, get, grep, grepl, intersect, is.unsorted, lapply, mapply, match, mget, order, paste, pmax, pmax.int, pmin, pmin.int, rank, rbind, rownames, sapply, setdiff, sort, table, tapply, union, unique, unsplit, which, which.max, which.min Loading required package: S4Vectors Attaching package: 'S4Vectors' The following object is masked from 'package:base': expand.grid Loading required package: IRanges Attaching package: 'IRanges' The following object is masked from 'package:grDevices': windows Loading required package: GenomeInfoDb Loading required package: Biobase Welcome to Bioconductor Vignettes contain introductory material; view with 'browseVignettes()'. To cite Bioconductor, see 'citation("Biobase")', and for packages 'citation("pkgname")'. Loading required package: DelayedArray Loading required package: matrixStats Attaching package: 'matrixStats' The following objects are masked from 'package:Biobase': anyMissing, rowMedians Loading required package: BiocParallel Attaching package: 'DelayedArray' The following objects are masked from 'package:matrixStats': colMaxs, colMins, colRanges, rowMaxs, rowMins, rowRanges The following objects are masked from 'package:base': aperm, apply, rowsum > > test_check("splatter") ----------------------------------------------------- MCMC sampler has been started: 20000 iterations to go. ----------------------------------------------------- ----------------------------------------------------- End of Burn-in period. ----------------------------------------------------- ----------------------------------------------------- ----------------------------------------------------- All 20000 MCMC iterations have been completed. ----------------------------------------------------- ----------------------------------------------------- ----------------------------------------------------- Please see below a summary of the overall acceptance rates. ----------------------------------------------------- Minimum acceptance rate among mu[i]'s: 0.21 Average acceptance rate among mu[i]'s: 0.421265 Maximum acceptance rate among mu[i]'s: 0.5352 Minimum acceptance rate among delta[i]'s: 0.391267 Average acceptance rate among delta[i]'s: 0.4489 Maximum acceptance rate among delta[i]'s: 0.541733 Acceptance rate for phi (joint): 0.429067 Minimum acceptance rate among nu[j]'s: 0.384467 Average acceptance rate among nu[j]'s: 0.448498 Maximum acceptance rate among nu[j]'s: 0.499933 Minimum acceptance rate among theta[k]'s: 0.462667 Average acceptance rate among theta[k]'s: 0.462667 Maximum acceptance rate among theta[k]'s: 0.462667 ----------------------------------------------------- ----------------------------------------------------- MCMC sampler has been started: 20000 iterations to go. ----------------------------------------------------- ----------------------------------------------------- End of Burn-in period. ----------------------------------------------------- ----------------------------------------------------- ----------------------------------------------------- All 20000 MCMC iterations have been completed. ----------------------------------------------------- ----------------------------------------------------- ----------------------------------------------------- Please see below a summary of the overall acceptance rates. ----------------------------------------------------- Minimum acceptance rate among mu[i]'s: 0.181267 Average acceptance rate among mu[i]'s: 0.444741 Maximum acceptance rate among mu[i]'s: 0.7594 Minimum acceptance rate among delta[i]'s: 0.375667 Average acceptance rate among delta[i]'s: 0.450051 Maximum acceptance rate among delta[i]'s: 0.5164 Minimum acceptance rate among nu[jk]'s: 0.4146 Average acceptance rate among nu[jk]'s: 0.530309 Maximum acceptance rate among nu[jk]'s: 0.637867 Minimum acceptance rate among theta[k]'s: 0.461733 Average acceptance rate among theta[k]'s: 0.462933 Maximum acceptance rate among theta[k]'s: 0.464133 ----------------------------------------------------- == testthat results =========================================================== [ OK: 144 | SKIPPED: 0 | WARNINGS: 5 | FAILED: 0 ] > > proc.time() user system elapsed 189.95 4.64 194.79 |
splatter.Rcheck/examples_i386/splatter-Ex.timings
|
splatter.Rcheck/examples_x64/splatter-Ex.timings
|