Back to Multiple platform build/check report for BioC 3.10 |
|
This page was generated on 2020-04-15 12:33:21 -0400 (Wed, 15 Apr 2020).
Package 1665/1823 | Hostname | OS / Arch | INSTALL | BUILD | CHECK | BUILD BIN | ||||||
ssPATHS 1.0.0 Natalie R. Davidson
| malbec1 | Linux (Ubuntu 18.04.4 LTS) / x86_64 | OK | OK | OK | ![]() | ||||||
tokay1 | Windows Server 2012 R2 Standard / x64 | OK | [ OK ] | OK | OK | ![]() | ||||||
merida1 | OS X 10.11.6 El Capitan / x86_64 | OK | OK | OK | OK | ![]() |
Package: ssPATHS |
Version: 1.0.0 |
Command: chmod a+r ssPATHS -R && C:\Users\biocbuild\bbs-3.10-bioc\R\bin\R.exe CMD build --keep-empty-dirs --no-resave-data ssPATHS |
StartedAt: 2020-04-15 00:50:13 -0400 (Wed, 15 Apr 2020) |
EndedAt: 2020-04-15 00:51:01 -0400 (Wed, 15 Apr 2020) |
EllapsedTime: 47.7 seconds |
RetCode: 0 |
Status: OK |
PackageFile: ssPATHS_1.0.0.tar.gz |
PackageFileSize: 3.629 MiB |
############################################################################## ############################################################################## ### ### Running command: ### ### chmod a+r ssPATHS -R && C:\Users\biocbuild\bbs-3.10-bioc\R\bin\R.exe CMD build --keep-empty-dirs --no-resave-data ssPATHS ### ############################################################################## ############################################################################## * checking for file 'ssPATHS/DESCRIPTION' ... OK * preparing 'ssPATHS': * checking DESCRIPTION meta-information ... OK * installing the package to build vignettes * creating vignettes ... OK * checking for LF line-endings in source and make files and shell scripts * checking for empty or unneeded directories * looking to see if a 'data/datalist' file should be added * building 'ssPATHS_1.0.0.tar.gz'