Back to Multiple platform build/check report for BioC 3.10 |
|
This page was generated on 2020-04-15 12:33:21 -0400 (Wed, 15 Apr 2020).
Package 1665/1823 | Hostname | OS / Arch | INSTALL | BUILD | CHECK | BUILD BIN | ||||||
ssPATHS 1.0.0 Natalie R. Davidson
| malbec1 | Linux (Ubuntu 18.04.4 LTS) / x86_64 | OK | OK | OK | ![]() | ||||||
tokay1 | Windows Server 2012 R2 Standard / x64 | [ OK ] | OK | OK | OK | ![]() | ||||||
merida1 | OS X 10.11.6 El Capitan / x86_64 | OK | OK | OK | OK | ![]() |
Package: ssPATHS |
Version: 1.0.0 |
Command: C:\cygwin\bin\curl.exe -O https://malbec1.bioconductor.org/BBS/3.10/bioc/src/contrib/ssPATHS_1.0.0.tar.gz && rm -rf ssPATHS.buildbin-libdir && mkdir ssPATHS.buildbin-libdir && C:\Users\biocbuild\bbs-3.10-bioc\R\bin\R.exe CMD INSTALL --merge-multiarch --build --library=ssPATHS.buildbin-libdir ssPATHS_1.0.0.tar.gz && C:\Users\biocbuild\bbs-3.10-bioc\R\bin\R.exe CMD INSTALL ssPATHS_1.0.0.zip && rm ssPATHS_1.0.0.tar.gz ssPATHS_1.0.0.zip |
StartedAt: 2020-04-14 20:30:13 -0400 (Tue, 14 Apr 2020) |
EndedAt: 2020-04-14 20:31:02 -0400 (Tue, 14 Apr 2020) |
EllapsedTime: 49.1 seconds |
RetCode: 0 |
Status: OK |
############################################################################## ############################################################################## ### ### Running command: ### ### C:\cygwin\bin\curl.exe -O https://malbec1.bioconductor.org/BBS/3.10/bioc/src/contrib/ssPATHS_1.0.0.tar.gz && rm -rf ssPATHS.buildbin-libdir && mkdir ssPATHS.buildbin-libdir && C:\Users\biocbuild\bbs-3.10-bioc\R\bin\R.exe CMD INSTALL --merge-multiarch --build --library=ssPATHS.buildbin-libdir ssPATHS_1.0.0.tar.gz && C:\Users\biocbuild\bbs-3.10-bioc\R\bin\R.exe CMD INSTALL ssPATHS_1.0.0.zip && rm ssPATHS_1.0.0.tar.gz ssPATHS_1.0.0.zip ### ############################################################################## ############################################################################## % Total % Received % Xferd Average Speed Time Time Time Current Dload Upload Total Spent Left Speed 0 0 0 0 0 0 0 0 --:--:-- --:--:-- --:--:-- 0 97 3576k 97 3472k 0 0 7153k 0 --:--:-- --:--:-- --:--:-- 7203k 100 3576k 100 3576k 0 0 7356k 0 --:--:-- --:--:-- --:--:-- 7405k install for i386 * installing *source* package 'ssPATHS' ... ** using staged installation ** R ** data *** moving datasets to lazyload DB ** byte-compile and prepare package for lazy loading ** help *** installing help indices converting help for package 'ssPATHS' finding HTML links ... done expected_score_output html gene_weights_reference html get_classification_accuracy html get_gene_weights html get_hypoxia_genes html get_new_samp_score html new_samp_df html tcga_expr_df html ** building package indices ** installing vignettes ** testing if installed package can be loaded from temporary location ** testing if installed package can be loaded from final location ** testing if installed package keeps a record of temporary installation path install for x64 * installing *source* package 'ssPATHS' ... ** testing if installed package can be loaded * MD5 sums packaged installation of 'ssPATHS' as ssPATHS_1.0.0.zip * DONE (ssPATHS) * installing to library 'C:/Users/biocbuild/bbs-3.10-bioc/R/library' package 'ssPATHS' successfully unpacked and MD5 sums checked