Back to Multiple platform build/check report for BioC 3.10 |
|
This page was generated on 2020-04-15 12:44:15 -0400 (Wed, 15 Apr 2020).
Package 1699/1823 | Hostname | OS / Arch | INSTALL | BUILD | CHECK | BUILD BIN | ||||||
synergyfinder 2.0.12 Shuyu Zheng
| malbec1 | Linux (Ubuntu 18.04.4 LTS) / x86_64 | OK | OK | OK | |||||||
tokay1 | Windows Server 2012 R2 Standard / x64 | OK | OK | OK | OK | |||||||
merida1 | OS X 10.11.6 El Capitan / x86_64 | OK | OK | OK | [ OK ] |
Package: synergyfinder |
Version: 2.0.12 |
Command: rm -rf synergyfinder.buildbin-libdir && mkdir synergyfinder.buildbin-libdir && /Users/biocbuild/BBS/utils/build-universal.sh synergyfinder_2.0.12.tar.gz /Library/Frameworks/R.framework/Versions/Current/Resources/bin/R synergyfinder.buildbin-libdir |
StartedAt: 2020-04-15 08:54:27 -0400 (Wed, 15 Apr 2020) |
EndedAt: 2020-04-15 08:55:19 -0400 (Wed, 15 Apr 2020) |
EllapsedTime: 52.0 seconds |
RetCode: 0 |
Status: OK |
PackageFile: synergyfinder_2.0.12.tgz |
PackageFileSize: 403.2 KiB |
############################################################################## ############################################################################## ### ### Running command: ### ### rm -rf synergyfinder.buildbin-libdir && mkdir synergyfinder.buildbin-libdir && /Users/biocbuild/BBS/utils/build-universal.sh synergyfinder_2.0.12.tar.gz /Library/Frameworks/R.framework/Versions/Current/Resources/bin/R synergyfinder.buildbin-libdir ### ############################################################################## ############################################################################## >>>>>>> >>>>>>> INSTALLATION WITH 'R CMD INSTALL --preclean --no-multiarch --library=synergyfinder.buildbin-libdir synergyfinder_2.0.12.tar.gz' >>>>>>> * installing *source* package ‘synergyfinder’ ... ** using staged installation ** libs clang -I"/Library/Frameworks/R.framework/Resources/include" -DNDEBUG -isysroot /Library/Developer/CommandLineTools/SDKs/MacOSX.sdk -I/usr/local/include -fPIC -Wall -g -O2 -c covariance.c -o covariance.o clang -I"/Library/Frameworks/R.framework/Resources/include" -DNDEBUG -isysroot /Library/Developer/CommandLineTools/SDKs/MacOSX.sdk -I/usr/local/include -fPIC -Wall -g -O2 -c kriging.c -o kriging.o clang -I"/Library/Frameworks/R.framework/Resources/include" -DNDEBUG -isysroot /Library/Developer/CommandLineTools/SDKs/MacOSX.sdk -I/usr/local/include -fPIC -Wall -g -O2 -c synergyfinder_init.c -o synergyfinder_init.o clang -I"/Library/Frameworks/R.framework/Resources/include" -DNDEBUG -isysroot /Library/Developer/CommandLineTools/SDKs/MacOSX.sdk -I/usr/local/include -fPIC -Wall -g -O2 -c utils.c -o utils.o clang -dynamiclib -Wl,-headerpad_max_install_names -undefined dynamic_lookup -single_module -multiply_defined suppress -L/Library/Frameworks/R.framework/Resources/lib -L/usr/local/lib -o synergyfinder.so covariance.o kriging.o synergyfinder_init.o utils.o -L/Library/Frameworks/R.framework/Resources/lib -lRlapack -L/Library/Frameworks/R.framework/Resources/lib -lRblas -L/usr/local/gfortran/lib/gcc/x86_64-apple-darwin15/6.1.0 -L/usr/local/gfortran/lib -lgfortran -lquadmath -lm -F/Library/Frameworks/R.framework/.. -framework R -Wl,-framework -Wl,CoreFoundation installing to /Users/biocbuild/bbs-3.10-bioc/meat/synergyfinder.buildbin-libdir/00LOCK-synergyfinder/00new/synergyfinder/libs ** R ** data ** inst ** byte-compile and prepare package for lazy loading ** help *** installing help indices ** building package indices ** installing vignettes ** testing if installed package can be loaded from temporary location ** checking absolute paths in shared objects and dynamic libraries ** testing if installed package can be loaded from final location ** testing if installed package keeps a record of temporary installation path * DONE (synergyfinder) >>>>>>> >>>>>>> FIXING LINKS FOR synergyfinder.buildbin-libdir/synergyfinder/libs//synergyfinder.so >>>>>>> install_name_tool -change "/usr/local/lib/libgcc_s.1.dylib" "/Library/Frameworks/R.framework/Versions/3.6/Resources/lib/libgcc_s.1.dylib" "synergyfinder.buildbin-libdir/synergyfinder/libs//synergyfinder.so" install_name_tool -change "/usr/local/lib/libgfortran.3.dylib" "/Library/Frameworks/R.framework/Versions/3.6/Resources/lib/libgfortran.3.dylib" "synergyfinder.buildbin-libdir/synergyfinder/libs//synergyfinder.so" install_name_tool -change "/usr/local/lib/libreadline.5.2.dylib" "/Library/Frameworks/R.framework/Versions/3.6/Resources/lib/libreadline.5.2.dylib" "synergyfinder.buildbin-libdir/synergyfinder/libs//synergyfinder.so" install_name_tool -change "/usr/local/lib/libreadline.dylib" "/Library/Frameworks/R.framework/Versions/3.6/Resources/lib/libreadline.dylib" "synergyfinder.buildbin-libdir/synergyfinder/libs//synergyfinder.so" install_name_tool -change "/usr/local/lib/libquadmath.0.dylib" "/Library/Frameworks/R.framework/Versions/3.6/Resources/lib/libquadmath.0.dylib" "synergyfinder.buildbin-libdir/synergyfinder/libs//synergyfinder.so" install_name_tool -change "/usr/local/gfortran/lib/libgfortran.3.dylib" "/Library/Frameworks/R.framework/Versions/3.6/Resources/lib/libgfortran.3.dylib" "synergyfinder.buildbin-libdir/synergyfinder/libs//synergyfinder.so" install_name_tool -change "/usr/local/gfortran/lib/libquadmath.0.dylib" "/Library/Frameworks/R.framework/Versions/3.6/Resources/lib/libquadmath.0.dylib" "synergyfinder.buildbin-libdir/synergyfinder/libs//synergyfinder.so"