Back to Multiple platform build/check report for BioC 3.10 |
|
This page was generated on 2020-04-15 12:13:16 -0400 (Wed, 15 Apr 2020).
Package 1798/1823 | Hostname | OS / Arch | INSTALL | BUILD | CHECK | BUILD BIN | ||||||
vulcan 1.8.0 Federico M. Giorgi
| malbec1 | Linux (Ubuntu 18.04.4 LTS) / x86_64 | OK | OK | [ OK ] | ![]() | ||||||
tokay1 | Windows Server 2012 R2 Standard / x64 | OK | OK | OK | OK | ![]() | ||||||
merida1 | OS X 10.11.6 El Capitan / x86_64 | OK | OK | OK | OK | ![]() |
Package: vulcan |
Version: 1.8.0 |
Command: /home/biocbuild/bbs-3.10-bioc/R/bin/R CMD check --install=check:vulcan.install-out.txt --library=/home/biocbuild/bbs-3.10-bioc/R/library --no-vignettes --timings vulcan_1.8.0.tar.gz |
StartedAt: 2020-04-15 05:09:05 -0400 (Wed, 15 Apr 2020) |
EndedAt: 2020-04-15 05:16:46 -0400 (Wed, 15 Apr 2020) |
EllapsedTime: 461.1 seconds |
RetCode: 0 |
Status: OK |
CheckDir: vulcan.Rcheck |
Warnings: 0 |
############################################################################## ############################################################################## ### ### Running command: ### ### /home/biocbuild/bbs-3.10-bioc/R/bin/R CMD check --install=check:vulcan.install-out.txt --library=/home/biocbuild/bbs-3.10-bioc/R/library --no-vignettes --timings vulcan_1.8.0.tar.gz ### ############################################################################## ############################################################################## * using log directory ‘/home/biocbuild/bbs-3.10-bioc/meat/vulcan.Rcheck’ * using R version 3.6.3 (2020-02-29) * using platform: x86_64-pc-linux-gnu (64-bit) * using session charset: UTF-8 * using option ‘--no-vignettes’ * checking for file ‘vulcan/DESCRIPTION’ ... OK * checking extension type ... Package * this is package ‘vulcan’ version ‘1.8.0’ * package encoding: UTF-8 * checking package namespace information ... OK * checking package dependencies ... NOTE Depends: includes the non-default packages: 'ChIPpeakAnno', 'TxDb.Hsapiens.UCSC.hg19.knownGene', 'zoo', 'GenomicRanges', 'S4Vectors', 'viper', 'DiffBind', 'locfit' Adding so many packages to the search path is excessive and importing selectively is preferable. * checking if this is a source package ... OK * checking if there is a namespace ... OK * checking for hidden files and directories ... OK * checking for portable file names ... OK * checking for sufficient/correct file permissions ... OK * checking whether package ‘vulcan’ can be installed ... OK * checking installed package size ... OK * checking package directory ... OK * checking ‘build’ directory ... OK * checking DESCRIPTION meta-information ... OK * checking top-level files ... OK * checking for left-over files ... OK * checking index information ... OK * checking package subdirectories ... OK * checking R files for non-ASCII characters ... OK * checking R files for syntax errors ... OK * checking whether the package can be loaded ... OK * checking whether the package can be loaded with stated dependencies ... OK * checking whether the package can be unloaded cleanly ... OK * checking whether the namespace can be loaded with stated dependencies ... OK * checking whether the namespace can be unloaded cleanly ... OK * checking dependencies in R code ... OK * checking S3 generic/method consistency ... OK * checking replacement functions ... OK * checking foreign function calls ... OK * checking R code for possible problems ... OK * checking Rd files ... OK * checking Rd metadata ... OK * checking Rd cross-references ... OK * checking for missing documentation entries ... OK * checking for code/documentation mismatches ... OK * checking Rd \usage sections ... OK * checking Rd contents ... OK * checking for unstated dependencies in examples ... OK * checking files in ‘vignettes’ ... OK * checking examples ... OK Examples with CPU or elapsed time > 5s user system elapsed average_fragment_length 10.316 0.300 12.218 vulcan 5.632 0.052 5.765 * checking for unstated dependencies in vignettes ... OK * checking package vignettes in ‘inst/doc’ ... OK * checking running R code from vignettes ... SKIPPED * checking re-building of vignette outputs ... SKIPPED * checking PDF version of manual ... OK * DONE Status: 1 NOTE See ‘/home/biocbuild/bbs-3.10-bioc/meat/vulcan.Rcheck/00check.log’ for details.
vulcan.Rcheck/00install.out
############################################################################## ############################################################################## ### ### Running command: ### ### /home/biocbuild/bbs-3.10-bioc/R/bin/R CMD INSTALL vulcan ### ############################################################################## ############################################################################## * installing to library ‘/home/biocbuild/bbs-3.10-bioc/R/library’ * installing *source* package ‘vulcan’ ... ** using staged installation ** R ** inst ** byte-compile and prepare package for lazy loading ** help *** installing help indices ** building package indices ** installing vignettes ** testing if installed package can be loaded from temporary location ** testing if installed package can be loaded from final location ** testing if installed package keeps a record of temporary installation path * DONE (vulcan)
vulcan.Rcheck/vulcan-Ex.timings
name | user | system | elapsed | |
average_fragment_length | 10.316 | 0.300 | 12.218 | |
corr2p | 0.004 | 0.000 | 0.003 | |
densityauc | 0.036 | 0.008 | 0.041 | |
dpareto | 0.008 | 0.000 | 0.005 | |
fisherp | 0 | 0 | 0 | |
gsea | 0.284 | 0.024 | 0.310 | |
kmgformat | 0.020 | 0.000 | 0.018 | |
null_gsea | 0.044 | 0.000 | 0.041 | |
p2corr | 0.000 | 0.000 | 0.001 | |
p2z | 0 | 0 | 0 | |
pareto.fit | 0.008 | 0.000 | 0.010 | |
plot_gsea | 0.048 | 0.000 | 0.047 | |
ppareto | 0.008 | 0.000 | 0.006 | |
rea | 0.004 | 0.000 | 0.004 | |
slice | 0.004 | 0.000 | 0.001 | |
stouffer | 0 | 0 | 0 | |
textplot2 | 0.280 | 0.000 | 0.281 | |
val2col | 0.004 | 0.000 | 0.007 | |
vulcan | 5.632 | 0.052 | 5.765 | |
vulcan.annotate | 2.500 | 0.004 | 2.523 | |
vulcan.import | 0.084 | 0.000 | 0.082 | |
vulcan.normalize | 0 | 0 | 0 | |
vulcan.pathways | 2.592 | 0.008 | 2.611 | |
wstouffer | 0 | 0 | 0 | |
z2p | 0 | 0 | 0 | |