Back to Multiple platform build/check report for BioC 3.10 |
|
This page was generated on 2020-04-15 12:29:09 -0400 (Wed, 15 Apr 2020).
Package 1798/1823 | Hostname | OS / Arch | INSTALL | BUILD | CHECK | BUILD BIN | ||||||
vulcan 1.8.0 Federico M. Giorgi
| malbec1 | Linux (Ubuntu 18.04.4 LTS) / x86_64 | OK | OK | OK | ![]() | ||||||
tokay1 | Windows Server 2012 R2 Standard / x64 | [ OK ] | OK | OK | OK | ![]() | ||||||
merida1 | OS X 10.11.6 El Capitan / x86_64 | OK | OK | OK | OK | ![]() |
Package: vulcan |
Version: 1.8.0 |
Command: C:\cygwin\bin\curl.exe -O https://malbec1.bioconductor.org/BBS/3.10/bioc/src/contrib/vulcan_1.8.0.tar.gz && rm -rf vulcan.buildbin-libdir && mkdir vulcan.buildbin-libdir && C:\Users\biocbuild\bbs-3.10-bioc\R\bin\R.exe CMD INSTALL --merge-multiarch --build --library=vulcan.buildbin-libdir vulcan_1.8.0.tar.gz && C:\Users\biocbuild\bbs-3.10-bioc\R\bin\R.exe CMD INSTALL vulcan_1.8.0.zip && rm vulcan_1.8.0.tar.gz vulcan_1.8.0.zip |
StartedAt: 2020-04-14 20:17:21 -0400 (Tue, 14 Apr 2020) |
EndedAt: 2020-04-14 20:18:59 -0400 (Tue, 14 Apr 2020) |
EllapsedTime: 98.5 seconds |
RetCode: 0 |
Status: OK |
############################################################################## ############################################################################## ### ### Running command: ### ### C:\cygwin\bin\curl.exe -O https://malbec1.bioconductor.org/BBS/3.10/bioc/src/contrib/vulcan_1.8.0.tar.gz && rm -rf vulcan.buildbin-libdir && mkdir vulcan.buildbin-libdir && C:\Users\biocbuild\bbs-3.10-bioc\R\bin\R.exe CMD INSTALL --merge-multiarch --build --library=vulcan.buildbin-libdir vulcan_1.8.0.tar.gz && C:\Users\biocbuild\bbs-3.10-bioc\R\bin\R.exe CMD INSTALL vulcan_1.8.0.zip && rm vulcan_1.8.0.tar.gz vulcan_1.8.0.zip ### ############################################################################## ############################################################################## % Total % Received % Xferd Average Speed Time Time Time Current Dload Upload Total Spent Left Speed 0 0 0 0 0 0 0 0 --:--:-- --:--:-- --:--:-- 0 100 143k 100 143k 0 0 928k 0 --:--:-- --:--:-- --:--:-- 958k install for i386 * installing *source* package 'vulcan' ... ** using staged installation ** R ** inst ** byte-compile and prepare package for lazy loading ** help *** installing help indices converting help for package 'vulcan' finding HTML links ... done average_fragment_length html corr2p html densityauc html dpareto html fisherp html gsea html kmgformat html null_gsea html p2corr html p2z html pareto.fit html plot_gsea html ppareto html rea html slice html stouffer html textplot2 html val2col html vulcan html vulcan.annotate html vulcan.import html vulcan.normalize html vulcan.pathways html wstouffer html z2p html ** building package indices ** installing vignettes ** testing if installed package can be loaded from temporary location ** testing if installed package can be loaded from final location ** testing if installed package keeps a record of temporary installation path install for x64 * installing *source* package 'vulcan' ... ** testing if installed package can be loaded * MD5 sums packaged installation of 'vulcan' as vulcan_1.8.0.zip * DONE (vulcan) * installing to library 'C:/Users/biocbuild/bbs-3.10-bioc/R/library' package 'vulcan' successfully unpacked and MD5 sums checked