Back to Multiple platform build/check report for BioC 3.11 |
|
This page was generated on 2020-01-16 13:36:00 -0500 (Thu, 16 Jan 2020).
Package 157/1818 | Hostname | OS / Arch | INSTALL | BUILD | CHECK | BUILD BIN | ||||||
BiocParallel 1.21.2 Bioconductor Package Maintainer
| malbec2 | Linux (Ubuntu 18.04.3 LTS) / x86_64 | OK | OK | TIMEOUT | |||||||
tokay2 | Windows Server 2012 R2 Standard / x64 | OK | OK | OK | OK | ![]() | ||||||
celaya2 | OS X 10.11.6 El Capitan / x86_64 | OK | OK | OK | [ OK ] | ![]() |
Package: BiocParallel |
Version: 1.21.2 |
Command: rm -rf BiocParallel.buildbin-libdir && mkdir BiocParallel.buildbin-libdir && /Users/biocbuild/BBS/utils/build-universal.sh BiocParallel_1.21.2.tar.gz /Library/Frameworks/R.framework/Versions/Current/Resources/bin/R BiocParallel.buildbin-libdir |
StartedAt: 2020-01-16 10:31:06 -0500 (Thu, 16 Jan 2020) |
EndedAt: 2020-01-16 10:31:26 -0500 (Thu, 16 Jan 2020) |
EllapsedTime: 19.7 seconds |
RetCode: 0 |
Status: OK |
PackageFile: BiocParallel_1.21.2.tgz |
PackageFileSize: 1.104 MiB |
############################################################################## ############################################################################## ### ### Running command: ### ### rm -rf BiocParallel.buildbin-libdir && mkdir BiocParallel.buildbin-libdir && /Users/biocbuild/BBS/utils/build-universal.sh BiocParallel_1.21.2.tar.gz /Library/Frameworks/R.framework/Versions/Current/Resources/bin/R BiocParallel.buildbin-libdir ### ############################################################################## ############################################################################## >>>>>>> >>>>>>> INSTALLATION WITH 'R CMD INSTALL --preclean --no-multiarch --library=BiocParallel.buildbin-libdir BiocParallel_1.21.2.tar.gz' >>>>>>> * installing *source* package ‘BiocParallel’ ... ** using staged installation checking for gcc... gcc checking whether the C compiler works... yes checking for C compiler default output file name... a.out checking for suffix of executables... checking whether we are cross compiling... no checking for suffix of object files... o checking whether we are using the GNU C compiler... yes checking whether gcc accepts -g... yes checking for gcc option to accept ISO C89... none needed checking for shm_open in -lrt... no configure: creating ./config.status config.status: creating src/Makevars ** libs clang++ -std=gnu++11 -I"/Library/Frameworks/R.framework/Resources/include" -DNDEBUG -I'/Library/Frameworks/R.framework/Versions/4.0/Resources/library/BH/include' -isysroot /Library/Developer/CommandLineTools/SDKs/MacOSX.sdk -I/usr/local/include -fPIC -Wall -g -O2 -c ipcmutex.cpp -o ipcmutex.o clang++ -std=gnu++11 -dynamiclib -Wl,-headerpad_max_install_names -undefined dynamic_lookup -single_module -multiply_defined suppress -L/Library/Frameworks/R.framework/Resources/lib -L/usr/local/lib -o BiocParallel.so ipcmutex.o -F/Library/Frameworks/R.framework/.. -framework R -Wl,-framework -Wl,CoreFoundation installing to /Users/biocbuild/bbs-3.11-bioc/meat/BiocParallel.buildbin-libdir/00LOCK-BiocParallel/00new/BiocParallel/libs ** R ** inst ** byte-compile and prepare package for lazy loading ** help *** installing help indices ** building package indices ** installing vignettes ** testing if installed package can be loaded from temporary location ** checking absolute paths in shared objects and dynamic libraries ** testing if installed package can be loaded from final location ** testing if installed package keeps a record of temporary installation path * DONE (BiocParallel) >>>>>>> >>>>>>> FIXING LINKS FOR BiocParallel.buildbin-libdir/BiocParallel/libs//BiocParallel.so >>>>>>> install_name_tool -change "/usr/local/lib/libgcc_s.1.dylib" "/Library/Frameworks/R.framework/Versions/4.0/Resources/lib/libgcc_s.1.dylib" "BiocParallel.buildbin-libdir/BiocParallel/libs//BiocParallel.so" install_name_tool -change "/usr/local/lib/libgfortran.3.dylib" "/Library/Frameworks/R.framework/Versions/4.0/Resources/lib/libgfortran.3.dylib" "BiocParallel.buildbin-libdir/BiocParallel/libs//BiocParallel.so" install_name_tool -change "/usr/local/lib/libreadline.5.2.dylib" "/Library/Frameworks/R.framework/Versions/4.0/Resources/lib/libreadline.5.2.dylib" "BiocParallel.buildbin-libdir/BiocParallel/libs//BiocParallel.so" install_name_tool -change "/usr/local/lib/libreadline.dylib" "/Library/Frameworks/R.framework/Versions/4.0/Resources/lib/libreadline.dylib" "BiocParallel.buildbin-libdir/BiocParallel/libs//BiocParallel.so" install_name_tool -change "/usr/local/lib/libquadmath.0.dylib" "/Library/Frameworks/R.framework/Versions/4.0/Resources/lib/libquadmath.0.dylib" "BiocParallel.buildbin-libdir/BiocParallel/libs//BiocParallel.so"