Back to Multiple platform build/check report for BioC 3.11 |
|
This page was generated on 2020-01-16 13:36:00 -0500 (Thu, 16 Jan 2020).
Package 157/1818 | Hostname | OS / Arch | INSTALL | BUILD | CHECK | BUILD BIN | ||||||
BiocParallel 1.21.2 Bioconductor Package Maintainer
| malbec2 | Linux (Ubuntu 18.04.3 LTS) / x86_64 | OK | OK | TIMEOUT | |||||||
tokay2 | Windows Server 2012 R2 Standard / x64 | OK | OK | OK | OK | |||||||
celaya2 | OS X 10.11.6 El Capitan / x86_64 | OK | OK | [ OK ] | OK |
Package: BiocParallel |
Version: 1.21.2 |
Command: /Library/Frameworks/R.framework/Versions/Current/Resources/bin/R CMD check --install=check:BiocParallel.install-out.txt --library=/Library/Frameworks/R.framework/Versions/Current/Resources/library --no-vignettes --timings BiocParallel_1.21.2.tar.gz |
StartedAt: 2020-01-16 02:09:44 -0500 (Thu, 16 Jan 2020) |
EndedAt: 2020-01-16 02:17:18 -0500 (Thu, 16 Jan 2020) |
EllapsedTime: 454.1 seconds |
RetCode: 0 |
Status: OK |
CheckDir: BiocParallel.Rcheck |
Warnings: 0 |
############################################################################## ############################################################################## ### ### Running command: ### ### /Library/Frameworks/R.framework/Versions/Current/Resources/bin/R CMD check --install=check:BiocParallel.install-out.txt --library=/Library/Frameworks/R.framework/Versions/Current/Resources/library --no-vignettes --timings BiocParallel_1.21.2.tar.gz ### ############################################################################## ############################################################################## * using log directory ‘/Users/biocbuild/bbs-3.11-bioc/meat/BiocParallel.Rcheck’ * using R Under development (unstable) (2019-12-14 r77572) * using platform: x86_64-apple-darwin15.6.0 (64-bit) * using session charset: UTF-8 * using option ‘--no-vignettes’ * checking for file ‘BiocParallel/DESCRIPTION’ ... OK * checking extension type ... Package * this is package ‘BiocParallel’ version ‘1.21.2’ * checking package namespace information ... OK * checking package dependencies ... OK * checking if this is a source package ... OK * checking if there is a namespace ... OK * checking for hidden files and directories ... OK * checking for portable file names ... OK * checking for sufficient/correct file permissions ... OK * checking whether package ‘BiocParallel’ can be installed ... OK * checking installed package size ... OK * checking package directory ... OK * checking ‘build’ directory ... OK * checking DESCRIPTION meta-information ... OK * checking top-level files ... OK * checking for left-over files ... OK * checking index information ... OK * checking package subdirectories ... OK * checking R files for non-ASCII characters ... OK * checking R files for syntax errors ... OK * checking whether the package can be loaded ... OK * checking whether the package can be loaded with stated dependencies ... OK * checking whether the package can be unloaded cleanly ... OK * checking whether the namespace can be loaded with stated dependencies ... OK * checking whether the namespace can be unloaded cleanly ... OK * checking dependencies in R code ... NOTE Unexported objects imported by ':::' calls: ‘parallel:::closeNode’ ‘parallel:::recvData’ ‘parallel:::recvOneData’ ‘parallel:::sendData’ See the note in ?`:::` about the use of this operator. * checking S3 generic/method consistency ... OK * checking replacement functions ... OK * checking foreign function calls ... OK * checking R code for possible problems ... OK * checking Rd files ... OK * checking Rd metadata ... OK * checking Rd cross-references ... OK * checking for missing documentation entries ... OK * checking for code/documentation mismatches ... OK * checking Rd \usage sections ... OK * checking Rd contents ... OK * checking for unstated dependencies in examples ... OK * checking line endings in shell scripts ... OK * checking line endings in C/C++/Fortran sources/headers ... OK * checking line endings in Makefiles ... OK * checking compilation flags in Makevars ... OK * checking for GNU extensions in Makefiles ... OK * checking for portable use of $(BLAS_LIBS) and $(LAPACK_LIBS) ... OK * checking use of PKG_*FLAGS in Makefiles ... OK * checking compiled code ... NOTE Note: information on .o files is not available * checking sizes of PDF files under ‘inst/doc’ ... OK * checking files in ‘vignettes’ ... OK * checking examples ... OK Examples with CPU (user + system) or elapsed time > 5s user system elapsed BatchtoolsParam-class 5.711 2.999 11.761 bpvalidate 6.958 0.620 7.589 BatchJobsParam-class 5.762 0.258 6.755 SnowParam-class 1.144 0.151 9.831 * checking for unstated dependencies in ‘tests’ ... OK * checking tests ... Running ‘test.R’ OK * checking for unstated dependencies in vignettes ... OK * checking package vignettes in ‘inst/doc’ ... OK * checking running R code from vignettes ... SKIPPED * checking re-building of vignette outputs ... SKIPPED * checking PDF version of manual ... OK * DONE Status: 2 NOTEs See ‘/Users/biocbuild/bbs-3.11-bioc/meat/BiocParallel.Rcheck/00check.log’ for details.
BiocParallel.Rcheck/00install.out
############################################################################## ############################################################################## ### ### Running command: ### ### /Library/Frameworks/R.framework/Versions/Current/Resources/bin/R CMD INSTALL BiocParallel ### ############################################################################## ############################################################################## * installing to library ‘/Library/Frameworks/R.framework/Versions/4.0/Resources/library’ * installing *source* package ‘BiocParallel’ ... ** using staged installation checking for gcc... gcc checking whether the C compiler works... yes checking for C compiler default output file name... a.out checking for suffix of executables... checking whether we are cross compiling... no checking for suffix of object files... o checking whether we are using the GNU C compiler... yes checking whether gcc accepts -g... yes checking for gcc option to accept ISO C89... none needed checking for shm_open in -lrt... no configure: creating ./config.status config.status: creating src/Makevars ** libs clang++ -std=gnu++11 -I"/Library/Frameworks/R.framework/Resources/include" -DNDEBUG -I'/Library/Frameworks/R.framework/Versions/4.0/Resources/library/BH/include' -isysroot /Library/Developer/CommandLineTools/SDKs/MacOSX.sdk -I/usr/local/include -fPIC -Wall -g -O2 -c ipcmutex.cpp -o ipcmutex.o clang++ -std=gnu++11 -dynamiclib -Wl,-headerpad_max_install_names -undefined dynamic_lookup -single_module -multiply_defined suppress -L/Library/Frameworks/R.framework/Resources/lib -L/usr/local/lib -o BiocParallel.so ipcmutex.o -F/Library/Frameworks/R.framework/.. -framework R -Wl,-framework -Wl,CoreFoundation installing to /Library/Frameworks/R.framework/Versions/4.0/Resources/library/00LOCK-BiocParallel/00new/BiocParallel/libs ** R ** inst ** byte-compile and prepare package for lazy loading ** help *** installing help indices ** building package indices ** installing vignettes ** testing if installed package can be loaded from temporary location ** checking absolute paths in shared objects and dynamic libraries ** testing if installed package can be loaded from final location ** testing if installed package keeps a record of temporary installation path * DONE (BiocParallel)
BiocParallel.Rcheck/tests/test.Rout
R Under development (unstable) (2019-12-14 r77572) -- "Unsuffered Consequences" Copyright (C) 2019 The R Foundation for Statistical Computing Platform: x86_64-apple-darwin15.6.0 (64-bit) R is free software and comes with ABSOLUTELY NO WARRANTY. You are welcome to redistribute it under certain conditions. Type 'license()' or 'licence()' for distribution details. R is a collaborative project with many contributors. Type 'contributors()' for more information and 'citation()' on how to cite R or R packages in publications. Type 'demo()' for some demos, 'help()' for on-line help, or 'help.start()' for an HTML browser interface to help. Type 'q()' to quit R. > BiocGenerics:::testPackage("BiocParallel") Submitting 5 jobs in 4 chunks using cluster functions 'Multicore' ... Submitting 5 jobs in 4 chunks using cluster functions 'Socket' ... Submitting 5 jobs in 4 chunks using cluster functions 'Socket' ... > > > > > > > > Submitting 5 jobs in 4 chunks using cluster functions 'Multicore' ... > > > > > > > > Timing stopped at: 0 0 0.001 Error in DEACTIVATED("MPI tests not run") : MPI tests not run Timing stopped at: 0.281 0.045 0.396 Error in DEACTIVATED("MPI tests not run") : MPI tests not run > > RUNIT TEST PROTOCOL -- Thu Jan 16 02:17:08 2020 *********************************************** Number of test functions: 75 Number of deactivated test functions: 2 Number of errors: 0 Number of failures: 0 1 Test Suite : BiocParallel RUnit Tests - 75 test functions, 0 errors, 0 failures Number of test functions: 75 Number of deactivated test functions: 2 Number of errors: 0 Number of failures: 0 > > proc.time() user system elapsed 144.850 49.802 339.709
BiocParallel.Rcheck/BiocParallel-Ex.timings
name | user | system | elapsed | |
BatchJobsParam-class | 5.762 | 0.258 | 6.755 | |
BatchtoolsParam-class | 5.711 | 2.999 | 11.761 | |
BiocParallelParam-class | 0.002 | 0.002 | 0.004 | |
DeveloperInterface | 0.000 | 0.001 | 0.000 | |
DoparParam-class | 0 | 0 | 0 | |
MulticoreParam-class | 1.576 | 1.291 | 3.405 | |
SerialParam-class | 0.033 | 0.010 | 0.042 | |
SnowParam-class | 1.144 | 0.151 | 9.831 | |
bpaggregate | 0.002 | 0.001 | 0.004 | |
bpiterate | 0.002 | 0.002 | 0.004 | |
bplapply | 0.418 | 0.151 | 0.473 | |
bploop | 0.000 | 0.001 | 0.000 | |
bpmapply | 0.403 | 0.238 | 0.594 | |
bpok | 0.462 | 0.034 | 4.652 | |
bpschedule | 0.299 | 0.097 | 0.355 | |
bptry | 0.121 | 0.195 | 0.189 | |
bpvalidate | 6.958 | 0.620 | 7.589 | |
bpvec | 0.638 | 0.154 | 0.683 | |
bpvectorize | 0.066 | 0.134 | 0.101 | |
ipcmutex | 0.639 | 0.449 | 1.428 | |
register | 0.163 | 0.234 | 0.233 | |