Back to Multiple platform build/check report for BioC 3.11 |
|
This page was generated on 2019-12-24 12:10:29 -0500 (Tue, 24 Dec 2019).
Package 934/1809 | Hostname | OS / Arch | INSTALL | BUILD | CHECK | BUILD BIN | ||||||
MAGeCKFlute 1.7.0 Wubing Zhang
| malbec2 | Linux (Ubuntu 18.04.3 LTS) / x86_64 | OK | OK | WARNINGS | |||||||
celaya2 | OS X 10.11.6 El Capitan / x86_64 | OK | OK | WARNINGS | [ OK ] |
Package: MAGeCKFlute |
Version: 1.7.0 |
Command: rm -rf MAGeCKFlute.buildbin-libdir && mkdir MAGeCKFlute.buildbin-libdir && /Users/biocbuild/BBS/utils/build-universal.sh MAGeCKFlute_1.7.0.tar.gz /Library/Frameworks/R.framework/Versions/Current/Resources/bin/R MAGeCKFlute.buildbin-libdir |
StartedAt: 2019-12-24 10:31:49 -0500 (Tue, 24 Dec 2019) |
EndedAt: 2019-12-24 10:33:11 -0500 (Tue, 24 Dec 2019) |
EllapsedTime: 82.3 seconds |
RetCode: 0 |
Status: OK |
PackageFile: MAGeCKFlute_1.7.0.tgz |
PackageFileSize: 17.31 MiB |
############################################################################## ############################################################################## ### ### Running command: ### ### rm -rf MAGeCKFlute.buildbin-libdir && mkdir MAGeCKFlute.buildbin-libdir && /Users/biocbuild/BBS/utils/build-universal.sh MAGeCKFlute_1.7.0.tar.gz /Library/Frameworks/R.framework/Versions/Current/Resources/bin/R MAGeCKFlute.buildbin-libdir ### ############################################################################## ############################################################################## >>>>>>> >>>>>>> INSTALLATION WITH 'R CMD INSTALL --preclean --no-multiarch --library=MAGeCKFlute.buildbin-libdir MAGeCKFlute_1.7.0.tar.gz' >>>>>>> * installing *source* package ‘MAGeCKFlute’ ... ** using staged installation ** R ** data *** moving datasets to lazyload DB ** inst ** byte-compile and prepare package for lazy loading Warning: replacing previous import ‘DOSE::.__C__compareClusterResult’ by ‘clusterProfiler::.__C__compareClusterResult’ when loading ‘MAGeCKFlute’ ** help *** installing help indices ** building package indices ** installing vignettes ** testing if installed package can be loaded from temporary location Warning: replacing previous import ‘DOSE::.__C__compareClusterResult’ by ‘clusterProfiler::.__C__compareClusterResult’ when loading ‘MAGeCKFlute’ ** testing if installed package can be loaded from final location Warning: replacing previous import ‘DOSE::.__C__compareClusterResult’ by ‘clusterProfiler::.__C__compareClusterResult’ when loading ‘MAGeCKFlute’ ** testing if installed package keeps a record of temporary installation path * DONE (MAGeCKFlute)