Back to Multiple platform build/check report for BioC 3.11 |
|
This page was generated on 2020-01-16 13:50:17 -0500 (Thu, 16 Jan 2020).
Package 1760/1818 | Hostname | OS / Arch | INSTALL | BUILD | CHECK | BUILD BIN | ||||||
TTMap 1.9.0 Rachel Jeitziner
| malbec2 | Linux (Ubuntu 18.04.3 LTS) / x86_64 | OK | OK | OK | ![]() | ||||||
tokay2 | Windows Server 2012 R2 Standard / x64 | OK | OK | OK | NA | |||||||
celaya2 | OS X 10.11.6 El Capitan / x86_64 | OK | OK | WARNINGS | [ OK ] |
Package: TTMap |
Version: 1.9.0 |
Command: rm -rf TTMap.buildbin-libdir && mkdir TTMap.buildbin-libdir && /Users/biocbuild/BBS/utils/build-universal.sh TTMap_1.9.0.tar.gz /Library/Frameworks/R.framework/Versions/Current/Resources/bin/R TTMap.buildbin-libdir |
StartedAt: 2020-01-16 11:59:12 -0500 (Thu, 16 Jan 2020) |
EndedAt: 2020-01-16 11:59:41 -0500 (Thu, 16 Jan 2020) |
EllapsedTime: 29.1 seconds |
RetCode: 0 |
Status: OK |
PackageFile: TTMap_1.9.0.tgz |
PackageFileSize: 663.4 KiB |
############################################################################## ############################################################################## ### ### Running command: ### ### rm -rf TTMap.buildbin-libdir && mkdir TTMap.buildbin-libdir && /Users/biocbuild/BBS/utils/build-universal.sh TTMap_1.9.0.tar.gz /Library/Frameworks/R.framework/Versions/Current/Resources/bin/R TTMap.buildbin-libdir ### ############################################################################## ############################################################################## >>>>>>> >>>>>>> INSTALLATION WITH 'R CMD INSTALL --preclean --no-multiarch --library=TTMap.buildbin-libdir TTMap_1.9.0.tar.gz' >>>>>>> * installing *source* package ‘TTMap’ ... ** using staged installation ** R ** inst ** byte-compile and prepare package for lazy loading Warning messages: 1: In rgl.init(initValue, onlyNULL) : RGL: GLX extension missing on server 2: 'rgl_init' failed, running with rgl.useNULL = TRUE ** help *** installing help indices ** building package indices ** installing vignettes ** testing if installed package can be loaded from temporary location Warning in rgl.init(initValue, onlyNULL) : RGL: GLX extension missing on server Warning: 'rgl_init' failed, running with rgl.useNULL = TRUE ** testing if installed package can be loaded from final location Warning in rgl.init(initValue, onlyNULL) : RGL: GLX extension missing on server Warning: 'rgl_init' failed, running with rgl.useNULL = TRUE ** testing if installed package keeps a record of temporary installation path * DONE (TTMap)