Back to Multiple platform build/check report for BioC 3.11 |
|
This page was generated on 2020-01-16 13:53:13 -0500 (Thu, 16 Jan 2020).
Package 398/1818 | Hostname | OS / Arch | INSTALL | BUILD | CHECK | BUILD BIN | ||||||
cytofast 1.3.0 K.A. Stam
| malbec2 | Linux (Ubuntu 18.04.3 LTS) / x86_64 | OK | OK | WARNINGS | |||||||
tokay2 | Windows Server 2012 R2 Standard / x64 | OK | OK | WARNINGS | OK | |||||||
celaya2 | OS X 10.11.6 El Capitan / x86_64 | OK | OK | WARNINGS | [ OK ] |
Package: cytofast |
Version: 1.3.0 |
Command: rm -rf cytofast.buildbin-libdir && mkdir cytofast.buildbin-libdir && /Users/biocbuild/BBS/utils/build-universal.sh cytofast_1.3.0.tar.gz /Library/Frameworks/R.framework/Versions/Current/Resources/bin/R cytofast.buildbin-libdir |
StartedAt: 2020-01-16 10:43:54 -0500 (Thu, 16 Jan 2020) |
EndedAt: 2020-01-16 10:44:18 -0500 (Thu, 16 Jan 2020) |
EllapsedTime: 23.8 seconds |
RetCode: 0 |
Status: OK |
PackageFile: cytofast_1.3.0.tgz |
PackageFileSize: 1.841 MiB |
############################################################################## ############################################################################## ### ### Running command: ### ### rm -rf cytofast.buildbin-libdir && mkdir cytofast.buildbin-libdir && /Users/biocbuild/BBS/utils/build-universal.sh cytofast_1.3.0.tar.gz /Library/Frameworks/R.framework/Versions/Current/Resources/bin/R cytofast.buildbin-libdir ### ############################################################################## ############################################################################## >>>>>>> >>>>>>> INSTALLATION WITH 'R CMD INSTALL --preclean --no-multiarch --library=cytofast.buildbin-libdir cytofast_1.3.0.tar.gz' >>>>>>> * installing *source* package ‘cytofast’ ... ** using staged installation ** R ** data *** moving datasets to lazyload DB ** inst ** byte-compile and prepare package for lazy loading Warning: replacing previous import ‘ncdfFlow::filter’ by ‘dplyr::filter’ when loading ‘CytoML’ Creating a new generic function for ‘expr’ in package ‘cytofast’ ** help *** installing help indices ** building package indices ** installing vignettes ** testing if installed package can be loaded from temporary location Warning: replacing previous import ‘ncdfFlow::filter’ by ‘dplyr::filter’ when loading ‘CytoML’ ** testing if installed package can be loaded from final location Warning: replacing previous import ‘ncdfFlow::filter’ by ‘dplyr::filter’ when loading ‘CytoML’ ** testing if installed package keeps a record of temporary installation path * DONE (cytofast)