Back to Multiple platform build/check report for BioC 3.11 |
|
This page was generated on 2020-01-16 13:53:13 -0500 (Thu, 16 Jan 2020).
Package 398/1818 | Hostname | OS / Arch | INSTALL | BUILD | CHECK | BUILD BIN | ||||||
cytofast 1.3.0 K.A. Stam
| malbec2 | Linux (Ubuntu 18.04.3 LTS) / x86_64 | OK | OK | WARNINGS | |||||||
tokay2 | Windows Server 2012 R2 Standard / x64 | OK | OK | WARNINGS | OK | |||||||
celaya2 | OS X 10.11.6 El Capitan / x86_64 | OK | [ OK ] | WARNINGS | OK |
Package: cytofast |
Version: 1.3.0 |
Command: /Library/Frameworks/R.framework/Versions/Current/Resources/bin/R CMD build --keep-empty-dirs --no-resave-data cytofast |
StartedAt: 2020-01-16 00:28:05 -0500 (Thu, 16 Jan 2020) |
EndedAt: 2020-01-16 00:28:51 -0500 (Thu, 16 Jan 2020) |
EllapsedTime: 46.2 seconds |
RetCode: 0 |
Status: OK |
PackageFile: cytofast_1.3.0.tar.gz |
PackageFileSize: 1.583 MiB |
############################################################################## ############################################################################## ### ### Running command: ### ### /Library/Frameworks/R.framework/Versions/Current/Resources/bin/R CMD build --keep-empty-dirs --no-resave-data cytofast ### ############################################################################## ############################################################################## * checking for file ‘cytofast/DESCRIPTION’ ... OK * preparing ‘cytofast’: * checking DESCRIPTION meta-information ... OK * installing the package to process help pages Loading required namespace: cytofast Warning: replacing previous import ‘ncdfFlow::filter’ by ‘dplyr::filter’ when loading ‘CytoML’ * saving partial Rd database * creating vignettes ... OK * checking for LF line-endings in source and make files and shell scripts * checking for empty or unneeded directories * building ‘cytofast_1.3.0.tar.gz’