Back to Multiple platform build/check report for BioC 3.11 |
|
This page was generated on 2019-12-12 13:57:22 -0500 (Thu, 12 Dec 2019).
Package 1730/1808 | Hostname | OS / Arch | INSTALL | BUILD | CHECK | BUILD BIN | ||||||
transcriptR 1.15.0 Armen R. Karapetyan
| malbec2 | Linux (Ubuntu 18.04.3 LTS) / x86_64 | OK | OK | OK | |||||||
tokay2 | Windows Server 2012 R2 Standard / x64 | OK | ERROR | skipped | skipped | |||||||
celaya2 | OS X 10.11.6 El Capitan / x86_64 | OK | OK | OK | [ OK ] |
Package: transcriptR |
Version: 1.15.0 |
Command: rm -rf transcriptR.buildbin-libdir && mkdir transcriptR.buildbin-libdir && /Users/biocbuild/BBS/utils/build-universal.sh transcriptR_1.15.0.tar.gz /Library/Frameworks/R.framework/Versions/Current/Resources/bin/R transcriptR.buildbin-libdir |
StartedAt: 2019-12-12 09:38:42 -0500 (Thu, 12 Dec 2019) |
EndedAt: 2019-12-12 09:40:07 -0500 (Thu, 12 Dec 2019) |
EllapsedTime: 84.8 seconds |
RetCode: 0 |
Status: OK |
PackageFile: transcriptR_1.15.0.tgz |
PackageFileSize: 2.841 MiB |
############################################################################## ############################################################################## ### ### Running command: ### ### rm -rf transcriptR.buildbin-libdir && mkdir transcriptR.buildbin-libdir && /Users/biocbuild/BBS/utils/build-universal.sh transcriptR_1.15.0.tar.gz /Library/Frameworks/R.framework/Versions/Current/Resources/bin/R transcriptR.buildbin-libdir ### ############################################################################## ############################################################################## >>>>>>> >>>>>>> INSTALLATION WITH 'R CMD INSTALL --preclean --no-multiarch --library=transcriptR.buildbin-libdir transcriptR_1.15.0.tar.gz' >>>>>>> * installing *source* package ‘transcriptR’ ... ** using staged installation ** R ** data ** inst ** byte-compile and prepare package for lazy loading ** help *** installing help indices ** building package indices ** installing vignettes ** testing if installed package can be loaded from temporary location ** testing if installed package can be loaded from final location ** testing if installed package keeps a record of temporary installation path * DONE (transcriptR)