Back to Multiple platform build/check report for BioC 3.11 (small subset of software packages ONLY)

INSTALL report for AnnotationHub on malbec2

This page was generated on 2020-01-24 03:57:03 -0500 (Fri, 24 Jan 2020).

Package 6/41HostnameOS / ArchINSTALLBUILDCHECKBUILD BIN
AnnotationHub 2.19.5
Bioconductor Package Maintainer
Snapshot Date: 2020-01-24 01:50:48 -0500 (Fri, 24 Jan 2020)
URL: https://git.bioconductor.org/packages/AnnotationHub
Branch: master
Last Commit: b74e310
Last Changed Date: 2020-01-16 07:36:03 -0500 (Thu, 16 Jan 2020)
malbec2 Linux (Ubuntu 18.04.3 LTS) / x86_64 [ OK ] OK  ERROR 
tokay2 Windows Server 2012 R2 Standard / x64  OK  ERROR  skipped  skipped 

Summary

Package: AnnotationHub
Version: 2.19.5
Command: /home/biocbuild/bbs-3.11-bioc/R/bin/R CMD INSTALL AnnotationHub
StartedAt: 2020-01-24 02:09:05 -0500 (Fri, 24 Jan 2020)
EndedAt: 2020-01-24 02:09:26 -0500 (Fri, 24 Jan 2020)
EllapsedTime: 20.6 seconds
RetCode: 0
Status:  OK 

Command output

##############################################################################
##############################################################################
###
### Running command:
###
###   /home/biocbuild/bbs-3.11-bioc/R/bin/R CMD INSTALL AnnotationHub
###
##############################################################################
##############################################################################


* installing to library ‘/home/biocbuild/bbs-3.11-bioc-testing/Rlibs’
* installing *source* package ‘AnnotationHub’ ...
** using staged installation
** R
** inst
** byte-compile and prepare package for lazy loading
** help
*** installing help indices
** building package indices
** installing vignettes
** testing if installed package can be loaded from temporary location
** testing if installed package can be loaded from final location
** testing if installed package keeps a record of temporary installation path
* DONE (AnnotationHub)