Back to Multiple platform build/check report for BioC 3.11 (small subset of software packages ONLY) |
This page was generated on 2020-01-24 03:57:02 -0500 (Fri, 24 Jan 2020).
Package 36/41 | Hostname | OS / Arch | INSTALL | BUILD | CHECK | BUILD BIN | |||||
S4Vectors 0.25.11 Bioconductor Package Maintainer
| malbec2 | Linux (Ubuntu 18.04.3 LTS) / x86_64 | OK | [ OK ] | WARNINGS | ||||||
tokay2 | Windows Server 2012 R2 Standard / x64 | OK | ERROR | skipped | skipped |
Package: S4Vectors |
Version: 0.25.11 |
Command: /home/biocbuild/bbs-3.11-bioc/R/bin/R CMD build --keep-empty-dirs --no-resave-data S4Vectors |
StartedAt: 2020-01-24 02:15:22 -0500 (Fri, 24 Jan 2020) |
EndedAt: 2020-01-24 02:16:37 -0500 (Fri, 24 Jan 2020) |
EllapsedTime: 74.6 seconds |
RetCode: 0 |
Status: OK |
PackageFile: S4Vectors_0.25.11.tar.gz |
PackageFileSize: 638.8 KiB |
############################################################################## ############################################################################## ### ### Running command: ### ### /home/biocbuild/bbs-3.11-bioc/R/bin/R CMD build --keep-empty-dirs --no-resave-data S4Vectors ### ############################################################################## ############################################################################## * checking for file ‘S4Vectors/DESCRIPTION’ ... OK * preparing ‘S4Vectors’: * checking DESCRIPTION meta-information ... OK * cleaning src * installing the package to build vignettes * creating vignettes ... OK * cleaning src * checking for LF line-endings in source and make files and shell scripts * checking for empty or unneeded directories * building ‘S4Vectors_0.25.11.tar.gz’