Back to Multiple platform build/check report for BioC 3.11 (small subset of software packages ONLY) |
This page was generated on 2020-01-24 03:57:02 -0500 (Fri, 24 Jan 2020).
Package 39/41 | Hostname | OS / Arch | INSTALL | BUILD | CHECK | BUILD BIN | |||||
SummarizedExperiment 1.17.1 Bioconductor Package Maintainer
| malbec2 | Linux (Ubuntu 18.04.3 LTS) / x86_64 | OK | [ OK ] | OK | ||||||
tokay2 | Windows Server 2012 R2 Standard / x64 | OK | OK | WARNINGS | OK |
Package: SummarizedExperiment |
Version: 1.17.1 |
Command: /home/biocbuild/bbs-3.11-bioc/R/bin/R CMD build --keep-empty-dirs --no-resave-data SummarizedExperiment |
StartedAt: 2020-01-24 02:25:07 -0500 (Fri, 24 Jan 2020) |
EndedAt: 2020-01-24 02:26:08 -0500 (Fri, 24 Jan 2020) |
EllapsedTime: 60.7 seconds |
RetCode: 0 |
Status: OK |
PackageFile: SummarizedExperiment_1.17.1.tar.gz |
PackageFileSize: 1.448 MiB |
############################################################################## ############################################################################## ### ### Running command: ### ### /home/biocbuild/bbs-3.11-bioc/R/bin/R CMD build --keep-empty-dirs --no-resave-data SummarizedExperiment ### ############################################################################## ############################################################################## * checking for file ‘SummarizedExperiment/DESCRIPTION’ ... OK * preparing ‘SummarizedExperiment’: * checking DESCRIPTION meta-information ... OK * installing the package to build vignettes * creating vignettes ... OK * checking for LF line-endings in source and make files and shell scripts * checking for empty or unneeded directories * building ‘SummarizedExperiment_1.17.1.tar.gz’