Back to Multiple platform build/check report for BioC 3.11 (small subset of software packages ONLY)

INSTALL report for SummarizedExperiment on malbec2

This page was generated on 2020-01-24 03:57:02 -0500 (Fri, 24 Jan 2020).

Package 39/41HostnameOS / ArchINSTALLBUILDCHECKBUILD BIN
SummarizedExperiment 1.17.1
Bioconductor Package Maintainer
Snapshot Date: 2020-01-24 01:50:48 -0500 (Fri, 24 Jan 2020)
URL: https://git.bioconductor.org/packages/SummarizedExperiment
Branch: master
Last Commit: 3a4fc26
Last Changed Date: 2019-12-19 14:34:58 -0500 (Thu, 19 Dec 2019)
malbec2 Linux (Ubuntu 18.04.3 LTS) / x86_64 [ OK ] OK  OK 
tokay2 Windows Server 2012 R2 Standard / x64  OK  OK  WARNINGS  OK 

Summary

Package: SummarizedExperiment
Version: 1.17.1
Command: /home/biocbuild/bbs-3.11-bioc/R/bin/R CMD INSTALL SummarizedExperiment
StartedAt: 2020-01-24 02:01:40 -0500 (Fri, 24 Jan 2020)
EndedAt: 2020-01-24 02:02:13 -0500 (Fri, 24 Jan 2020)
EllapsedTime: 33.5 seconds
RetCode: 0
Status:  OK 

Command output

##############################################################################
##############################################################################
###
### Running command:
###
###   /home/biocbuild/bbs-3.11-bioc/R/bin/R CMD INSTALL SummarizedExperiment
###
##############################################################################
##############################################################################


* installing to library ‘/home/biocbuild/bbs-3.11-bioc-testing/Rlibs’
* installing *source* package ‘SummarizedExperiment’ ...
** using staged installation
** R
** inst
** byte-compile and prepare package for lazy loading
** help
*** installing help indices
** building package indices
** installing vignettes
** testing if installed package can be loaded from temporary location
** testing if installed package can be loaded from final location
** testing if installed package keeps a record of temporary installation path
* DONE (SummarizedExperiment)