Back to Multiple platform build/check report for BioC 3.12 |
|
This page was generated on 2021-05-06 12:35:28 -0400 (Thu, 06 May 2021).
To the developers/maintainers of the LineagePulse package: Please make sure to use the following settings in order to reproduce any error or warning you see on this page. |
Package 958/1974 | Hostname | OS / Arch | INSTALL | BUILD | CHECK | BUILD BIN | ||||||||
LineagePulse 1.10.0 (landing page) David S Fischer
| malbec1 | Linux (Ubuntu 18.04.5 LTS) / x86_64 | OK | OK | WARNINGS | ![]() | ||||||||
tokay1 | Windows Server 2012 R2 Standard / x64 | OK | OK | WARNINGS | OK | ![]() | ||||||||
merida1 | macOS 10.14.6 Mojave / x86_64 | OK | OK | WARNINGS | OK | ![]() | ||||||||
Package: LineagePulse |
Version: 1.10.0 |
Command: rm -rf LineagePulse.buildbin-libdir && mkdir LineagePulse.buildbin-libdir && /Users/biocbuild/BBS/utils/build-universal.sh LineagePulse_1.10.0.tar.gz /Library/Frameworks/R.framework/Versions/Current/Resources/bin/R LineagePulse.buildbin-libdir |
StartedAt: 2021-05-06 09:03:50 -0400 (Thu, 06 May 2021) |
EndedAt: 2021-05-06 09:04:55 -0400 (Thu, 06 May 2021) |
EllapsedTime: 64.8 seconds |
RetCode: 0 |
Status: OK |
PackageFile: LineagePulse_1.10.0.tgz |
PackageFileSize: 736.8 KiB |
############################################################################## ############################################################################## ### ### Running command: ### ### rm -rf LineagePulse.buildbin-libdir && mkdir LineagePulse.buildbin-libdir && /Users/biocbuild/BBS/utils/build-universal.sh LineagePulse_1.10.0.tar.gz /Library/Frameworks/R.framework/Versions/Current/Resources/bin/R LineagePulse.buildbin-libdir ### ############################################################################## ############################################################################## >>>>>>> >>>>>>> INSTALLATION WITH 'R CMD INSTALL --preclean --no-multiarch --library=LineagePulse.buildbin-libdir LineagePulse_1.10.0.tar.gz' >>>>>>> * installing *source* package ‘LineagePulse’ ... ** using staged installation ** R ** inst ** byte-compile and prepare package for lazy loading Note: possible error in 'evalLogLikGeneMM(vecCounts = vecCounts, ': unused arguments (matDispParam = matDispParam, matDropParam = matDropParam, matWeights = matWeights) Note: possible error in 'evalLogLikGeneMM(vecCounts = vecCounts, ': unused arguments (matDispParam = do.call(cbind, lapply(seq_len(ncol(matWeights)), function(m) vecDispParam)), matDropParam = do.call(cbind, lapply(seq_len(ncol(matWeights)), function(m) vecPiParam)), matWeights = matWeights) ** help *** installing help indices ** building package indices ** installing vignettes ** testing if installed package can be loaded from temporary location ** testing if installed package can be loaded from final location ** testing if installed package keeps a record of temporary installation path * DONE (LineagePulse)