Back to Multiple platform build/check report for BioC 3.12 |
|
This page was generated on 2021-05-06 12:35:28 -0400 (Thu, 06 May 2021).
To the developers/maintainers of the LineagePulse package: Please make sure to use the following settings in order to reproduce any error or warning you see on this page. |
Package 958/1974 | Hostname | OS / Arch | INSTALL | BUILD | CHECK | BUILD BIN | ||||||||
LineagePulse 1.10.0 (landing page) David S Fischer
| malbec1 | Linux (Ubuntu 18.04.5 LTS) / x86_64 | OK | OK | WARNINGS | ![]() | ||||||||
tokay1 | Windows Server 2012 R2 Standard / x64 | OK | OK | WARNINGS | OK | ![]() | ||||||||
merida1 | macOS 10.14.6 Mojave / x86_64 | OK | OK | WARNINGS | OK | ![]() | ||||||||
Package: LineagePulse |
Version: 1.10.0 |
Command: /Library/Frameworks/R.framework/Versions/Current/Resources/bin/R CMD build --keep-empty-dirs --no-resave-data LineagePulse |
StartedAt: 2021-05-05 20:20:53 -0400 (Wed, 05 May 2021) |
EndedAt: 2021-05-05 20:22:01 -0400 (Wed, 05 May 2021) |
EllapsedTime: 68.1 seconds |
RetCode: 0 |
Status: OK |
PackageFile: LineagePulse_1.10.0.tar.gz |
PackageFileSize: 396.1 KiB |
############################################################################## ############################################################################## ### ### Running command: ### ### /Library/Frameworks/R.framework/Versions/Current/Resources/bin/R CMD build --keep-empty-dirs --no-resave-data LineagePulse ### ############################################################################## ############################################################################## * checking for file ‘LineagePulse/DESCRIPTION’ ... OK * preparing ‘LineagePulse’: * checking DESCRIPTION meta-information ... OK * installing the package to build vignettes * creating vignettes ... OK * checking for LF line-endings in source and make files and shell scripts * checking for empty or unneeded directories * building ‘LineagePulse_1.10.0.tar.gz’