Back to Long Tests report for BioC 3.12

BUILD report for rhdf5 on merida1

This page was generated on 2021-05-08 14:20:33 -0400 (Sat, 08 May 2021).

To the developers/maintainers of the rhdf5 package:
Please make sure to use the following settings in order to reproduce any error or warning you see on this page.
Package 9/10HostnameOS / ArchCHECK
rhdf5 2.34.0  (landing page)
Mike Smith
Snapshot Date: 2021-05-08 09:00:02 -0400 (Sat, 08 May 2021)
URL: https://git.bioconductor.org/packages/rhdf5
Branch: RELEASE_3_12
Last Commit: ec861b8
Last Changed Date: 2020-10-27 10:44:25 -0400 (Tue, 27 Oct 2020)
malbec1Linux (Ubuntu 18.04.5 LTS) / x86_64  OK  
tokay1Windows Server 2012 R2 Standard / x64  ERROR  
merida1macOS 10.14.6 Mojave / x86_64  OK  

Summary

Package: rhdf5
Version: 2.34.0
Command: /Library/Frameworks/R.framework/Versions/Current/Resources/bin/R CMD build --keep-empty-dirs --no-resave-data --no-build-vignettes --no-manual rhdf5
StartedAt: 2021-05-08 09:30:58 -0400 (Sat, 08 May 2021)
EndedAt: 2021-05-08 09:31:12 -0400 (Sat, 08 May 2021)
EllapsedTime: 14.3 seconds
RetCode: 0
Status:   OK  
PackageFile: rhdf5_2.34.0.tar.gz
PackageFileSize: 239.3 KiB

Command output

##############################################################################
##############################################################################
###
### Running command:
###
###   /Library/Frameworks/R.framework/Versions/Current/Resources/bin/R CMD build --keep-empty-dirs --no-resave-data --no-build-vignettes --no-manual rhdf5
###
##############################################################################
##############################################################################


* checking for file ‘rhdf5/DESCRIPTION’ ... OK
* preparing ‘rhdf5’:
* checking DESCRIPTION meta-information ... OK
* cleaning src
* running ‘cleanup’
* checking for LF line-endings in source and make files and shell scripts
* checking for empty or unneeded directories
* building ‘rhdf5_2.34.0.tar.gz’