Back to Multiple platform build/check report for BioC 3.15 |
|
This page was generated on 2022-01-15 11:08:05 -0500 (Sat, 15 Jan 2022).
Hostname | OS | Arch (*) | R version | Installed pkgs |
---|---|---|---|---|
nebbiolo1 | Linux (Ubuntu 20.04.4 LTS) | x86_64 | R Under development (unstable) (2022-01-05 r81451) -- "Unsuffered Consequences" | 4160 |
riesling1 | Windows Server 2019 Standard | x64 | R Under development (unstable) (2021-11-21 r81221) -- "Unsuffered Consequences" | 4055 |
palomino3 | Windows Server 2022 Datacenter | x64 | R Under development (unstable) (2021-12-21 r81400 ucrt) -- "Unsuffered Consequences" | 3997 |
merida1 | macOS 10.14.6 Mojave | x86_64 | R Under development (unstable) (2022-01-05 r81451) -- "Unsuffered Consequences" | 4114 |
Click on any hostname to see more info about the system (e.g. compilers) (*) as reported by 'uname -p', except on Windows and Mac OS X |
To the developers/maintainers of the motifbreakR package: - Please allow up to 24 hours (and sometimes 48 hours) for your latest push to git@git.bioconductor.org:packages/motifbreakR.git to reflect on this report. See How and When does the builder pull? When will my changes propagate? here for more information. - Make sure to use the following settings in order to reproduce any error or warning you see on this page. |
Package 1197/2074 | Hostname | OS / Arch | INSTALL | BUILD | CHECK | BUILD BIN | ||||||||
motifbreakR 2.9.1 (landing page) Simon Gert Coetzee
| nebbiolo1 | Linux (Ubuntu 20.04.4 LTS) / x86_64 | OK | OK | WARNINGS | ![]() | ||||||||
riesling1 | Windows Server 2019 Standard / x64 | OK | OK | WARNINGS | OK | |||||||||
palomino3 | Windows Server 2022 Datacenter / x64 | OK | OK | WARNINGS | OK | ![]() | ||||||||
merida1 | macOS 10.14.6 Mojave / x86_64 | OK | OK | WARNINGS | OK | ![]() | ||||||||
Package: motifbreakR |
Version: 2.9.1 |
Command: rm -rf motifbreakR.buildbin-libdir && mkdir motifbreakR.buildbin-libdir && D:\biocbuild\bbs-3.15-bioc\R\bin\R.exe CMD INSTALL --build --library=motifbreakR.buildbin-libdir motifbreakR_2.9.1.tar.gz |
StartedAt: 2022-01-14 21:09:26 -0500 (Fri, 14 Jan 2022) |
EndedAt: 2022-01-14 21:10:32 -0500 (Fri, 14 Jan 2022) |
EllapsedTime: 65.9 seconds |
RetCode: 0 |
Status: OK |
PackageFile: motifbreakR_2.9.1.zip |
PackageFileSize: 2.614 MiB |
############################################################################## ############################################################################## ### ### Running command: ### ### rm -rf motifbreakR.buildbin-libdir && mkdir motifbreakR.buildbin-libdir && D:\biocbuild\bbs-3.15-bioc\R\bin\R.exe CMD INSTALL --build --library=motifbreakR.buildbin-libdir motifbreakR_2.9.1.tar.gz ### ############################################################################## ############################################################################## * installing *source* package 'motifbreakR' ... ** using staged installation ** R ** data *** moving datasets to lazyload DB ** inst ** byte-compile and prepare package for lazy loading See system.file("LICENSE", package="MotifDb") for use restrictions. Warning: replacing previous import 'IRanges::windows' by 'grDevices::windows' when loading 'motifbreakR' Warning: replacing previous import 'S4Vectors::as.data.frame' by 'motifStack::as.data.frame' when loading 'motifbreakR' ** help *** installing help indices converting help for package 'motifbreakR' finding HTML links ... done calculatePvalue html finding level-2 HTML links ... done encodemotif html example.results html factorbook html hocomoco html homer html motifbreakR html motifbreakR_motif html plotMB html scoreAllWindows html snps.from.file html snps.from.rsid html ** building package indices ** installing vignettes ** testing if installed package can be loaded from temporary location See system.file("LICENSE", package="MotifDb") for use restrictions. Warning: replacing previous import 'IRanges::windows' by 'grDevices::windows' when loading 'motifbreakR' Warning: replacing previous import 'S4Vectors::as.data.frame' by 'motifStack::as.data.frame' when loading 'motifbreakR' ** testing if installed package can be loaded from final location See system.file("LICENSE", package="MotifDb") for use restrictions. Warning: replacing previous import 'IRanges::windows' by 'grDevices::windows' when loading 'motifbreakR' Warning: replacing previous import 'S4Vectors::as.data.frame' by 'motifStack::as.data.frame' when loading 'motifbreakR' ** testing if installed package keeps a record of temporary installation path * MD5 sums packaged installation of 'motifbreakR' as motifbreakR_2.9.1.zip * DONE (motifbreakR)