Back to Build/check report for BioC 3.17 |
|
This page was generated on 2023-01-02 09:00:18 -0500 (Mon, 02 Jan 2023).
Hostname | OS | Arch (*) | R version | Installed pkgs |
---|---|---|---|---|
palomino5 | Windows Server 2022 Datacenter | x64 | R Under development (unstable) (2022-12-25 r83502 ucrt) -- "Unsuffered Consequences" | 4165 |
Click on any hostname to see more info about the system (e.g. compilers) (*) as reported by 'uname -p', except on Windows and Mac OS X |
To the developers/maintainers of the AMOUNTAIN package: Make sure to use the following settings in order to reproduce any error or warning you see on this page. |
Package 45/2158 | Hostname | OS / Arch | INSTALL | BUILD | CHECK | BUILD BIN | ||||||||
AMOUNTAIN 1.25.0 (landing page) Dong Li
| palomino5 | Windows Server 2022 Datacenter / x64 | OK | OK | OK | OK | ||||||||
Package: AMOUNTAIN |
Version: 1.25.0 |
Command: chmod a+r AMOUNTAIN -R && F:\biocbuild\bbs-3.17-bioc\R\bin\R.exe CMD build --keep-empty-dirs --no-resave-data AMOUNTAIN |
StartedAt: 2022-12-28 16:36:30 -0500 (Wed, 28 Dec 2022) |
EndedAt: 2022-12-28 16:36:47 -0500 (Wed, 28 Dec 2022) |
EllapsedTime: 17.4 seconds |
RetCode: 0 |
Status: OK |
PackageFile: AMOUNTAIN_1.25.0.tar.gz |
PackageFileSize: 1.114 MiB |
############################################################################## ############################################################################## ### ### Running command: ### ### chmod a+r AMOUNTAIN -R && F:\biocbuild\bbs-3.17-bioc\R\bin\R.exe CMD build --keep-empty-dirs --no-resave-data AMOUNTAIN ### ############################################################################## ############################################################################## * checking for file 'AMOUNTAIN/DESCRIPTION' ... OK * preparing 'AMOUNTAIN': * checking DESCRIPTION meta-information ... OK * cleaning src * installing the package to build vignettes * creating vignettes ... OK Warning: 'inst/doc' files 'AMOUNTAIN.Rmd', 'AMOUNTAIN.html' ignored as vignettes have been rebuilt. Run R CMD build with --no-build-vignettes to prevent rebuilding. * cleaning src * checking for LF line-endings in source and make files and shell scripts * checking for empty or unneeded directories * building 'AMOUNTAIN_1.25.0.tar.gz'