Back to Build/check report for BioC 3.17
ABCDEFGHIJK[L]MNOPQRSTUVWXYZ

This page was generated on 2023-01-02 09:00:36 -0500 (Mon, 02 Jan 2023).

HostnameOSArch (*)R versionInstalled pkgs
palomino5Windows Server 2022 Datacenterx64R Under development (unstable) (2022-12-25 r83502 ucrt) -- "Unsuffered Consequences" 4165
Click on any hostname to see more info about the system (e.g. compilers)      (*) as reported by 'uname -p', except on Windows and Mac OS X

CHECK results for LowMACA on palomino5


To the developers/maintainers of the LowMACA package:
Make sure to use the following settings in order to reproduce any error or warning you see on this page.

raw results

Package 1042/2158HostnameOS / ArchINSTALLBUILDCHECKBUILD BIN
LowMACA 1.29.0  (landing page)
Giorgio Melloni , Stefano de Pretis
Snapshot Date: 2022-12-28 11:00:06 -0500 (Wed, 28 Dec 2022)
git_url: https://git.bioconductor.org/packages/LowMACA
git_branch: master
git_last_commit: 8395102
git_last_commit_date: 2022-11-01 11:11:22 -0500 (Tue, 01 Nov 2022)
palomino5Windows Server 2022 Datacenter / x64  OK    OK    OK    OK  

Summary

Package: LowMACA
Version: 1.29.0
Command: F:\biocbuild\bbs-3.17-bioc\R\bin\R.exe CMD check --no-multiarch --install=check:LowMACA.install-out.txt --library=F:\biocbuild\bbs-3.17-bioc\R\library --no-vignettes --timings LowMACA_1.29.0.tar.gz
StartedAt: 2022-12-29 00:57:21 -0500 (Thu, 29 Dec 2022)
EndedAt: 2022-12-29 01:07:01 -0500 (Thu, 29 Dec 2022)
EllapsedTime: 579.8 seconds
RetCode: 0
Status:   OK  
CheckDir: LowMACA.Rcheck
Warnings: 0

Command output

##############################################################################
##############################################################################
###
### Running command:
###
###   F:\biocbuild\bbs-3.17-bioc\R\bin\R.exe CMD check --no-multiarch --install=check:LowMACA.install-out.txt --library=F:\biocbuild\bbs-3.17-bioc\R\library --no-vignettes --timings LowMACA_1.29.0.tar.gz
###
##############################################################################
##############################################################################


* using log directory 'F:/biocbuild/bbs-3.17-bioc-rtools43/meat/LowMACA.Rcheck'
* using R Under development (unstable) (2022-12-25 r83502 ucrt)
* using platform: x86_64-w64-mingw32 (64-bit)
* R was compiled by
    gcc.exe (GCC) 10.4.0
    GNU Fortran (GCC) 10.4.0
* running under: Windows Server x64 (build 20348)
* using session charset: UTF-8
* using option '--no-vignettes'
* checking for file 'LowMACA/DESCRIPTION' ... OK
* checking extension type ... Package
* this is package 'LowMACA' version '1.29.0'
* checking package namespace information ... OK
* checking package dependencies ... OK
* checking if this is a source package ... OK
* checking if there is a namespace ... OK
* checking for hidden files and directories ... OK
* checking for portable file names ... OK
* checking whether package 'LowMACA' can be installed ... OK
* checking installed package size ... OK
* checking package directory ... OK
* checking 'build' directory ... OK
* checking DESCRIPTION meta-information ... OK
* checking top-level files ... OK
* checking for left-over files ... OK
* checking index information ... OK
* checking package subdirectories ... OK
* checking R files for non-ASCII characters ... OK
* checking R files for syntax errors ... OK
* checking whether the package can be loaded ... OK
* checking whether the package can be loaded with stated dependencies ... OK
* checking whether the package can be unloaded cleanly ... OK
* checking whether the namespace can be loaded with stated dependencies ... OK
* checking whether the namespace can be unloaded cleanly ... OK
* checking dependencies in R code ... OK
* checking S3 generic/method consistency ... OK
* checking replacement functions ... OK
* checking foreign function calls ... OK
* checking R code for possible problems ... OK
* checking Rd files ... OK
* checking Rd metadata ... OK
* checking Rd cross-references ... OK
* checking for missing documentation entries ... OK
* checking for code/documentation mismatches ... OK
* checking Rd \usage sections ... OK
* checking Rd contents ... OK
* checking for unstated dependencies in examples ... OK
* checking contents of 'data' directory ... OK
* checking data for non-ASCII characters ... OK
* checking data for ASCII and uncompressed saves ... OK
* checking files in 'vignettes' ... OK
* checking examples ... OK
Examples with CPU (user + system) or elapsed time > 5s
                    user system elapsed
allPfamAnalysis   102.00   2.16  116.63
lfmSingleSequence  57.04   0.99   64.30
setup              20.13   0.39   45.35
LowMACA-class      13.54   0.40   22.62
LowMACA-package     8.81   0.13   13.19
getMutations        2.67   0.03    6.13
alignSequences      1.78   0.06   19.44
* checking for unstated dependencies in vignettes ... OK
* checking package vignettes in 'inst/doc' ... OK
* checking running R code from vignettes ... SKIPPED
* checking re-building of vignette outputs ... SKIPPED
* checking PDF version of manual ... OK
* DONE

Status: OK


Installation output

LowMACA.Rcheck/00install.out

##############################################################################
##############################################################################
###
### Running command:
###
###   F:\biocbuild\bbs-3.17-bioc\R\bin\R.exe CMD INSTALL LowMACA
###
##############################################################################
##############################################################################


* installing to library 'F:/biocbuild/bbs-3.17-bioc/R/library'
* installing *source* package 'LowMACA' ...
** using staged installation
** R
** data
** inst
** byte-compile and prepare package for lazy loading
** help
*** installing help indices
** building package indices
** installing vignettes
** testing if installed package can be loaded from temporary location
Checking if clustalo is in the PATH...
Checking clustalo Version...
Checking perl installation...
Checking perl modules XML::Simple and LWP...
** testing if installed package can be loaded from final location
Checking if clustalo is in the PATH...
Checking clustalo Version...
Checking perl installation...
Checking perl modules XML::Simple and LWP...
** testing if installed package keeps a record of temporary installation path
* DONE (LowMACA)

Tests output


Example timings

LowMACA.Rcheck/LowMACA-Ex.timings

nameusersystemelapsed
BLOSUM620.020.000.02
LowMACA-class13.54 0.4022.62
LowMACA-package 8.81 0.1313.19
LowMACA_AML0.000.020.01
alignSequences 1.78 0.0619.44
allPfamAnalysis102.00 2.16116.63
bpAll0.610.010.62
entropy0.530.050.58
getMutations2.670.036.13
lfm1.100.011.10
lfmSingleSequence57.04 0.9964.30
lmAlignment0.040.000.03
lmEntropy0.560.000.57
lmMutations0.030.000.03
lmObj0.060.000.06
lmParams0.390.000.85
lmPlot2.020.052.08
lmPlotSingleSequence2.400.032.70
mapMutations0.400.000.39
newLowMACA2.120.002.12
nullProfile0.560.000.56
parallelize0.380.010.39
protter0.540.042.19
setup20.13 0.3945.35
showTumorType0.120.000.37