Back to Build/check report for BioC 3.17
ABCDEFGHIJKLMNOPQR[S]TUVWXYZ

This page was generated on 2023-01-02 09:00:51 -0500 (Mon, 02 Jan 2023).

HostnameOSArch (*)R versionInstalled pkgs
palomino5Windows Server 2022 Datacenterx64R Under development (unstable) (2022-12-25 r83502 ucrt) -- "Unsuffered Consequences" 4165
Click on any hostname to see more info about the system (e.g. compilers)      (*) as reported by 'uname -p', except on Windows and Mac OS X

BUILD BIN results for ShortRead on palomino5


To the developers/maintainers of the ShortRead package:
Make sure to use the following settings in order to reproduce any error or warning you see on this page.

raw results

Package 1842/2158HostnameOS / ArchINSTALLBUILDCHECKBUILD BIN
ShortRead 1.57.1  (landing page)
Bioconductor Package Maintainer
Snapshot Date: 2022-12-28 11:00:06 -0500 (Wed, 28 Dec 2022)
git_url: https://git.bioconductor.org/packages/ShortRead
git_branch: master
git_last_commit: 0b6a8e3
git_last_commit_date: 2022-11-16 07:57:29 -0500 (Wed, 16 Nov 2022)
palomino5Windows Server 2022 Datacenter / x64  OK    OK    OK    OK  

Summary

Package: ShortRead
Version: 1.57.1
Command: rm -rf ShortRead.buildbin-libdir && mkdir ShortRead.buildbin-libdir && F:\biocbuild\bbs-3.17-bioc\R\bin\R.exe CMD INSTALL --build --library=ShortRead.buildbin-libdir ShortRead_1.57.1.tar.gz
StartedAt: 2022-12-29 05:45:21 -0500 (Thu, 29 Dec 2022)
EndedAt: 2022-12-29 05:46:54 -0500 (Thu, 29 Dec 2022)
EllapsedTime: 92.7 seconds
RetCode: 0
Status:   OK  
PackageFile: ShortRead_1.57.1.zip
PackageFileSize: 5.491 MiB

Command output

##############################################################################
##############################################################################
###
### Running command:
###
###   rm -rf ShortRead.buildbin-libdir && mkdir ShortRead.buildbin-libdir && F:\biocbuild\bbs-3.17-bioc\R\bin\R.exe CMD INSTALL --build --library=ShortRead.buildbin-libdir ShortRead_1.57.1.tar.gz
###
##############################################################################
##############################################################################


* installing *source* package 'ShortRead' ...
** using staged installation

   **********************************************
   WARNING: this package has a configure script
         It probably needs manual configuration
   **********************************************


** libs
using C compiler: 'gcc.exe (GCC) 12.2.0'
using C++ compiler: 'G__~1.EXE (GCC) 12.2.0'
gcc  -I"F:/biocbuild/bbs-3.17-bioc/R/library/zlibbioc/include" -I"F:/biocbuild/bbs-3.17-bioc/R/include" -DNDEBUG  -I'F:/biocbuild/bbs-3.17-bioc/R/library/S4Vectors/include' -I'F:/biocbuild/bbs-3.17-bioc/R/library/IRanges/include' -I'F:/biocbuild/bbs-3.17-bioc/R/library/XVector/include' -I'F:/biocbuild/bbs-3.17-bioc/R/library/Biostrings/include' -I'F:/biocbuild/bbs-3.17-bioc/R/library/Rhtslib/include' -I'F:/biocbuild/bbs-3.17-bioc/R/library/zlibbioc/include'   -I"c:/rtools42/x86_64-w64-mingw32.static.posix/include"     -O2 -Wall  -std=gnu99 -mfpmath=sse -msse2 -mstackrealign  -c Biostrings_stubs.c -o Biostrings_stubs.o
gcc  -I"F:/biocbuild/bbs-3.17-bioc/R/library/zlibbioc/include" -I"F:/biocbuild/bbs-3.17-bioc/R/include" -DNDEBUG  -I'F:/biocbuild/bbs-3.17-bioc/R/library/S4Vectors/include' -I'F:/biocbuild/bbs-3.17-bioc/R/library/IRanges/include' -I'F:/biocbuild/bbs-3.17-bioc/R/library/XVector/include' -I'F:/biocbuild/bbs-3.17-bioc/R/library/Biostrings/include' -I'F:/biocbuild/bbs-3.17-bioc/R/library/Rhtslib/include' -I'F:/biocbuild/bbs-3.17-bioc/R/library/zlibbioc/include'   -I"c:/rtools42/x86_64-w64-mingw32.static.posix/include"     -O2 -Wall  -std=gnu99 -mfpmath=sse -msse2 -mstackrealign  -c IRanges_stubs.c -o IRanges_stubs.o
gcc  -I"F:/biocbuild/bbs-3.17-bioc/R/library/zlibbioc/include" -I"F:/biocbuild/bbs-3.17-bioc/R/include" -DNDEBUG  -I'F:/biocbuild/bbs-3.17-bioc/R/library/S4Vectors/include' -I'F:/biocbuild/bbs-3.17-bioc/R/library/IRanges/include' -I'F:/biocbuild/bbs-3.17-bioc/R/library/XVector/include' -I'F:/biocbuild/bbs-3.17-bioc/R/library/Biostrings/include' -I'F:/biocbuild/bbs-3.17-bioc/R/library/Rhtslib/include' -I'F:/biocbuild/bbs-3.17-bioc/R/library/zlibbioc/include'   -I"c:/rtools42/x86_64-w64-mingw32.static.posix/include"     -O2 -Wall  -std=gnu99 -mfpmath=sse -msse2 -mstackrealign  -c R_init_ShortRead.c -o R_init_ShortRead.o
gcc  -I"F:/biocbuild/bbs-3.17-bioc/R/library/zlibbioc/include" -I"F:/biocbuild/bbs-3.17-bioc/R/include" -DNDEBUG  -I'F:/biocbuild/bbs-3.17-bioc/R/library/S4Vectors/include' -I'F:/biocbuild/bbs-3.17-bioc/R/library/IRanges/include' -I'F:/biocbuild/bbs-3.17-bioc/R/library/XVector/include' -I'F:/biocbuild/bbs-3.17-bioc/R/library/Biostrings/include' -I'F:/biocbuild/bbs-3.17-bioc/R/library/Rhtslib/include' -I'F:/biocbuild/bbs-3.17-bioc/R/library/zlibbioc/include'   -I"c:/rtools42/x86_64-w64-mingw32.static.posix/include"     -O2 -Wall  -std=gnu99 -mfpmath=sse -msse2 -mstackrealign  -c S4Vectors_stubs.c -o S4Vectors_stubs.o
gcc  -I"F:/biocbuild/bbs-3.17-bioc/R/library/zlibbioc/include" -I"F:/biocbuild/bbs-3.17-bioc/R/include" -DNDEBUG  -I'F:/biocbuild/bbs-3.17-bioc/R/library/S4Vectors/include' -I'F:/biocbuild/bbs-3.17-bioc/R/library/IRanges/include' -I'F:/biocbuild/bbs-3.17-bioc/R/library/XVector/include' -I'F:/biocbuild/bbs-3.17-bioc/R/library/Biostrings/include' -I'F:/biocbuild/bbs-3.17-bioc/R/library/Rhtslib/include' -I'F:/biocbuild/bbs-3.17-bioc/R/library/zlibbioc/include'   -I"c:/rtools42/x86_64-w64-mingw32.static.posix/include"     -O2 -Wall  -std=gnu99 -mfpmath=sse -msse2 -mstackrealign  -c XVector_stubs.c -o XVector_stubs.o
gcc  -I"F:/biocbuild/bbs-3.17-bioc/R/library/zlibbioc/include" -I"F:/biocbuild/bbs-3.17-bioc/R/include" -DNDEBUG  -I'F:/biocbuild/bbs-3.17-bioc/R/library/S4Vectors/include' -I'F:/biocbuild/bbs-3.17-bioc/R/library/IRanges/include' -I'F:/biocbuild/bbs-3.17-bioc/R/library/XVector/include' -I'F:/biocbuild/bbs-3.17-bioc/R/library/Biostrings/include' -I'F:/biocbuild/bbs-3.17-bioc/R/library/Rhtslib/include' -I'F:/biocbuild/bbs-3.17-bioc/R/library/zlibbioc/include'   -I"c:/rtools42/x86_64-w64-mingw32.static.posix/include"     -O2 -Wall  -std=gnu99 -mfpmath=sse -msse2 -mstackrealign  -c alphabet.c -o alphabet.o
gcc  -I"F:/biocbuild/bbs-3.17-bioc/R/library/zlibbioc/include" -I"F:/biocbuild/bbs-3.17-bioc/R/include" -DNDEBUG  -I'F:/biocbuild/bbs-3.17-bioc/R/library/S4Vectors/include' -I'F:/biocbuild/bbs-3.17-bioc/R/library/IRanges/include' -I'F:/biocbuild/bbs-3.17-bioc/R/library/XVector/include' -I'F:/biocbuild/bbs-3.17-bioc/R/library/Biostrings/include' -I'F:/biocbuild/bbs-3.17-bioc/R/library/Rhtslib/include' -I'F:/biocbuild/bbs-3.17-bioc/R/library/zlibbioc/include'   -I"c:/rtools42/x86_64-w64-mingw32.static.posix/include"     -O2 -Wall  -std=gnu99 -mfpmath=sse -msse2 -mstackrealign  -c count.c -o count.o
gcc  -I"F:/biocbuild/bbs-3.17-bioc/R/library/zlibbioc/include" -I"F:/biocbuild/bbs-3.17-bioc/R/include" -DNDEBUG  -I'F:/biocbuild/bbs-3.17-bioc/R/library/S4Vectors/include' -I'F:/biocbuild/bbs-3.17-bioc/R/library/IRanges/include' -I'F:/biocbuild/bbs-3.17-bioc/R/library/XVector/include' -I'F:/biocbuild/bbs-3.17-bioc/R/library/Biostrings/include' -I'F:/biocbuild/bbs-3.17-bioc/R/library/Rhtslib/include' -I'F:/biocbuild/bbs-3.17-bioc/R/library/zlibbioc/include'   -I"c:/rtools42/x86_64-w64-mingw32.static.posix/include"     -O2 -Wall  -std=gnu99 -mfpmath=sse -msse2 -mstackrealign  -c io.c -o io.o
gcc  -I"F:/biocbuild/bbs-3.17-bioc/R/library/zlibbioc/include" -I"F:/biocbuild/bbs-3.17-bioc/R/include" -DNDEBUG  -I'F:/biocbuild/bbs-3.17-bioc/R/library/S4Vectors/include' -I'F:/biocbuild/bbs-3.17-bioc/R/library/IRanges/include' -I'F:/biocbuild/bbs-3.17-bioc/R/library/XVector/include' -I'F:/biocbuild/bbs-3.17-bioc/R/library/Biostrings/include' -I'F:/biocbuild/bbs-3.17-bioc/R/library/Rhtslib/include' -I'F:/biocbuild/bbs-3.17-bioc/R/library/zlibbioc/include'   -I"c:/rtools42/x86_64-w64-mingw32.static.posix/include"     -O2 -Wall  -std=gnu99 -mfpmath=sse -msse2 -mstackrealign  -c io_bowtie.c -o io_bowtie.o
gcc  -I"F:/biocbuild/bbs-3.17-bioc/R/library/zlibbioc/include" -I"F:/biocbuild/bbs-3.17-bioc/R/include" -DNDEBUG  -I'F:/biocbuild/bbs-3.17-bioc/R/library/S4Vectors/include' -I'F:/biocbuild/bbs-3.17-bioc/R/library/IRanges/include' -I'F:/biocbuild/bbs-3.17-bioc/R/library/XVector/include' -I'F:/biocbuild/bbs-3.17-bioc/R/library/Biostrings/include' -I'F:/biocbuild/bbs-3.17-bioc/R/library/Rhtslib/include' -I'F:/biocbuild/bbs-3.17-bioc/R/library/zlibbioc/include'   -I"c:/rtools42/x86_64-w64-mingw32.static.posix/include"     -O2 -Wall  -std=gnu99 -mfpmath=sse -msse2 -mstackrealign  -c io_soap.c -o io_soap.o
g++ -std=gnu++11  -I"F:/biocbuild/bbs-3.17-bioc/R/library/zlibbioc/include" -I"F:/biocbuild/bbs-3.17-bioc/R/include" -DNDEBUG  -I'F:/biocbuild/bbs-3.17-bioc/R/library/S4Vectors/include' -I'F:/biocbuild/bbs-3.17-bioc/R/library/IRanges/include' -I'F:/biocbuild/bbs-3.17-bioc/R/library/XVector/include' -I'F:/biocbuild/bbs-3.17-bioc/R/library/Biostrings/include' -I'F:/biocbuild/bbs-3.17-bioc/R/library/Rhtslib/include' -I'F:/biocbuild/bbs-3.17-bioc/R/library/zlibbioc/include'   -I"c:/rtools42/x86_64-w64-mingw32.static.posix/include"     -O2 -Wall  -mfpmath=sse -msse2 -mstackrealign  -c readBfaToc.cc -o readBfaToc.o
g++ -std=gnu++11  -I"F:/biocbuild/bbs-3.17-bioc/R/library/zlibbioc/include" -I"F:/biocbuild/bbs-3.17-bioc/R/include" -DNDEBUG  -I'F:/biocbuild/bbs-3.17-bioc/R/library/S4Vectors/include' -I'F:/biocbuild/bbs-3.17-bioc/R/library/IRanges/include' -I'F:/biocbuild/bbs-3.17-bioc/R/library/XVector/include' -I'F:/biocbuild/bbs-3.17-bioc/R/library/Biostrings/include' -I'F:/biocbuild/bbs-3.17-bioc/R/library/Rhtslib/include' -I'F:/biocbuild/bbs-3.17-bioc/R/library/zlibbioc/include'   -I"c:/rtools42/x86_64-w64-mingw32.static.posix/include"     -O2 -Wall  -mfpmath=sse -msse2 -mstackrealign  -c read_maq_map.cc -o read_maq_map.o
In file included from read_maq_map.cc:13:
maqmap_m.h: In function 'maqmap_T<max_readlen>* maqmap_read_header(bioc_gzFile) [with int max_readlen = 128]':
maqmap_m.h:102:18: warning: pointer 'mm' used after 'void free(void*)' [-Wuse-after-free]
  102 |             error("MAQ format '%d' not supported", mm->format);
In function 'void maq_delete_maqmap(maqmap_T<max_readlen>*) [with int max_readlen = 128]',
    inlined from 'void maq_delete_maqmap(maqmap_T<max_readlen>*) [with int max_readlen = 128]' at maqmap_m.h:74:35,
    inlined from 'maqmap_T<max_readlen>* maqmap_read_header(bioc_gzFile) [with int max_readlen = 128]' at maqmap_m.h:101:30:
maqmap_m.h:84:14: note: call to 'void free(void*)' here
   84 |     std::free(mm);
      |     ~~~~~~~~~^~~~
maqmap_m.h: In function 'maqmap_T<max_readlen>* maqmap_read_header(bioc_gzFile) [with int max_readlen = 64]':
maqmap_m.h:102:18: warning: pointer 'mm' used after 'void free(void*)' [-Wuse-after-free]
  102 |             error("MAQ format '%d' not supported", mm->format);
In function 'void maq_delete_maqmap(maqmap_T<max_readlen>*) [with int max_readlen = 64]',
    inlined from 'void maq_delete_maqmap(maqmap_T<max_readlen>*) [with int max_readlen = 64]' at maqmap_m.h:74:35,
    inlined from 'maqmap_T<max_readlen>* maqmap_read_header(bioc_gzFile) [with int max_readlen = 64]' at maqmap_m.h:101:30:
maqmap_m.h:84:14: note: call to 'void free(void*)' here
   84 |     std::free(mm);
      |     ~~~~~~~~~^~~~
gcc  -I"F:/biocbuild/bbs-3.17-bioc/R/library/zlibbioc/include" -I"F:/biocbuild/bbs-3.17-bioc/R/include" -DNDEBUG  -I'F:/biocbuild/bbs-3.17-bioc/R/library/S4Vectors/include' -I'F:/biocbuild/bbs-3.17-bioc/R/library/IRanges/include' -I'F:/biocbuild/bbs-3.17-bioc/R/library/XVector/include' -I'F:/biocbuild/bbs-3.17-bioc/R/library/Biostrings/include' -I'F:/biocbuild/bbs-3.17-bioc/R/library/Rhtslib/include' -I'F:/biocbuild/bbs-3.17-bioc/R/library/zlibbioc/include'   -I"c:/rtools42/x86_64-w64-mingw32.static.posix/include"     -O2 -Wall  -std=gnu99 -mfpmath=sse -msse2 -mstackrealign  -c sampler.c -o sampler.o
gcc  -I"F:/biocbuild/bbs-3.17-bioc/R/library/zlibbioc/include" -I"F:/biocbuild/bbs-3.17-bioc/R/include" -DNDEBUG  -I'F:/biocbuild/bbs-3.17-bioc/R/library/S4Vectors/include' -I'F:/biocbuild/bbs-3.17-bioc/R/library/IRanges/include' -I'F:/biocbuild/bbs-3.17-bioc/R/library/XVector/include' -I'F:/biocbuild/bbs-3.17-bioc/R/library/Biostrings/include' -I'F:/biocbuild/bbs-3.17-bioc/R/library/Rhtslib/include' -I'F:/biocbuild/bbs-3.17-bioc/R/library/zlibbioc/include'   -I"c:/rtools42/x86_64-w64-mingw32.static.posix/include"     -O2 -Wall  -std=gnu99 -mfpmath=sse -msse2 -mstackrealign  -c trim.c -o trim.o
gcc  -I"F:/biocbuild/bbs-3.17-bioc/R/library/zlibbioc/include" -I"F:/biocbuild/bbs-3.17-bioc/R/include" -DNDEBUG  -I'F:/biocbuild/bbs-3.17-bioc/R/library/S4Vectors/include' -I'F:/biocbuild/bbs-3.17-bioc/R/library/IRanges/include' -I'F:/biocbuild/bbs-3.17-bioc/R/library/XVector/include' -I'F:/biocbuild/bbs-3.17-bioc/R/library/Biostrings/include' -I'F:/biocbuild/bbs-3.17-bioc/R/library/Rhtslib/include' -I'F:/biocbuild/bbs-3.17-bioc/R/library/zlibbioc/include'   -I"c:/rtools42/x86_64-w64-mingw32.static.posix/include"     -O2 -Wall  -std=gnu99 -mfpmath=sse -msse2 -mstackrealign  -c util.c -o util.o
gcc  -I"F:/biocbuild/bbs-3.17-bioc/R/library/zlibbioc/include" -I"F:/biocbuild/bbs-3.17-bioc/R/include" -DNDEBUG  -I'F:/biocbuild/bbs-3.17-bioc/R/library/S4Vectors/include' -I'F:/biocbuild/bbs-3.17-bioc/R/library/IRanges/include' -I'F:/biocbuild/bbs-3.17-bioc/R/library/XVector/include' -I'F:/biocbuild/bbs-3.17-bioc/R/library/Biostrings/include' -I'F:/biocbuild/bbs-3.17-bioc/R/library/Rhtslib/include' -I'F:/biocbuild/bbs-3.17-bioc/R/library/zlibbioc/include'   -I"c:/rtools42/x86_64-w64-mingw32.static.posix/include"     -O2 -Wall  -std=gnu99 -mfpmath=sse -msse2 -mstackrealign  -c xsnap.c -o xsnap.o
g++ -std=gnu++11 -shared -s -static-libgcc -o ShortRead.dll tmp.def Biostrings_stubs.o IRanges_stubs.o R_init_ShortRead.o S4Vectors_stubs.o XVector_stubs.o alphabet.o count.o io.o io_bowtie.o io_soap.o readBfaToc.o read_maq_map.o sampler.o trim.o util.o xsnap.o -LF:/biocbuild/bbs-3.17-bioc/R/library/zlibbioc/libs/x64 -lzlib1bioc -Lc:/rtools42/x86_64-w64-mingw32.static.posix/lib/x64 -Lc:/rtools42/x86_64-w64-mingw32.static.posix/lib -LF:/biocbuild/bbs-3.17-bioc/R/bin/x64 -lR
installing to F:/biocbuild/bbs-3.17-bioc-rtools43/meat/ShortRead.buildbin-libdir/00LOCK-ShortRead/00new/ShortRead/libs/x64
** R
** inst
** byte-compile and prepare package for lazy loading
** help
*** installing help indices
** building package indices
** installing vignettes
** testing if installed package can be loaded from temporary location
** testing if installed package can be loaded from final location
** testing if installed package keeps a record of temporary installation path
* MD5 sums
packaged installation of 'ShortRead' as ShortRead_1.57.1.zip
* DONE (ShortRead)