Back to Build/check report for BioC 3.17
ABCDEFGHIJKLM[N]OPQRSTUVWXYZ

This page was generated on 2023-01-02 09:00:41 -0500 (Mon, 02 Jan 2023).

HostnameOSArch (*)R versionInstalled pkgs
palomino5Windows Server 2022 Datacenterx64R Under development (unstable) (2022-12-25 r83502 ucrt) -- "Unsuffered Consequences" 4165
Click on any hostname to see more info about the system (e.g. compilers)      (*) as reported by 'uname -p', except on Windows and Mac OS X

BUILD results for nnNorm on palomino5


To the developers/maintainers of the nnNorm package:
Make sure to use the following settings in order to reproduce any error or warning you see on this page.

raw results

Package 1339/2158HostnameOS / ArchINSTALLBUILDCHECKBUILD BIN
nnNorm 2.63.0  (landing page)
Adi Laurentiu Tarca
Snapshot Date: 2022-12-28 11:00:06 -0500 (Wed, 28 Dec 2022)
git_url: https://git.bioconductor.org/packages/nnNorm
git_branch: master
git_last_commit: bd41ed7
git_last_commit_date: 2022-11-01 10:37:50 -0500 (Tue, 01 Nov 2022)
palomino5Windows Server 2022 Datacenter / x64  OK    OK    OK    OK  

Summary

Package: nnNorm
Version: 2.63.0
Command: chmod a+r nnNorm -R && F:\biocbuild\bbs-3.17-bioc\R\bin\R.exe CMD build --keep-empty-dirs --no-resave-data nnNorm
StartedAt: 2022-12-28 19:21:53 -0500 (Wed, 28 Dec 2022)
EndedAt: 2022-12-28 19:22:59 -0500 (Wed, 28 Dec 2022)
EllapsedTime: 66.7 seconds
RetCode: 0
Status:   OK  
PackageFile: nnNorm_2.63.0.tar.gz
PackageFileSize: 1.495 MiB

Command output

##############################################################################
##############################################################################
###
### Running command:
###
###   chmod a+r nnNorm -R && F:\biocbuild\bbs-3.17-bioc\R\bin\R.exe CMD build --keep-empty-dirs --no-resave-data nnNorm
###
##############################################################################
##############################################################################


* checking for file 'nnNorm/DESCRIPTION' ... OK
* preparing 'nnNorm':
* checking DESCRIPTION meta-information ... OK
* installing the package to build vignettes
* creating vignettes ... OK
* checking for LF line-endings in source and make files and shell scripts
* checking for empty or unneeded directories
* building 'nnNorm_2.63.0.tar.gz'