Back to Build/check report for BioC 3.17
ABCDEFGHIJKLMNO[P]QRSTUVWXYZ

This page was generated on 2023-01-02 09:00:43 -0500 (Mon, 02 Jan 2023).

HostnameOSArch (*)R versionInstalled pkgs
palomino5Windows Server 2022 Datacenterx64R Under development (unstable) (2022-12-25 r83502 ucrt) -- "Unsuffered Consequences" 4165
Click on any hostname to see more info about the system (e.g. compilers)      (*) as reported by 'uname -p', except on Windows and Mac OS X

INSTALL results for plier on palomino5


To the developers/maintainers of the plier package:
Make sure to use the following settings in order to reproduce any error or warning you see on this page.

raw results

Package 1480/2158HostnameOS / ArchINSTALLBUILDCHECKBUILD BIN
plier 1.69.0  (landing page)
Crispin Miller
Snapshot Date: 2022-12-28 11:00:06 -0500 (Wed, 28 Dec 2022)
git_url: https://git.bioconductor.org/packages/plier
git_branch: master
git_last_commit: 0e34d0e
git_last_commit_date: 2022-11-01 10:38:35 -0500 (Tue, 01 Nov 2022)
palomino5Windows Server 2022 Datacenter / x64  OK    OK    WARNINGS    OK  

Summary

Package: plier
Version: 1.69.0
Command: F:\biocbuild\bbs-3.17-bioc\R\bin\R.exe CMD INSTALL plier
StartedAt: 2022-12-28 15:30:45 -0500 (Wed, 28 Dec 2022)
EndedAt: 2022-12-28 15:30:58 -0500 (Wed, 28 Dec 2022)
EllapsedTime: 12.9 seconds
RetCode: 0
Status:   OK  

Command output

##############################################################################
##############################################################################
###
### Running command:
###
###   F:\biocbuild\bbs-3.17-bioc\R\bin\R.exe CMD INSTALL plier
###
##############################################################################
##############################################################################


* installing to library 'F:/biocbuild/bbs-3.17-bioc/R/library'
* installing *source* package 'plier' ...
** using staged installation
** libs
using C++ compiler: 'G__~1.EXE (GCC) 12.2.0'
g++ -std=gnu++11  -I"F:/biocbuild/bbs-3.17-bioc/R/include" -DNDEBUG     -I"c:/rtools42/x86_64-w64-mingw32.static.posix/include"     -O2 -Wall  -mfpmath=sse -msse2 -mstackrealign  -c affyplier.cpp -o affyplier.o
g++ -std=gnu++11  -I"F:/biocbuild/bbs-3.17-bioc/R/include" -DNDEBUG     -I"c:/rtools42/x86_64-w64-mingw32.static.posix/include"     -O2 -Wall  -mfpmath=sse -msse2 -mstackrealign  -c plier_impl.cpp -o plier_impl.o
g++ -std=gnu++11  -I"F:/biocbuild/bbs-3.17-bioc/R/include" -DNDEBUG     -I"c:/rtools42/x86_64-w64-mingw32.static.posix/include"     -O2 -Wall  -mfpmath=sse -msse2 -mstackrealign  -c plieralg.cpp -o plieralg.o
plieralg.cpp: In function 'long int NewtonPlier(plier_data*, double&)':
plieralg.cpp:905:21: warning: variable 'icount' set but not used [-Wunused-but-set-variable]
  905 |         long count, icount;
      |                     ^~~~~~
plieralg.cpp: At global scope:
plieralg.cpp:49:12: warning: 'g_ErrorCode' defined but not used [-Wunused-variable]
   49 | static int g_ErrorCode=NoError;
      |            ^~~~~~~~~~~
plieralg.cpp: In function 'long int NewtonPlier(plier_data*, double&)':
plieralg.cpp:1257:31: warning: 'LogLikelihood' may be used uninitialized [-Wmaybe-uninitialized]
 1257 |         output = LogLikelihood/nSize;
      |                  ~~~~~~~~~~~~~^~~~~~
plieralg.cpp:910:16: note: 'LogLikelihood' was declared here
  910 |         double LogLikelihood;
      |                ^~~~~~~~~~~~~
g++ -std=gnu++11  -I"F:/biocbuild/bbs-3.17-bioc/R/include" -DNDEBUG     -I"c:/rtools42/x86_64-w64-mingw32.static.posix/include"     -O2 -Wall  -mfpmath=sse -msse2 -mstackrealign  -c rwrapper.cpp -o rwrapper.o
rwrapper.cpp: In function 'void one_probeset(bool*, double*, double*, double*, double*, double*, double*, double*, double*, int*, double*, int*, bool*, bool*, bool*, double*, double*, int*, int*, int*, long int*, double*, double*, double*, double*, int*)':
rwrapper.cpp:192:12: warning: 'void operator delete(void*)' called on pointer returned from a mismatched allocation function [-Wmismatched-new-delete]
  192 |     delete pm_ptr;
      |            ^~~~~~
rwrapper.cpp:151:44: note: returned from 'void* operator new [](std::size_t)'
  151 |     double **pm_ptr = new double *[*num_exp];
      |                                            ^
rwrapper.cpp:193:12: warning: 'void operator delete(void*)' called on pointer returned from a mismatched allocation function [-Wmismatched-new-delete]
  193 |     delete mm_ptr;
      |            ^~~~~~
rwrapper.cpp:152:44: note: returned from 'void* operator new [](std::size_t)'
  152 |     double **mm_ptr = new double *[*num_exp];
      |                                            ^
rwrapper.cpp:194:12: warning: 'void operator delete(void*)' called on pointer returned from a mismatched allocation function [-Wmismatched-new-delete]
  194 |     delete rpct;
      |            ^~~~
rwrapper.cpp:159:39: note: returned from 'void* operator new [](std::size_t)'
  159 |     long    *rpct = new long [*num_exp]; /* the API expects a long array that it wants to delete itself (replicate). We have an int array that R owns so we need to create the long one here, but let the API handle the clean up. Which is nice. */
      |                                       ^
g++ -std=gnu++11 -shared -s -static-libgcc -o plier.dll tmp.def affyplier.o plier_impl.o plieralg.o rwrapper.o -Lc:/rtools42/x86_64-w64-mingw32.static.posix/lib/x64 -Lc:/rtools42/x86_64-w64-mingw32.static.posix/lib -LF:/biocbuild/bbs-3.17-bioc/R/bin/x64 -lR
installing to F:/biocbuild/bbs-3.17-bioc/R/library/00LOCK-plier/00new/plier/libs/x64
** R
** byte-compile and prepare package for lazy loading
** help
*** installing help indices
** building package indices
** testing if installed package can be loaded from temporary location
** testing if installed package can be loaded from final location
** testing if installed package keeps a record of temporary installation path
* DONE (plier)