Back to Multiple platform build/check report for BioC 3.20: simplified long |
|
This page was generated on 2025-02-03 12:09 -0500 (Mon, 03 Feb 2025).
Hostname | OS | Arch (*) | R version | Installed pkgs |
---|---|---|---|---|
nebbiolo2 | Linux (Ubuntu 24.04.1 LTS) | x86_64 | 4.4.2 (2024-10-31) -- "Pile of Leaves" | 4746 |
palomino8 | Windows Server 2022 Datacenter | x64 | 4.4.2 (2024-10-31 ucrt) -- "Pile of Leaves" | 4494 |
merida1 | macOS 12.7.5 Monterey | x86_64 | 4.4.2 (2024-10-31) -- "Pile of Leaves" | 4517 |
kjohnson1 | macOS 13.6.6 Ventura | arm64 | 4.4.2 (2024-10-31) -- "Pile of Leaves" | 4469 |
taishan | Linux (openEuler 24.03 LTS) | aarch64 | 4.4.2 (2024-10-31) -- "Pile of Leaves" | 4400 |
Click on any hostname to see more info about the system (e.g. compilers) (*) as reported by 'uname -p', except on Windows and Mac OS X |
Package 337/2289 | Hostname | OS / Arch | INSTALL | BUILD | CHECK | BUILD BIN | ||||||||
ChIPpeakAnno 3.40.0 (landing page) Jianhong Ou
| nebbiolo2 | Linux (Ubuntu 24.04.1 LTS) / x86_64 | OK | OK | OK | |||||||||
palomino8 | Windows Server 2022 Datacenter / x64 | OK | OK | OK | OK | |||||||||
merida1 | macOS 12.7.5 Monterey / x86_64 | OK | TIMEOUT | skipped | skipped | |||||||||
kjohnson1 | macOS 13.6.6 Ventura / arm64 | OK | OK | OK | OK | |||||||||
taishan | Linux (openEuler 24.03 LTS) / aarch64 | OK | OK | OK | ||||||||||
To the developers/maintainers of the ChIPpeakAnno package: - Allow up to 24 hours (and sometimes 48 hours) for your latest push to git@git.bioconductor.org:packages/ChIPpeakAnno.git to reflect on this report. See Troubleshooting Build Report for more information. - Use the following Renviron settings to reproduce errors and warnings. - If 'R CMD check' started to fail recently on the Linux builder(s) over a missing dependency, add the missing dependency to 'Suggests:' in your DESCRIPTION file. See Renviron.bioc for more information. |
Package: ChIPpeakAnno |
Version: 3.40.0 |
Command: /Library/Frameworks/R.framework/Resources/bin/R CMD check --install=check:ChIPpeakAnno.install-out.txt --library=/Library/Frameworks/R.framework/Resources/library --no-vignettes --timings ChIPpeakAnno_3.40.0.tar.gz |
StartedAt: 2025-01-31 14:08:34 -0500 (Fri, 31 Jan 2025) |
EndedAt: 2025-01-31 14:20:48 -0500 (Fri, 31 Jan 2025) |
EllapsedTime: 734.1 seconds |
RetCode: 0 |
Status: OK |
CheckDir: ChIPpeakAnno.Rcheck |
Warnings: 0 |
############################################################################## ############################################################################## ### ### Running command: ### ### /Library/Frameworks/R.framework/Resources/bin/R CMD check --install=check:ChIPpeakAnno.install-out.txt --library=/Library/Frameworks/R.framework/Resources/library --no-vignettes --timings ChIPpeakAnno_3.40.0.tar.gz ### ############################################################################## ############################################################################## * using log directory ‘/Users/biocbuild/bbs-3.20-bioc/meat/ChIPpeakAnno.Rcheck’ * using R version 4.4.2 (2024-10-31) * using platform: aarch64-apple-darwin20 * R was compiled by Apple clang version 14.0.0 (clang-1400.0.29.202) GNU Fortran (GCC) 12.2.0 * running under: macOS Ventura 13.7.1 * using session charset: UTF-8 * using option ‘--no-vignettes’ * checking for file ‘ChIPpeakAnno/DESCRIPTION’ ... OK * checking extension type ... Package * this is package ‘ChIPpeakAnno’ version ‘3.40.0’ * package encoding: UTF-8 * checking package namespace information ... OK * checking package dependencies ... OK * checking if this is a source package ... OK * checking if there is a namespace ... OK * checking for hidden files and directories ... OK * checking for portable file names ... OK * checking for sufficient/correct file permissions ... OK * checking whether package ‘ChIPpeakAnno’ can be installed ... OK * checking installed package size ... NOTE installed size is 21.1Mb sub-directories of 1Mb or more: R 1.0Mb data 12.6Mb extdata 7.2Mb * checking package directory ... OK * checking ‘build’ directory ... OK * checking DESCRIPTION meta-information ... OK * checking top-level files ... OK * checking for left-over files ... OK * checking index information ... OK * checking package subdirectories ... OK * checking code files for non-ASCII characters ... OK * checking R files for syntax errors ... OK * checking whether the package can be loaded ... OK * checking whether the package can be loaded with stated dependencies ... OK * checking whether the package can be unloaded cleanly ... OK * checking whether the namespace can be loaded with stated dependencies ... OK * checking whether the namespace can be unloaded cleanly ... OK * checking dependencies in R code ... OK * checking S3 generic/method consistency ... OK * checking replacement functions ... OK * checking foreign function calls ... OK * checking R code for possible problems ... OK * checking Rd files ... OK * checking Rd metadata ... OK * checking Rd cross-references ... OK * checking for missing documentation entries ... OK * checking for code/documentation mismatches ... OK * checking Rd \usage sections ... OK * checking Rd contents ... OK * checking for unstated dependencies in examples ... OK * checking contents of ‘data’ directory ... OK * checking data for non-ASCII characters ... OK * checking LazyData ... OK * checking data for ASCII and uncompressed saves ... OK * checking files in ‘vignettes’ ... OK * checking examples ... OK Examples with CPU (user + system) or elapsed time > 5s user system elapsed findEnhancers 24.640 0.579 25.335 annotatePeakInBatch 15.147 0.668 15.887 findMotifsInPromoterSeqs 14.957 0.292 15.367 summarizeOverlapsByBins 7.380 0.455 7.631 ExonPlusUtr.human.GRCh37 5.195 0.077 5.292 annoPeaks 3.460 0.294 6.472 * checking for unstated dependencies in ‘tests’ ... OK * checking tests ... Running ‘runTests.R’ OK * checking for unstated dependencies in vignettes ... OK * checking package vignettes ... OK * checking running R code from vignettes ... SKIPPED * checking re-building of vignette outputs ... SKIPPED * checking PDF version of manual ... OK * DONE Status: 1 NOTE See ‘/Users/biocbuild/bbs-3.20-bioc/meat/ChIPpeakAnno.Rcheck/00check.log’ for details.
ChIPpeakAnno.Rcheck/00install.out
############################################################################## ############################################################################## ### ### Running command: ### ### /Library/Frameworks/R.framework/Resources/bin/R CMD INSTALL ChIPpeakAnno ### ############################################################################## ############################################################################## * installing to library ‘/Library/Frameworks/R.framework/Versions/4.4-arm64/Resources/library’ * installing *source* package ‘ChIPpeakAnno’ ... ** using staged installation ** R ** data *** moving datasets to lazyload DB ** inst ** byte-compile and prepare package for lazy loading ** help *** installing help indices ** building package indices ** installing vignettes ** testing if installed package can be loaded from temporary location ** testing if installed package can be loaded from final location ** testing if installed package keeps a record of temporary installation path * DONE (ChIPpeakAnno)
ChIPpeakAnno.Rcheck/tests/runTests.Rout
R version 4.4.2 (2024-10-31) -- "Pile of Leaves" Copyright (C) 2024 The R Foundation for Statistical Computing Platform: aarch64-apple-darwin20 R is free software and comes with ABSOLUTELY NO WARRANTY. You are welcome to redistribute it under certain conditions. Type 'license()' or 'licence()' for distribution details. R is a collaborative project with many contributors. Type 'contributors()' for more information and 'citation()' on how to cite R or R packages in publications. Type 'demo()' for some demos, 'help()' for on-line help, or 'help.start()' for an HTML browser interface to help. Type 'q()' to quit R. > require("ChIPpeakAnno") || stop("unable to load Package:ChIPpeakAnno") Loading required package: ChIPpeakAnno Loading required package: IRanges Loading required package: BiocGenerics Attaching package: 'BiocGenerics' The following objects are masked from 'package:stats': IQR, mad, sd, var, xtabs The following objects are masked from 'package:base': Filter, Find, Map, Position, Reduce, anyDuplicated, aperm, append, as.data.frame, basename, cbind, colnames, dirname, do.call, duplicated, eval, evalq, get, grep, grepl, intersect, is.unsorted, lapply, mapply, match, mget, order, paste, pmax, pmax.int, pmin, pmin.int, rank, rbind, rownames, sapply, saveRDS, setdiff, table, tapply, union, unique, unsplit, which.max, which.min Loading required package: S4Vectors Loading required package: stats4 Attaching package: 'S4Vectors' The following object is masked from 'package:utils': findMatches The following objects are masked from 'package:base': I, expand.grid, unname Loading required package: GenomicRanges Loading required package: GenomeInfoDb [1] TRUE > require("BSgenome.Drerio.UCSC.danRer7") || stop("unable to load Package:BSgenome.Drerio.UCSC.danRer7") Loading required package: BSgenome.Drerio.UCSC.danRer7 Loading required package: BSgenome Loading required package: Biostrings Loading required package: XVector Attaching package: 'Biostrings' The following object is masked from 'package:base': strsplit Loading required package: BiocIO Loading required package: rtracklayer Attaching package: 'rtracklayer' The following object is masked from 'package:BiocIO': FileForFormat [1] TRUE > require("BSgenome.Hsapiens.UCSC.hg19") || stop("unable to load Package:BSgenome.Hsapiens.UCSC.hg19") Loading required package: BSgenome.Hsapiens.UCSC.hg19 [1] TRUE > require("org.Hs.eg.db") || stop("unable to load Package:org.Hs.eg.db") Loading required package: org.Hs.eg.db Loading required package: AnnotationDbi Loading required package: Biobase Welcome to Bioconductor Vignettes contain introductory material; view with 'browseVignettes()'. To cite Bioconductor, see 'citation("Biobase")', and for packages 'citation("pkgname")'. [1] TRUE > require("org.Ce.eg.db") || stop("unable to load Package:org.Ce.eg.db") Loading required package: org.Ce.eg.db [1] TRUE > require("BSgenome.Celegans.UCSC.ce10") || stop("unable to load Package:BSgenome.Celegans.UCSC.ce10") Loading required package: BSgenome.Celegans.UCSC.ce10 [1] TRUE > require("EnsDb.Hsapiens.v79") || stop("unable to load Package:EnsDb.Hsapiens.v79") Loading required package: EnsDb.Hsapiens.v79 Loading required package: ensembldb Loading required package: GenomicFeatures Loading required package: AnnotationFilter Attaching package: 'ensembldb' The following object is masked from 'package:stats': filter [1] TRUE > require("TxDb.Hsapiens.UCSC.hg38.knownGene") || stop("unable to load TxDb.Hsapiens.UCSC.hg38.knownGene") Loading required package: TxDb.Hsapiens.UCSC.hg38.knownGene [1] TRUE > require("biomaRt") || stop("unable to load biomaRt") Loading required package: biomaRt [1] TRUE > require("reactome.db") || stop("unable to load reactome.db") Loading required package: reactome.db [1] TRUE > require("testthat") || stop("unable to load testthat") Loading required package: testthat Attaching package: 'testthat' The following object is masked from 'package:AnnotationFilter': not [1] TRUE > test_check("ChIPpeakAnno") INFO [2025-01-31 14:20:18] $cat.cex INFO [2025-01-31 14:20:18] [1] 1 INFO [2025-01-31 14:20:18] INFO [2025-01-31 14:20:18] $cat.col INFO [2025-01-31 14:20:18] [1] "black" INFO [2025-01-31 14:20:18] INFO [2025-01-31 14:20:18] $cat.fontface INFO [2025-01-31 14:20:18] [1] "plain" INFO [2025-01-31 14:20:18] INFO [2025-01-31 14:20:18] $cat.fontfamily INFO [2025-01-31 14:20:18] [1] "serif" INFO [2025-01-31 14:20:18] INFO [2025-01-31 14:20:18] $x INFO [2025-01-31 14:20:18] $x$TF1 INFO [2025-01-31 14:20:18] [1] 3 4 5 INFO [2025-01-31 14:20:18] INFO [2025-01-31 14:20:18] $x$TF2 INFO [2025-01-31 14:20:18] [1] 1 2 3 4 5 INFO [2025-01-31 14:20:18] INFO [2025-01-31 14:20:18] INFO [2025-01-31 14:20:18] $disable.logging INFO [2025-01-31 14:20:18] [1] TRUE INFO [2025-01-31 14:20:18] INFO [2025-01-31 14:20:18] $filename INFO [2025-01-31 14:20:18] NULL INFO [2025-01-31 14:20:18] INFO [2025-01-31 14:20:18] $cat.cex INFO [2025-01-31 14:20:18] [1] 1 INFO [2025-01-31 14:20:18] INFO [2025-01-31 14:20:18] $cat.col INFO [2025-01-31 14:20:18] [1] "black" INFO [2025-01-31 14:20:18] INFO [2025-01-31 14:20:18] $cat.fontface INFO [2025-01-31 14:20:18] [1] "plain" INFO [2025-01-31 14:20:18] INFO [2025-01-31 14:20:18] $cat.fontfamily INFO [2025-01-31 14:20:18] [1] "serif" INFO [2025-01-31 14:20:18] INFO [2025-01-31 14:20:18] $x INFO [2025-01-31 14:20:18] $x$TF1 INFO [2025-01-31 14:20:18] [1] 3 4 5 INFO [2025-01-31 14:20:18] INFO [2025-01-31 14:20:18] $x$TF2 INFO [2025-01-31 14:20:18] [1] 1 2 4 5 INFO [2025-01-31 14:20:18] INFO [2025-01-31 14:20:18] $x$TF3 INFO [2025-01-31 14:20:18] [1] 3 4 5 INFO [2025-01-31 14:20:18] INFO [2025-01-31 14:20:18] $x$TF4 INFO [2025-01-31 14:20:18] [1] 1 2 4 5 INFO [2025-01-31 14:20:18] INFO [2025-01-31 14:20:18] INFO [2025-01-31 14:20:18] $disable.logging INFO [2025-01-31 14:20:18] [1] TRUE INFO [2025-01-31 14:20:18] INFO [2025-01-31 14:20:18] $filename INFO [2025-01-31 14:20:18] NULL INFO [2025-01-31 14:20:18] INFO [2025-01-31 14:20:19] $scaled INFO [2025-01-31 14:20:19] [1] FALSE INFO [2025-01-31 14:20:19] INFO [2025-01-31 14:20:19] $euler.d INFO [2025-01-31 14:20:19] [1] FALSE INFO [2025-01-31 14:20:19] INFO [2025-01-31 14:20:19] $cat.cex INFO [2025-01-31 14:20:19] [1] 1 INFO [2025-01-31 14:20:19] INFO [2025-01-31 14:20:19] $cat.col INFO [2025-01-31 14:20:19] [1] "black" INFO [2025-01-31 14:20:19] INFO [2025-01-31 14:20:19] $cat.fontface INFO [2025-01-31 14:20:19] [1] "plain" INFO [2025-01-31 14:20:19] INFO [2025-01-31 14:20:19] $cat.fontfamily INFO [2025-01-31 14:20:19] [1] "serif" INFO [2025-01-31 14:20:19] INFO [2025-01-31 14:20:19] $x INFO [2025-01-31 14:20:19] $x$TF1 INFO [2025-01-31 14:20:19] [1] 1 2 3 INFO [2025-01-31 14:20:19] INFO [2025-01-31 14:20:19] $x$TF2 INFO [2025-01-31 14:20:19] [1] 1 2 3 INFO [2025-01-31 14:20:19] INFO [2025-01-31 14:20:19] INFO [2025-01-31 14:20:19] $disable.logging INFO [2025-01-31 14:20:19] [1] TRUE INFO [2025-01-31 14:20:19] INFO [2025-01-31 14:20:19] $filename INFO [2025-01-31 14:20:19] NULL INFO [2025-01-31 14:20:19] INFO [2025-01-31 14:20:19] $scaled INFO [2025-01-31 14:20:19] [1] FALSE INFO [2025-01-31 14:20:19] INFO [2025-01-31 14:20:19] $euler.d INFO [2025-01-31 14:20:19] [1] FALSE INFO [2025-01-31 14:20:19] INFO [2025-01-31 14:20:19] $cat.cex INFO [2025-01-31 14:20:19] [1] 1 INFO [2025-01-31 14:20:19] INFO [2025-01-31 14:20:19] $cat.col INFO [2025-01-31 14:20:19] [1] "black" INFO [2025-01-31 14:20:19] INFO [2025-01-31 14:20:19] $cat.fontface INFO [2025-01-31 14:20:19] [1] "plain" INFO [2025-01-31 14:20:19] INFO [2025-01-31 14:20:19] $cat.fontfamily INFO [2025-01-31 14:20:19] [1] "serif" INFO [2025-01-31 14:20:19] INFO [2025-01-31 14:20:19] $x INFO [2025-01-31 14:20:19] $x$TF1 INFO [2025-01-31 14:20:19] [1] 4 5 6 INFO [2025-01-31 14:20:19] INFO [2025-01-31 14:20:19] $x$TF2 INFO [2025-01-31 14:20:19] [1] 1 2 3 INFO [2025-01-31 14:20:19] INFO [2025-01-31 14:20:19] INFO [2025-01-31 14:20:19] $disable.logging INFO [2025-01-31 14:20:19] [1] TRUE INFO [2025-01-31 14:20:19] INFO [2025-01-31 14:20:19] $filename INFO [2025-01-31 14:20:19] NULL INFO [2025-01-31 14:20:19] INFO [2025-01-31 14:20:19] $scaled INFO [2025-01-31 14:20:19] [1] FALSE INFO [2025-01-31 14:20:19] INFO [2025-01-31 14:20:19] $euler.d INFO [2025-01-31 14:20:19] [1] FALSE INFO [2025-01-31 14:20:19] INFO [2025-01-31 14:20:19] $cat.cex INFO [2025-01-31 14:20:19] [1] 1 INFO [2025-01-31 14:20:19] INFO [2025-01-31 14:20:19] $cat.col INFO [2025-01-31 14:20:19] [1] "black" INFO [2025-01-31 14:20:19] INFO [2025-01-31 14:20:19] $cat.fontface INFO [2025-01-31 14:20:19] [1] "plain" INFO [2025-01-31 14:20:19] INFO [2025-01-31 14:20:19] $cat.fontfamily INFO [2025-01-31 14:20:19] [1] "serif" INFO [2025-01-31 14:20:19] INFO [2025-01-31 14:20:19] $x INFO [2025-01-31 14:20:19] $x$TF1 INFO [2025-01-31 14:20:19] [1] 4 5 6 INFO [2025-01-31 14:20:19] INFO [2025-01-31 14:20:19] $x$TF2 INFO [2025-01-31 14:20:19] [1] 1 2 3 INFO [2025-01-31 14:20:19] INFO [2025-01-31 14:20:19] INFO [2025-01-31 14:20:19] $disable.logging INFO [2025-01-31 14:20:19] [1] TRUE INFO [2025-01-31 14:20:19] INFO [2025-01-31 14:20:19] $filename INFO [2025-01-31 14:20:19] NULL INFO [2025-01-31 14:20:19] INFO [2025-01-31 14:20:19] $scaled INFO [2025-01-31 14:20:19] [1] FALSE INFO [2025-01-31 14:20:19] INFO [2025-01-31 14:20:19] $euler.d INFO [2025-01-31 14:20:19] [1] FALSE INFO [2025-01-31 14:20:19] INFO [2025-01-31 14:20:19] $cat.cex INFO [2025-01-31 14:20:19] [1] 1 INFO [2025-01-31 14:20:19] INFO [2025-01-31 14:20:19] $cat.col INFO [2025-01-31 14:20:19] [1] "black" INFO [2025-01-31 14:20:19] INFO [2025-01-31 14:20:19] $cat.fontface INFO [2025-01-31 14:20:19] [1] "plain" INFO [2025-01-31 14:20:19] INFO [2025-01-31 14:20:19] $cat.fontfamily INFO [2025-01-31 14:20:19] [1] "serif" INFO [2025-01-31 14:20:19] INFO [2025-01-31 14:20:19] $x INFO [2025-01-31 14:20:19] $x$TF1 INFO [2025-01-31 14:20:19] [1] 4 5 6 INFO [2025-01-31 14:20:19] INFO [2025-01-31 14:20:19] $x$TF2 INFO [2025-01-31 14:20:19] [1] 1 2 3 INFO [2025-01-31 14:20:19] INFO [2025-01-31 14:20:19] $x$TF3 INFO [2025-01-31 14:20:19] [1] 2 3 6 INFO [2025-01-31 14:20:19] INFO [2025-01-31 14:20:19] INFO [2025-01-31 14:20:19] $disable.logging INFO [2025-01-31 14:20:19] [1] TRUE INFO [2025-01-31 14:20:19] INFO [2025-01-31 14:20:19] $filename INFO [2025-01-31 14:20:19] NULL INFO [2025-01-31 14:20:19] INFO [2025-01-31 14:20:20] $scaled INFO [2025-01-31 14:20:20] [1] FALSE INFO [2025-01-31 14:20:20] INFO [2025-01-31 14:20:20] $euler.d INFO [2025-01-31 14:20:20] [1] FALSE INFO [2025-01-31 14:20:20] INFO [2025-01-31 14:20:20] $cat.cex INFO [2025-01-31 14:20:20] [1] 1 INFO [2025-01-31 14:20:20] INFO [2025-01-31 14:20:20] $cat.col INFO [2025-01-31 14:20:20] [1] "black" INFO [2025-01-31 14:20:20] INFO [2025-01-31 14:20:20] $cat.fontface INFO [2025-01-31 14:20:20] [1] "plain" INFO [2025-01-31 14:20:20] INFO [2025-01-31 14:20:20] $cat.fontfamily INFO [2025-01-31 14:20:20] [1] "serif" INFO [2025-01-31 14:20:20] INFO [2025-01-31 14:20:20] $x INFO [2025-01-31 14:20:20] $x$TF1 INFO [2025-01-31 14:20:20] [1] 3 4 5 INFO [2025-01-31 14:20:20] INFO [2025-01-31 14:20:20] $x$TF2 INFO [2025-01-31 14:20:20] [1] 1 2 5 INFO [2025-01-31 14:20:20] INFO [2025-01-31 14:20:20] $x$TF3 INFO [2025-01-31 14:20:20] [1] 1 2 5 INFO [2025-01-31 14:20:20] INFO [2025-01-31 14:20:20] INFO [2025-01-31 14:20:20] $disable.logging INFO [2025-01-31 14:20:20] [1] TRUE INFO [2025-01-31 14:20:20] INFO [2025-01-31 14:20:20] $filename INFO [2025-01-31 14:20:20] NULL INFO [2025-01-31 14:20:20] INFO [2025-01-31 14:20:20] $scaled INFO [2025-01-31 14:20:20] [1] FALSE INFO [2025-01-31 14:20:20] INFO [2025-01-31 14:20:20] $euler.d INFO [2025-01-31 14:20:20] [1] FALSE INFO [2025-01-31 14:20:20] INFO [2025-01-31 14:20:20] $cat.cex INFO [2025-01-31 14:20:20] [1] 1 INFO [2025-01-31 14:20:20] INFO [2025-01-31 14:20:20] $cat.col INFO [2025-01-31 14:20:20] [1] "black" INFO [2025-01-31 14:20:20] INFO [2025-01-31 14:20:20] $cat.fontface INFO [2025-01-31 14:20:20] [1] "plain" INFO [2025-01-31 14:20:20] INFO [2025-01-31 14:20:20] $cat.fontfamily INFO [2025-01-31 14:20:20] [1] "serif" INFO [2025-01-31 14:20:20] INFO [2025-01-31 14:20:20] $x INFO [2025-01-31 14:20:20] $x$TF1 INFO [2025-01-31 14:20:20] [1] 3 4 5 INFO [2025-01-31 14:20:20] INFO [2025-01-31 14:20:20] $x$TF2 INFO [2025-01-31 14:20:20] [1] 1 2 5 INFO [2025-01-31 14:20:20] INFO [2025-01-31 14:20:20] $x$TF3 INFO [2025-01-31 14:20:20] [1] 1 2 5 INFO [2025-01-31 14:20:20] INFO [2025-01-31 14:20:20] $x$TF4 INFO [2025-01-31 14:20:20] [1] 1 2 5 INFO [2025-01-31 14:20:20] INFO [2025-01-31 14:20:20] INFO [2025-01-31 14:20:20] $disable.logging INFO [2025-01-31 14:20:20] [1] TRUE INFO [2025-01-31 14:20:20] INFO [2025-01-31 14:20:20] $filename INFO [2025-01-31 14:20:20] NULL INFO [2025-01-31 14:20:20] [ FAIL 0 | WARN 3 | SKIP 6 | PASS 320 ] ══ Skipped tests (6) ═══════════════════════════════════════════════════════════ • empty test (6): 'test_binOverGene.R:1:1', 'test_binOverRegions.R:1:1', 'test_enrichmentPlot.R:1:1', 'test_getAnnotation.R:1:1', 'test_reCenterPeaks.R:1:1', 'test_write2FASTA.R:1:1' [ FAIL 0 | WARN 3 | SKIP 6 | PASS 320 ] > > proc.time() user system elapsed 189.054 4.643 202.037
ChIPpeakAnno.Rcheck/ChIPpeakAnno-Ex.timings
name | user | system | elapsed | |
ChIPpeakAnno-package | 0.001 | 0.001 | 0.001 | |
ExonPlusUtr.human.GRCh37 | 5.195 | 0.077 | 5.292 | |
HOT.spots | 0.187 | 0.010 | 0.197 | |
IDRfilter | 0.001 | 0.000 | 0.001 | |
Peaks.Ste12.Replicate1 | 0.051 | 0.003 | 0.054 | |
Peaks.Ste12.Replicate2 | 0.015 | 0.003 | 0.018 | |
Peaks.Ste12.Replicate3 | 0.012 | 0.003 | 0.014 | |
TSS.human.GRCh37 | 0.270 | 0.015 | 0.285 | |
TSS.human.GRCh38 | 0.248 | 0.011 | 0.258 | |
TSS.human.NCBI36 | 0.177 | 0.009 | 0.207 | |
TSS.mouse.GRCm38 | 0.171 | 0.011 | 0.186 | |
TSS.mouse.NCBIM37 | 0.143 | 0.008 | 0.154 | |
TSS.rat.RGSC3.4 | 0.133 | 0.008 | 0.148 | |
TSS.rat.Rnor_5.0 | 0.111 | 0.006 | 0.118 | |
TSS.zebrafish.Zv8 | 0.121 | 0.007 | 0.128 | |
TSS.zebrafish.Zv9 | 0.145 | 0.008 | 0.154 | |
addAncestors | 1.372 | 0.054 | 1.429 | |
addGeneIDs | 2.549 | 0.625 | 3.213 | |
addMetadata | 1.676 | 0.056 | 1.748 | |
annoGR | 0 | 0 | 0 | |
annoPeaks | 3.460 | 0.294 | 6.472 | |
annotatePeakInBatch | 15.147 | 0.668 | 15.887 | |
annotatedPeak | 0.093 | 0.006 | 0.099 | |
assignChromosomeRegion | 0.002 | 0.001 | 0.002 | |
bdp | 0.001 | 0.000 | 0.000 | |
binOverFeature | 0.822 | 0.028 | 0.855 | |
binOverGene | 0.001 | 0.000 | 0.001 | |
binOverRegions | 0.001 | 0.000 | 0.001 | |
condenseMatrixByColnames | 0.01 | 0.00 | 0.01 | |
convert2EntrezID | 0.573 | 0.013 | 0.586 | |
countPatternInSeqs | 0.191 | 0.008 | 0.224 | |
cumulativePercentage | 0.000 | 0.000 | 0.001 | |
downstreams | 0.022 | 0.001 | 0.024 | |
egOrgMap | 0.001 | 0.000 | 0.001 | |
enrichedGO | 0.003 | 0.002 | 0.006 | |
enrichmentPlot | 0.534 | 0.012 | 0.552 | |
estFragmentLength | 0.001 | 0.000 | 0.001 | |
estLibSize | 0.000 | 0.001 | 0.000 | |
featureAlignedDistribution | 0.249 | 0.003 | 0.253 | |
featureAlignedExtendSignal | 0.002 | 0.000 | 0.003 | |
featureAlignedHeatmap | 0.347 | 0.004 | 0.352 | |
featureAlignedSignal | 0.188 | 0.044 | 0.233 | |
findEnhancers | 24.640 | 0.579 | 25.335 | |
findMotifsInPromoterSeqs | 14.957 | 0.292 | 15.367 | |
findOverlappingPeaks | 0.001 | 0.000 | 0.002 | |
findOverlapsOfPeaks | 1.933 | 0.025 | 1.964 | |
genomicElementDistribution | 0.002 | 0.001 | 0.003 | |
genomicElementUpSetR | 0.001 | 0.001 | 0.001 | |
getAllPeakSequence | 0.650 | 0.025 | 0.684 | |
getAnnotation | 0.001 | 0.001 | 0.003 | |
getEnrichedGO | 0.011 | 0.006 | 0.017 | |
getEnrichedPATH | 0.001 | 0.000 | 0.001 | |
getGO | 0.001 | 0.001 | 0.001 | |
getGeneSeq | 0.002 | 0.001 | 0.003 | |
getUniqueGOidCount | 0.001 | 0.000 | 0.002 | |
getVennCounts | 0.002 | 0.001 | 0.002 | |
hyperGtest | 0.001 | 0.000 | 0.002 | |
makeVennDiagram | 0.004 | 0.000 | 0.004 | |
mergePlusMinusPeaks | 0.001 | 0.001 | 0.002 | |
metagenePlot | 2.421 | 0.077 | 2.529 | |
myPeakList | 0.028 | 0.003 | 0.030 | |
oligoFrequency | 0.120 | 0.007 | 0.130 | |
oligoSummary | 0.001 | 0.000 | 0.001 | |
peakPermTest | 0.003 | 0.001 | 0.002 | |
peaks1 | 0.008 | 0.002 | 0.011 | |
peaks2 | 0.008 | 0.002 | 0.010 | |
peaks3 | 0.009 | 0.002 | 0.012 | |
peaksNearBDP | 0.001 | 0.000 | 0.001 | |
pie1 | 0.006 | 0.001 | 0.006 | |
plotBinOverRegions | 0.001 | 0.000 | 0.001 | |
preparePool | 0.000 | 0.000 | 0.001 | |
reCenterPeaks | 0.026 | 0.000 | 0.027 | |
summarizeOverlapsByBins | 7.380 | 0.455 | 7.631 | |
summarizePatternInPeaks | 1.442 | 0.366 | 1.822 | |
tileCount | 0.373 | 0.438 | 0.508 | |
tileGRanges | 0.035 | 0.013 | 0.048 | |
toGRanges | 0.085 | 0.024 | 0.109 | |
translatePattern | 0.001 | 0.000 | 0.001 | |
wgEncodeTfbsV3 | 0.339 | 0.031 | 0.372 | |
write2FASTA | 0.015 | 0.007 | 0.023 | |
xget | 0.138 | 0.022 | 0.162 | |