Back to Multiple platform build/check report for BioC 3.20:   simplified   long
AB[C]DEFGHIJKLMNOPQRSTUVWXYZ

This page was generated on 2025-02-03 12:04 -0500 (Mon, 03 Feb 2025).

HostnameOSArch (*)R versionInstalled pkgs
nebbiolo2Linux (Ubuntu 24.04.1 LTS)x86_644.4.2 (2024-10-31) -- "Pile of Leaves" 4746
palomino8Windows Server 2022 Datacenterx644.4.2 (2024-10-31 ucrt) -- "Pile of Leaves" 4494
merida1macOS 12.7.5 Montereyx86_644.4.2 (2024-10-31) -- "Pile of Leaves" 4517
kjohnson1macOS 13.6.6 Venturaarm644.4.2 (2024-10-31) -- "Pile of Leaves" 4469
taishanLinux (openEuler 24.03 LTS)aarch644.4.2 (2024-10-31) -- "Pile of Leaves" 4400
Click on any hostname to see more info about the system (e.g. compilers)      (*) as reported by 'uname -p', except on Windows and Mac OS X

Package 337/2289HostnameOS / ArchINSTALLBUILDCHECKBUILD BIN
ChIPpeakAnno 3.40.0  (landing page)
Jianhong Ou
Snapshot Date: 2025-01-30 13:00 -0500 (Thu, 30 Jan 2025)
git_url: https://git.bioconductor.org/packages/ChIPpeakAnno
git_branch: RELEASE_3_20
git_last_commit: faf2e4f
git_last_commit_date: 2024-10-29 09:32:01 -0500 (Tue, 29 Oct 2024)
nebbiolo2Linux (Ubuntu 24.04.1 LTS) / x86_64  OK    OK    OK  UNNEEDED, same version is already published
palomino8Windows Server 2022 Datacenter / x64  OK    OK    OK    OK  UNNEEDED, same version is already published
merida1macOS 12.7.5 Monterey / x86_64  OK    TIMEOUT  skippedskipped
kjohnson1macOS 13.6.6 Ventura / arm64  OK    OK    OK    OK  UNNEEDED, same version is already published
taishanLinux (openEuler 24.03 LTS) / aarch64  OK    OK    OK  


CHECK results for ChIPpeakAnno on nebbiolo2

To the developers/maintainers of the ChIPpeakAnno package:
- Allow up to 24 hours (and sometimes 48 hours) for your latest push to git@git.bioconductor.org:packages/ChIPpeakAnno.git to reflect on this report. See Troubleshooting Build Report for more information.
- Use the following Renviron settings to reproduce errors and warnings.
- If 'R CMD check' started to fail recently on the Linux builder(s) over a missing dependency, add the missing dependency to 'Suggests:' in your DESCRIPTION file. See Renviron.bioc for more information.

raw results


Summary

Package: ChIPpeakAnno
Version: 3.40.0
Command: /home/biocbuild/bbs-3.20-bioc/R/bin/R CMD check --install=check:ChIPpeakAnno.install-out.txt --library=/home/biocbuild/bbs-3.20-bioc/R/site-library --timings ChIPpeakAnno_3.40.0.tar.gz
StartedAt: 2025-01-30 20:45:39 -0500 (Thu, 30 Jan 2025)
EndedAt: 2025-01-30 21:09:38 -0500 (Thu, 30 Jan 2025)
EllapsedTime: 1438.5 seconds
RetCode: 0
Status:   OK  
CheckDir: ChIPpeakAnno.Rcheck
Warnings: 0

Command output

##############################################################################
##############################################################################
###
### Running command:
###
###   /home/biocbuild/bbs-3.20-bioc/R/bin/R CMD check --install=check:ChIPpeakAnno.install-out.txt --library=/home/biocbuild/bbs-3.20-bioc/R/site-library --timings ChIPpeakAnno_3.40.0.tar.gz
###
##############################################################################
##############################################################################


* using log directory ‘/home/biocbuild/bbs-3.20-bioc/meat/ChIPpeakAnno.Rcheck’
* using R version 4.4.2 (2024-10-31)
* using platform: x86_64-pc-linux-gnu
* R was compiled by
    gcc (Ubuntu 13.2.0-23ubuntu4) 13.2.0
    GNU Fortran (Ubuntu 13.2.0-23ubuntu4) 13.2.0
* running under: Ubuntu 24.04.1 LTS
* using session charset: UTF-8
* checking for file ‘ChIPpeakAnno/DESCRIPTION’ ... OK
* checking extension type ... Package
* this is package ‘ChIPpeakAnno’ version ‘3.40.0’
* package encoding: UTF-8
* checking package namespace information ... OK
* checking package dependencies ... OK
* checking if this is a source package ... OK
* checking if there is a namespace ... OK
* checking for hidden files and directories ... OK
* checking for portable file names ... OK
* checking for sufficient/correct file permissions ... OK
* checking whether package ‘ChIPpeakAnno’ can be installed ... OK
* checking installed package size ... NOTE
  installed size is 21.1Mb
  sub-directories of 1Mb or more:
    R         1.0Mb
    data     12.6Mb
    extdata   7.2Mb
* checking package directory ... OK
* checking ‘build’ directory ... OK
* checking DESCRIPTION meta-information ... OK
* checking top-level files ... OK
* checking for left-over files ... OK
* checking index information ... OK
* checking package subdirectories ... OK
* checking code files for non-ASCII characters ... OK
* checking R files for syntax errors ... OK
* checking whether the package can be loaded ... OK
* checking whether the package can be loaded with stated dependencies ... OK
* checking whether the package can be unloaded cleanly ... OK
* checking whether the namespace can be loaded with stated dependencies ... OK
* checking whether the namespace can be unloaded cleanly ... OK
* checking loading without being on the library search path ... OK
* checking dependencies in R code ... OK
* checking S3 generic/method consistency ... OK
* checking replacement functions ... OK
* checking foreign function calls ... OK
* checking R code for possible problems ... OK
* checking Rd files ... OK
* checking Rd metadata ... OK
* checking Rd cross-references ... OK
* checking for missing documentation entries ... OK
* checking for code/documentation mismatches ... OK
* checking Rd \usage sections ... OK
* checking Rd contents ... OK
* checking for unstated dependencies in examples ... OK
* checking contents of ‘data’ directory ... OK
* checking data for non-ASCII characters ... OK
* checking LazyData ... OK
* checking data for ASCII and uncompressed saves ... OK
* checking files in ‘vignettes’ ... OK
* checking examples ... OK
Examples with CPU (user + system) or elapsed time > 5s
                           user system elapsed
findEnhancers            22.072  0.345  22.419
annotatePeakInBatch      12.467  0.794  13.265
findMotifsInPromoterSeqs 12.610  0.216  12.832
summarizeOverlapsByBins   5.527  0.440   5.693
* checking for unstated dependencies in ‘tests’ ... OK
* checking tests ...
  Running ‘runTests.R’
 OK
* checking for unstated dependencies in vignettes ... OK
* checking package vignettes ... OK
* checking re-building of vignette outputs ... OK
* checking PDF version of manual ... OK
* DONE

Status: 1 NOTE
See
  ‘/home/biocbuild/bbs-3.20-bioc/meat/ChIPpeakAnno.Rcheck/00check.log’
for details.


Installation output

ChIPpeakAnno.Rcheck/00install.out

##############################################################################
##############################################################################
###
### Running command:
###
###   /home/biocbuild/bbs-3.20-bioc/R/bin/R CMD INSTALL ChIPpeakAnno
###
##############################################################################
##############################################################################


* installing to library ‘/home/biocbuild/bbs-3.20-bioc/R/site-library’
* installing *source* package ‘ChIPpeakAnno’ ...
** using staged installation
** R
** data
*** moving datasets to lazyload DB
** inst
** byte-compile and prepare package for lazy loading
** help
*** installing help indices
** building package indices
** installing vignettes
** testing if installed package can be loaded from temporary location
** testing if installed package can be loaded from final location
** testing if installed package keeps a record of temporary installation path
* DONE (ChIPpeakAnno)

Tests output

ChIPpeakAnno.Rcheck/tests/runTests.Rout


R version 4.4.2 (2024-10-31) -- "Pile of Leaves"
Copyright (C) 2024 The R Foundation for Statistical Computing
Platform: x86_64-pc-linux-gnu

R is free software and comes with ABSOLUTELY NO WARRANTY.
You are welcome to redistribute it under certain conditions.
Type 'license()' or 'licence()' for distribution details.

R is a collaborative project with many contributors.
Type 'contributors()' for more information and
'citation()' on how to cite R or R packages in publications.

Type 'demo()' for some demos, 'help()' for on-line help, or
'help.start()' for an HTML browser interface to help.
Type 'q()' to quit R.

> require("ChIPpeakAnno") || stop("unable to load Package:ChIPpeakAnno")
Loading required package: ChIPpeakAnno
Loading required package: IRanges
Loading required package: BiocGenerics

Attaching package: 'BiocGenerics'

The following objects are masked from 'package:stats':

    IQR, mad, sd, var, xtabs

The following objects are masked from 'package:base':

    Filter, Find, Map, Position, Reduce, anyDuplicated, aperm, append,
    as.data.frame, basename, cbind, colnames, dirname, do.call,
    duplicated, eval, evalq, get, grep, grepl, intersect, is.unsorted,
    lapply, mapply, match, mget, order, paste, pmax, pmax.int, pmin,
    pmin.int, rank, rbind, rownames, sapply, saveRDS, setdiff, table,
    tapply, union, unique, unsplit, which.max, which.min

Loading required package: S4Vectors
Loading required package: stats4

Attaching package: 'S4Vectors'

The following object is masked from 'package:utils':

    findMatches

The following objects are masked from 'package:base':

    I, expand.grid, unname

Loading required package: GenomicRanges
Loading required package: GenomeInfoDb
[1] TRUE
> require("BSgenome.Drerio.UCSC.danRer7") || stop("unable to load Package:BSgenome.Drerio.UCSC.danRer7")
Loading required package: BSgenome.Drerio.UCSC.danRer7
Loading required package: BSgenome
Loading required package: Biostrings
Loading required package: XVector

Attaching package: 'Biostrings'

The following object is masked from 'package:base':

    strsplit

Loading required package: BiocIO
Loading required package: rtracklayer

Attaching package: 'rtracklayer'

The following object is masked from 'package:BiocIO':

    FileForFormat

[1] TRUE
> require("BSgenome.Hsapiens.UCSC.hg19") || stop("unable to load Package:BSgenome.Hsapiens.UCSC.hg19")
Loading required package: BSgenome.Hsapiens.UCSC.hg19
[1] TRUE
> require("org.Hs.eg.db") || stop("unable to load Package:org.Hs.eg.db")
Loading required package: org.Hs.eg.db
Loading required package: AnnotationDbi
Loading required package: Biobase
Welcome to Bioconductor

    Vignettes contain introductory material; view with
    'browseVignettes()'. To cite Bioconductor, see
    'citation("Biobase")', and for packages 'citation("pkgname")'.


[1] TRUE
> require("org.Ce.eg.db") || stop("unable to load Package:org.Ce.eg.db")
Loading required package: org.Ce.eg.db

[1] TRUE
> require("BSgenome.Celegans.UCSC.ce10") || stop("unable to load Package:BSgenome.Celegans.UCSC.ce10")
Loading required package: BSgenome.Celegans.UCSC.ce10
[1] TRUE
> require("EnsDb.Hsapiens.v79") || stop("unable to load Package:EnsDb.Hsapiens.v79")
Loading required package: EnsDb.Hsapiens.v79
Loading required package: ensembldb
Loading required package: GenomicFeatures
Loading required package: AnnotationFilter

Attaching package: 'ensembldb'

The following object is masked from 'package:stats':

    filter

[1] TRUE
> require("TxDb.Hsapiens.UCSC.hg38.knownGene") || stop("unable to load TxDb.Hsapiens.UCSC.hg38.knownGene")
Loading required package: TxDb.Hsapiens.UCSC.hg38.knownGene
[1] TRUE
> require("biomaRt") || stop("unable to load biomaRt")
Loading required package: biomaRt
[1] TRUE
> require("reactome.db") || stop("unable to load reactome.db")
Loading required package: reactome.db
[1] TRUE
> require("testthat") || stop("unable to load testthat")
Loading required package: testthat

Attaching package: 'testthat'

The following object is masked from 'package:AnnotationFilter':

    not

[1] TRUE
> test_check("ChIPpeakAnno")
INFO [2025-01-30 20:54:52] $cat.cex
INFO [2025-01-30 20:54:52] [1] 1
INFO [2025-01-30 20:54:52] 
INFO [2025-01-30 20:54:52] $cat.col
INFO [2025-01-30 20:54:52] [1] "black"
INFO [2025-01-30 20:54:52] 
INFO [2025-01-30 20:54:52] $cat.fontface
INFO [2025-01-30 20:54:52] [1] "plain"
INFO [2025-01-30 20:54:52] 
INFO [2025-01-30 20:54:52] $cat.fontfamily
INFO [2025-01-30 20:54:52] [1] "serif"
INFO [2025-01-30 20:54:52] 
INFO [2025-01-30 20:54:52] $x
INFO [2025-01-30 20:54:52] $x$TF1
INFO [2025-01-30 20:54:52] [1] 3 4 5
INFO [2025-01-30 20:54:52] 
INFO [2025-01-30 20:54:52] $x$TF2
INFO [2025-01-30 20:54:52] [1] 1 2 3 4 5
INFO [2025-01-30 20:54:52] 
INFO [2025-01-30 20:54:52] 
INFO [2025-01-30 20:54:52] $disable.logging
INFO [2025-01-30 20:54:52] [1] TRUE
INFO [2025-01-30 20:54:52] 
INFO [2025-01-30 20:54:52] $filename
INFO [2025-01-30 20:54:52] NULL
INFO [2025-01-30 20:54:52] 
INFO [2025-01-30 20:54:53] $cat.cex
INFO [2025-01-30 20:54:53] [1] 1
INFO [2025-01-30 20:54:53] 
INFO [2025-01-30 20:54:53] $cat.col
INFO [2025-01-30 20:54:53] [1] "black"
INFO [2025-01-30 20:54:53] 
INFO [2025-01-30 20:54:53] $cat.fontface
INFO [2025-01-30 20:54:53] [1] "plain"
INFO [2025-01-30 20:54:53] 
INFO [2025-01-30 20:54:53] $cat.fontfamily
INFO [2025-01-30 20:54:53] [1] "serif"
INFO [2025-01-30 20:54:53] 
INFO [2025-01-30 20:54:53] $x
INFO [2025-01-30 20:54:53] $x$TF1
INFO [2025-01-30 20:54:53] [1] 3 4 5
INFO [2025-01-30 20:54:53] 
INFO [2025-01-30 20:54:53] $x$TF2
INFO [2025-01-30 20:54:53] [1] 1 2 4 5
INFO [2025-01-30 20:54:53] 
INFO [2025-01-30 20:54:53] $x$TF3
INFO [2025-01-30 20:54:53] [1] 3 4 5
INFO [2025-01-30 20:54:53] 
INFO [2025-01-30 20:54:53] $x$TF4
INFO [2025-01-30 20:54:53] [1] 1 2 4 5
INFO [2025-01-30 20:54:53] 
INFO [2025-01-30 20:54:53] 
INFO [2025-01-30 20:54:53] $disable.logging
INFO [2025-01-30 20:54:53] [1] TRUE
INFO [2025-01-30 20:54:53] 
INFO [2025-01-30 20:54:53] $filename
INFO [2025-01-30 20:54:53] NULL
INFO [2025-01-30 20:54:53] 
INFO [2025-01-30 20:54:53] $scaled
INFO [2025-01-30 20:54:53] [1] FALSE
INFO [2025-01-30 20:54:53] 
INFO [2025-01-30 20:54:53] $euler.d
INFO [2025-01-30 20:54:53] [1] FALSE
INFO [2025-01-30 20:54:53] 
INFO [2025-01-30 20:54:53] $cat.cex
INFO [2025-01-30 20:54:53] [1] 1
INFO [2025-01-30 20:54:53] 
INFO [2025-01-30 20:54:53] $cat.col
INFO [2025-01-30 20:54:53] [1] "black"
INFO [2025-01-30 20:54:53] 
INFO [2025-01-30 20:54:53] $cat.fontface
INFO [2025-01-30 20:54:53] [1] "plain"
INFO [2025-01-30 20:54:53] 
INFO [2025-01-30 20:54:53] $cat.fontfamily
INFO [2025-01-30 20:54:53] [1] "serif"
INFO [2025-01-30 20:54:53] 
INFO [2025-01-30 20:54:53] $x
INFO [2025-01-30 20:54:53] $x$TF1
INFO [2025-01-30 20:54:53] [1] 1 2 3
INFO [2025-01-30 20:54:53] 
INFO [2025-01-30 20:54:53] $x$TF2
INFO [2025-01-30 20:54:53] [1] 1 2 3
INFO [2025-01-30 20:54:53] 
INFO [2025-01-30 20:54:53] 
INFO [2025-01-30 20:54:53] $disable.logging
INFO [2025-01-30 20:54:53] [1] TRUE
INFO [2025-01-30 20:54:53] 
INFO [2025-01-30 20:54:53] $filename
INFO [2025-01-30 20:54:53] NULL
INFO [2025-01-30 20:54:53] 
INFO [2025-01-30 20:54:53] $scaled
INFO [2025-01-30 20:54:53] [1] FALSE
INFO [2025-01-30 20:54:53] 
INFO [2025-01-30 20:54:53] $euler.d
INFO [2025-01-30 20:54:53] [1] FALSE
INFO [2025-01-30 20:54:53] 
INFO [2025-01-30 20:54:53] $cat.cex
INFO [2025-01-30 20:54:53] [1] 1
INFO [2025-01-30 20:54:53] 
INFO [2025-01-30 20:54:53] $cat.col
INFO [2025-01-30 20:54:53] [1] "black"
INFO [2025-01-30 20:54:53] 
INFO [2025-01-30 20:54:53] $cat.fontface
INFO [2025-01-30 20:54:53] [1] "plain"
INFO [2025-01-30 20:54:53] 
INFO [2025-01-30 20:54:53] $cat.fontfamily
INFO [2025-01-30 20:54:53] [1] "serif"
INFO [2025-01-30 20:54:53] 
INFO [2025-01-30 20:54:53] $x
INFO [2025-01-30 20:54:53] $x$TF1
INFO [2025-01-30 20:54:53] [1] 4 5 6
INFO [2025-01-30 20:54:53] 
INFO [2025-01-30 20:54:53] $x$TF2
INFO [2025-01-30 20:54:53] [1] 1 2 3
INFO [2025-01-30 20:54:53] 
INFO [2025-01-30 20:54:53] 
INFO [2025-01-30 20:54:53] $disable.logging
INFO [2025-01-30 20:54:53] [1] TRUE
INFO [2025-01-30 20:54:53] 
INFO [2025-01-30 20:54:53] $filename
INFO [2025-01-30 20:54:53] NULL
INFO [2025-01-30 20:54:53] 
INFO [2025-01-30 20:54:54] $scaled
INFO [2025-01-30 20:54:54] [1] FALSE
INFO [2025-01-30 20:54:54] 
INFO [2025-01-30 20:54:54] $euler.d
INFO [2025-01-30 20:54:54] [1] FALSE
INFO [2025-01-30 20:54:54] 
INFO [2025-01-30 20:54:54] $cat.cex
INFO [2025-01-30 20:54:54] [1] 1
INFO [2025-01-30 20:54:54] 
INFO [2025-01-30 20:54:54] $cat.col
INFO [2025-01-30 20:54:54] [1] "black"
INFO [2025-01-30 20:54:54] 
INFO [2025-01-30 20:54:54] $cat.fontface
INFO [2025-01-30 20:54:54] [1] "plain"
INFO [2025-01-30 20:54:54] 
INFO [2025-01-30 20:54:54] $cat.fontfamily
INFO [2025-01-30 20:54:54] [1] "serif"
INFO [2025-01-30 20:54:54] 
INFO [2025-01-30 20:54:54] $x
INFO [2025-01-30 20:54:54] $x$TF1
INFO [2025-01-30 20:54:54] [1] 4 5 6
INFO [2025-01-30 20:54:54] 
INFO [2025-01-30 20:54:54] $x$TF2
INFO [2025-01-30 20:54:54] [1] 1 2 3
INFO [2025-01-30 20:54:54] 
INFO [2025-01-30 20:54:54] 
INFO [2025-01-30 20:54:54] $disable.logging
INFO [2025-01-30 20:54:54] [1] TRUE
INFO [2025-01-30 20:54:54] 
INFO [2025-01-30 20:54:54] $filename
INFO [2025-01-30 20:54:54] NULL
INFO [2025-01-30 20:54:54] 
INFO [2025-01-30 20:54:54] $scaled
INFO [2025-01-30 20:54:54] [1] FALSE
INFO [2025-01-30 20:54:54] 
INFO [2025-01-30 20:54:54] $euler.d
INFO [2025-01-30 20:54:54] [1] FALSE
INFO [2025-01-30 20:54:54] 
INFO [2025-01-30 20:54:54] $cat.cex
INFO [2025-01-30 20:54:54] [1] 1
INFO [2025-01-30 20:54:54] 
INFO [2025-01-30 20:54:54] $cat.col
INFO [2025-01-30 20:54:54] [1] "black"
INFO [2025-01-30 20:54:54] 
INFO [2025-01-30 20:54:54] $cat.fontface
INFO [2025-01-30 20:54:54] [1] "plain"
INFO [2025-01-30 20:54:54] 
INFO [2025-01-30 20:54:54] $cat.fontfamily
INFO [2025-01-30 20:54:54] [1] "serif"
INFO [2025-01-30 20:54:54] 
INFO [2025-01-30 20:54:54] $x
INFO [2025-01-30 20:54:54] $x$TF1
INFO [2025-01-30 20:54:54] [1] 4 5 6
INFO [2025-01-30 20:54:54] 
INFO [2025-01-30 20:54:54] $x$TF2
INFO [2025-01-30 20:54:54] [1] 1 2 3
INFO [2025-01-30 20:54:54] 
INFO [2025-01-30 20:54:54] $x$TF3
INFO [2025-01-30 20:54:54] [1] 2 3 6
INFO [2025-01-30 20:54:54] 
INFO [2025-01-30 20:54:54] 
INFO [2025-01-30 20:54:54] $disable.logging
INFO [2025-01-30 20:54:54] [1] TRUE
INFO [2025-01-30 20:54:54] 
INFO [2025-01-30 20:54:54] $filename
INFO [2025-01-30 20:54:54] NULL
INFO [2025-01-30 20:54:54] 
INFO [2025-01-30 20:54:54] $scaled
INFO [2025-01-30 20:54:54] [1] FALSE
INFO [2025-01-30 20:54:54] 
INFO [2025-01-30 20:54:54] $euler.d
INFO [2025-01-30 20:54:54] [1] FALSE
INFO [2025-01-30 20:54:54] 
INFO [2025-01-30 20:54:54] $cat.cex
INFO [2025-01-30 20:54:54] [1] 1
INFO [2025-01-30 20:54:54] 
INFO [2025-01-30 20:54:54] $cat.col
INFO [2025-01-30 20:54:54] [1] "black"
INFO [2025-01-30 20:54:54] 
INFO [2025-01-30 20:54:54] $cat.fontface
INFO [2025-01-30 20:54:54] [1] "plain"
INFO [2025-01-30 20:54:54] 
INFO [2025-01-30 20:54:54] $cat.fontfamily
INFO [2025-01-30 20:54:54] [1] "serif"
INFO [2025-01-30 20:54:54] 
INFO [2025-01-30 20:54:54] $x
INFO [2025-01-30 20:54:54] $x$TF1
INFO [2025-01-30 20:54:54] [1] 3 4 5
INFO [2025-01-30 20:54:54] 
INFO [2025-01-30 20:54:54] $x$TF2
INFO [2025-01-30 20:54:54] [1] 1 2 5
INFO [2025-01-30 20:54:54] 
INFO [2025-01-30 20:54:54] $x$TF3
INFO [2025-01-30 20:54:54] [1] 1 2 5
INFO [2025-01-30 20:54:54] 
INFO [2025-01-30 20:54:54] 
INFO [2025-01-30 20:54:54] $disable.logging
INFO [2025-01-30 20:54:54] [1] TRUE
INFO [2025-01-30 20:54:54] 
INFO [2025-01-30 20:54:54] $filename
INFO [2025-01-30 20:54:54] NULL
INFO [2025-01-30 20:54:54] 
INFO [2025-01-30 20:54:54] $scaled
INFO [2025-01-30 20:54:54] [1] FALSE
INFO [2025-01-30 20:54:54] 
INFO [2025-01-30 20:54:54] $euler.d
INFO [2025-01-30 20:54:54] [1] FALSE
INFO [2025-01-30 20:54:54] 
INFO [2025-01-30 20:54:54] $cat.cex
INFO [2025-01-30 20:54:54] [1] 1
INFO [2025-01-30 20:54:54] 
INFO [2025-01-30 20:54:54] $cat.col
INFO [2025-01-30 20:54:54] [1] "black"
INFO [2025-01-30 20:54:54] 
INFO [2025-01-30 20:54:54] $cat.fontface
INFO [2025-01-30 20:54:54] [1] "plain"
INFO [2025-01-30 20:54:54] 
INFO [2025-01-30 20:54:54] $cat.fontfamily
INFO [2025-01-30 20:54:54] [1] "serif"
INFO [2025-01-30 20:54:54] 
INFO [2025-01-30 20:54:54] $x
INFO [2025-01-30 20:54:54] $x$TF1
INFO [2025-01-30 20:54:54] [1] 3 4 5
INFO [2025-01-30 20:54:54] 
INFO [2025-01-30 20:54:54] $x$TF2
INFO [2025-01-30 20:54:54] [1] 1 2 5
INFO [2025-01-30 20:54:54] 
INFO [2025-01-30 20:54:54] $x$TF3
INFO [2025-01-30 20:54:54] [1] 1 2 5
INFO [2025-01-30 20:54:54] 
INFO [2025-01-30 20:54:54] $x$TF4
INFO [2025-01-30 20:54:54] [1] 1 2 5
INFO [2025-01-30 20:54:54] 
INFO [2025-01-30 20:54:54] 
INFO [2025-01-30 20:54:54] $disable.logging
INFO [2025-01-30 20:54:54] [1] TRUE
INFO [2025-01-30 20:54:54] 
INFO [2025-01-30 20:54:54] $filename
INFO [2025-01-30 20:54:54] NULL
INFO [2025-01-30 20:54:54] 
[ FAIL 0 | WARN 3 | SKIP 6 | PASS 320 ]

══ Skipped tests (6) ═══════════════════════════════════════════════════════════
• empty test (6): 'test_binOverGene.R:1:1', 'test_binOverRegions.R:1:1',
  'test_enrichmentPlot.R:1:1', 'test_getAnnotation.R:1:1',
  'test_reCenterPeaks.R:1:1', 'test_write2FASTA.R:1:1'

[ FAIL 0 | WARN 3 | SKIP 6 | PASS 320 ]
> 
> proc.time()
   user  system elapsed 
152.333   3.552 157.942 

Example timings

ChIPpeakAnno.Rcheck/ChIPpeakAnno-Ex.timings

nameusersystemelapsed
ChIPpeakAnno-package000
ExonPlusUtr.human.GRCh373.5480.1863.735
HOT.spots0.1310.0100.141
IDRfilter0.0000.0000.001
Peaks.Ste12.Replicate10.0440.0020.045
Peaks.Ste12.Replicate20.0110.0000.011
Peaks.Ste12.Replicate30.0110.0000.010
TSS.human.GRCh370.1670.0220.190
TSS.human.GRCh380.1410.0020.143
TSS.human.NCBI360.1040.0060.110
TSS.mouse.GRCm380.0950.0100.105
TSS.mouse.NCBIM370.0880.0090.095
TSS.rat.RGSC3.40.0750.0080.083
TSS.rat.Rnor_5.00.0670.0030.070
TSS.zebrafish.Zv80.0690.0060.076
TSS.zebrafish.Zv90.0860.0080.095
addAncestors0.9010.0380.940
addGeneIDs0.8300.0240.855
addMetadata0.9720.1131.086
annoGR000
annoPeaks3.0030.2523.939
annotatePeakInBatch12.467 0.79413.265
annotatedPeak0.0640.0010.064
assignChromosomeRegion0.0010.0000.000
bdp000
binOverFeature0.6880.0250.714
binOverGene000
binOverRegions0.0000.0000.001
condenseMatrixByColnames0.010.000.01
convert2EntrezID0.4120.0170.430
countPatternInSeqs0.1640.0160.179
cumulativePercentage000
downstreams0.0210.0020.023
egOrgMap0.0010.0000.001
enrichedGO0.0010.0000.002
enrichmentPlot0.4360.0240.462
estFragmentLength000
estLibSize000
featureAlignedDistribution0.2040.0050.209
featureAlignedExtendSignal0.0010.0000.001
featureAlignedHeatmap0.3020.0180.321
featureAlignedSignal0.1770.0200.198
findEnhancers22.072 0.34522.419
findMotifsInPromoterSeqs12.610 0.21612.832
findOverlappingPeaks0.0000.0000.001
findOverlapsOfPeaks1.6240.0071.632
genomicElementDistribution0.0010.0000.001
genomicElementUpSetR0.0010.0000.000
getAllPeakSequence0.4890.0030.493
getAnnotation0.0010.0000.001
getEnrichedGO0.0080.0000.008
getEnrichedPATH0.0010.0000.000
getGO000
getGeneSeq0.0000.0000.001
getUniqueGOidCount0.0000.0000.001
getVennCounts0.0000.0000.001
hyperGtest0.0000.0000.001
makeVennDiagram0.0020.0000.002
mergePlusMinusPeaks0.0000.0010.001
metagenePlot1.8890.0271.917
myPeakList0.0150.0000.015
oligoFrequency0.0890.0020.091
oligoSummary0.0010.0000.001
peakPermTest0.0010.0000.002
peaks10.0060.0000.007
peaks20.0060.0000.006
peaks30.0060.0000.006
peaksNearBDP000
pie10.0030.0010.004
plotBinOverRegions0.0010.0000.001
preparePool000
reCenterPeaks0.0230.0000.023
summarizeOverlapsByBins5.5270.4405.693
summarizePatternInPeaks1.1950.1611.356
tileCount0.1820.1770.328
tileGRanges0.1360.1150.038
toGRanges0.0760.0050.081
translatePattern000
wgEncodeTfbsV30.2150.0150.230
write2FASTA0.0130.0030.015
xget0.0960.0080.103