Back to Multiple platform build/check report for BioC 3.20:   simplified   long
ABC[D]EFGHIJKLMNOPQRSTUVWXYZ

This page was generated on 2025-02-13 12:08 -0500 (Thu, 13 Feb 2025).

HostnameOSArch (*)R versionInstalled pkgs
nebbiolo2Linux (Ubuntu 24.04.1 LTS)x86_644.4.2 (2024-10-31) -- "Pile of Leaves" 4754
palomino8Windows Server 2022 Datacenterx644.4.2 (2024-10-31 ucrt) -- "Pile of Leaves" 4502
merida1macOS 12.7.5 Montereyx86_644.4.2 (2024-10-31) -- "Pile of Leaves" 4525
kjohnson1macOS 13.6.6 Venturaarm644.4.2 (2024-10-31) -- "Pile of Leaves" 4477
taishanLinux (openEuler 24.03 LTS)aarch644.4.2 (2024-10-31) -- "Pile of Leaves" 4414
Click on any hostname to see more info about the system (e.g. compilers)      (*) as reported by 'uname -p', except on Windows and Mac OS X

Package 504/2289HostnameOS / ArchINSTALLBUILDCHECKBUILD BIN
DAPAR 1.38.0  (landing page)
Samuel Wieczorek
Snapshot Date: 2025-02-10 13:00 -0500 (Mon, 10 Feb 2025)
git_url: https://git.bioconductor.org/packages/DAPAR
git_branch: RELEASE_3_20
git_last_commit: 62bc537
git_last_commit_date: 2024-10-29 10:04:09 -0500 (Tue, 29 Oct 2024)
nebbiolo2Linux (Ubuntu 24.04.1 LTS) / x86_64  OK    OK    OK  UNNEEDED, same version is already published
palomino8Windows Server 2022 Datacenter / x64  OK    OK    OK    OK  UNNEEDED, same version is already published
merida1macOS 12.7.5 Monterey / x86_64  OK    OK    OK    OK  UNNEEDED, same version is already published
kjohnson1macOS 13.6.6 Ventura / arm64  OK    OK    OK    OK  UNNEEDED, same version is already published
taishanLinux (openEuler 24.03 LTS) / aarch64  OK    OK    OK  


CHECK results for DAPAR on merida1

To the developers/maintainers of the DAPAR package:
- Allow up to 24 hours (and sometimes 48 hours) for your latest push to git@git.bioconductor.org:packages/DAPAR.git to reflect on this report. See Troubleshooting Build Report for more information.
- Use the following Renviron settings to reproduce errors and warnings.
- If 'R CMD check' started to fail recently on the Linux builder(s) over a missing dependency, add the missing dependency to 'Suggests:' in your DESCRIPTION file. See Renviron.bioc for more information.

raw results


Summary

Package: DAPAR
Version: 1.38.0
Command: /Library/Frameworks/R.framework/Resources/bin/R CMD check --install=check:DAPAR.install-out.txt --library=/Library/Frameworks/R.framework/Resources/library --no-vignettes --timings DAPAR_1.38.0.tar.gz
StartedAt: 2025-02-11 02:08:23 -0500 (Tue, 11 Feb 2025)
EndedAt: 2025-02-11 02:28:45 -0500 (Tue, 11 Feb 2025)
EllapsedTime: 1222.3 seconds
RetCode: 0
Status:   OK  
CheckDir: DAPAR.Rcheck
Warnings: 0

Command output

##############################################################################
##############################################################################
###
### Running command:
###
###   /Library/Frameworks/R.framework/Resources/bin/R CMD check --install=check:DAPAR.install-out.txt --library=/Library/Frameworks/R.framework/Resources/library --no-vignettes --timings DAPAR_1.38.0.tar.gz
###
##############################################################################
##############################################################################


* using log directory ‘/Users/biocbuild/bbs-3.20-bioc/meat/DAPAR.Rcheck’
* using R version 4.4.2 (2024-10-31)
* using platform: x86_64-apple-darwin20
* R was compiled by
    Apple clang version 14.0.0 (clang-1400.0.29.202)
    GNU Fortran (GCC) 12.2.0
* running under: macOS Monterey 12.7.6
* using session charset: UTF-8
* using option ‘--no-vignettes’
* checking for file ‘DAPAR/DESCRIPTION’ ... OK
* checking extension type ... Package
* this is package ‘DAPAR’ version ‘1.38.0’
* package encoding: UTF-8
* checking package namespace information ... OK
* checking package dependencies ... NOTE
Vignette dependency required without any vignettes:: ‘knitr’
* checking if this is a source package ... OK
* checking if there is a namespace ... OK
* checking for hidden files and directories ... OK
* checking for portable file names ... OK
* checking for sufficient/correct file permissions ... OK
* checking whether package ‘DAPAR’ can be installed ... OK
* checking installed package size ... OK
* checking package directory ... OK
* checking DESCRIPTION meta-information ... OK
* checking top-level files ... OK
* checking for left-over files ... OK
* checking index information ... OK
* checking package subdirectories ... OK
* checking code files for non-ASCII characters ... OK
* checking R files for syntax errors ... OK
* checking whether the package can be loaded ... OK
* checking whether the package can be loaded with stated dependencies ... OK
* checking whether the package can be unloaded cleanly ... OK
* checking whether the namespace can be loaded with stated dependencies ... OK
* checking whether the namespace can be unloaded cleanly ... OK
* checking whether startup messages can be suppressed ... OK
* checking dependencies in R code ... OK
* checking S3 generic/method consistency ... OK
* checking replacement functions ... OK
* checking foreign function calls ... OK
* checking R code for possible problems ... NOTE
Check_Dataset_Validity: no visible global function definition for
  ‘exprs’
OWAnova: no visible global function definition for ‘aov’
aggregateIterParallel: no visible binding for global variable ‘cond’
averageIntensities: no visible binding for global variable ‘condition’
averageIntensities: no visible binding for global variable ‘feature’
averageIntensities: no visible binding for global variable ‘intensity’
createMSnset: no visible global function definition for
  ‘installed.packages’
createMSnset: no visible binding for global variable ‘Prostar.loc’
createMSnset2: no visible global function definition for
  ‘installed.packages’
createMSnset2: no visible binding for global variable ‘Prostar.loc’
diffAnaVolcanoplot_rCharts: no visible binding for global variable ‘x’
diffAnaVolcanoplot_rCharts: no visible binding for global variable ‘y’
diffAnaVolcanoplot_rCharts: no visible binding for global variable ‘g’
display.CC.visNet: no visible binding for global variable
  ‘layout_nicely’
getTextForGOAnalysis: no visible binding for global variable
  ‘textGOParams’
getTextForGOAnalysis: no visible binding for global variable ‘input’
globalAdjPval: no visible global function definition for ‘stack’
heatmapForMissingValues: no visible binding for global variable ‘par’
limmaCompleteTest: no visible binding for global variable ‘A’
limmaCompleteTest: no visible binding for global variable ‘B’
limmaCompleteTest: no visible binding for global variable ‘P.Value’
pepa.test: no visible global function definition for ‘nodes<-’
testAnovaModels : <anonymous>: no visible global function definition
  for ‘TukeyHSD’
visualizeClusters: no visible binding for global variable
  ‘adjusted_pvalues’
visualizeClusters: no visible binding for global variable ‘Condition’
visualizeClusters: no visible binding for global variable ‘Intensity’
visualizeClusters: no visible binding for global variable
  ‘FDR_threshold’
visualizeClusters: no visible binding for global variable ‘feature’
wrapperClassic1wayAnova: no visible binding for global variable
  ‘Pr(>F)1’
wrapperRunClustering: no visible global function definition for ‘str_c’
Undefined global functions or variables:
  A B Condition FDR_threshold Intensity P.Value Pr(>F)1 Prostar.loc
  TukeyHSD adjusted_pvalues aov cond condition exprs feature g input
  installed.packages intensity layout_nicely nodes<- par stack str_c
  textGOParams x y
Consider adding
  importFrom("graphics", "par")
  importFrom("stats", "TukeyHSD", "aov")
  importFrom("utils", "installed.packages", "stack")
to your NAMESPACE file.
* checking Rd files ... OK
* checking Rd metadata ... OK
* checking Rd cross-references ... OK
* checking for missing documentation entries ... OK
* checking for code/documentation mismatches ... OK
* checking Rd \usage sections ... OK
* checking Rd contents ... OK
* checking for unstated dependencies in examples ... OK
* checking examples ... OK
Examples with CPU (user + system) or elapsed time > 5s
                                    user system elapsed
wrapper.compareNormalizationD_HC 110.418 44.899 179.294
wrapper.dapar.impute.mi           33.818  1.820  42.914
barplotEnrichGO_HC                15.416  3.219  23.214
checkClusterability                7.119  3.547  12.286
barplotGroupGO_HC                  9.154  1.222  12.906
scatterplotEnrichGO_HC             8.764  1.095  12.393
group_GO                           8.739  1.017  11.689
enrich_GO                          8.641  0.999  11.867
densityPlotD_HC                    6.353  2.483  10.436
CVDistD_HC                         6.441  0.335   8.133
wrapper.CVDistD_HC                 4.506  1.722   7.352
mvImage                            5.828  0.361   7.759
wrapperRunClustering               4.717  0.691   6.963
* checking for unstated dependencies in ‘tests’ ... OK
* checking tests ...
  Running ‘testthat.R’
 OK
* checking PDF version of manual ... OK
* DONE

Status: 2 NOTEs
See
  ‘/Users/biocbuild/bbs-3.20-bioc/meat/DAPAR.Rcheck/00check.log’
for details.


Installation output

DAPAR.Rcheck/00install.out

##############################################################################
##############################################################################
###
### Running command:
###
###   /Library/Frameworks/R.framework/Resources/bin/R CMD INSTALL DAPAR
###
##############################################################################
##############################################################################


* installing to library ‘/Library/Frameworks/R.framework/Versions/4.4-x86_64/Resources/library’
* installing *source* package ‘DAPAR’ ...
** using staged installation
** R
** inst
** byte-compile and prepare package for lazy loading
** help
*** installing help indices
** building package indices
** testing if installed package can be loaded from temporary location
** testing if installed package can be loaded from final location
** testing if installed package keeps a record of temporary installation path
* DONE (DAPAR)

Tests output

DAPAR.Rcheck/tests/testthat.Rout


R version 4.4.2 (2024-10-31) -- "Pile of Leaves"
Copyright (C) 2024 The R Foundation for Statistical Computing
Platform: x86_64-apple-darwin20

R is free software and comes with ABSOLUTELY NO WARRANTY.
You are welcome to redistribute it under certain conditions.
Type 'license()' or 'licence()' for distribution details.

R is a collaborative project with many contributors.
Type 'contributors()' for more information and
'citation()' on how to cite R or R packages in publications.

Type 'demo()' for some demos, 'help()' for on-line help, or
'help.start()' for an HTML browser interface to help.
Type 'q()' to quit R.

> library(testthat)
> library(DAPAR)

This is the 'DAPAR' version 1.38.0.

  To get started, visit
    http://www.prostar-proteomics.org/


> 
> test_check("DAPAR")

 Iterations: 

 1 / 1  - Imputation MNAR OK - 
Imputation MCAR in progress - 
3 % - 6 % - 9 % - 12 % - 15 % - 18 % - 21 % - 24 % - 27 % - 30 % - 33 % - 36 % - 39 % - 42 % - 45 % - 48 % - 51 % - 54 % - 57 % - 60 % - 63 % - 66 % - 69 % - 72 % - 75 % - 78 % - 81 % - 84 % - 87 % - 90 % - 93 % - 96 % - 99 % - 
 Iterations: 

 1 / 1  - Imputation MNAR OK - 
Imputation MCAR in progress - 
3 % - 6 % - 9 % - 12 % - 15 % - 18 % - 21 % - 24 % - 27 % - 30 % - 33 % - 36 % - 39 % - 42 % - 45 % - 48 % - 51 % - 54 % - 57 % - 60 % - 63 % - 66 % - 69 % - 72 % - 75 % - 78 % - 81 % - 84 % - 87 % - 90 % - 93 % - 96 % - 99 % - 
 Imputation in condition  1 ...
 In progress: 10 % - 20 % - 30 % - 40 % - 50 % - 60 % - 70 % - 80 % - 90 % - 100 % - 
 Imputation in condition  2 ...
 In progress: 10 % - 20 % - 30 % - 40 % - 50 % - 60 % - 70 % - 80 % - 90 % - 100 % - [ FAIL 0 | WARN 17 | SKIP 0 | PASS 66 ]

[ FAIL 0 | WARN 17 | SKIP 0 | PASS 66 ]
> 
> proc.time()
   user  system elapsed 
 66.250   2.418  83.140 

Example timings

DAPAR.Rcheck/DAPAR-Ex.timings

nameusersystemelapsed
AggregateMetacell0.7120.0170.859
BuildAdjacencyMatrix0.5670.0120.662
BuildColumnToProteinDataset0.7270.0160.864
BuildMetaCell1.0290.0411.244
CVDistD_HC6.4410.3358.133
Children0.0120.0020.018
CountPep1.4900.0181.820
ExtendPalette0.0600.0030.076
GOAnalysisSave0.0000.0000.001
GetCC2.8330.0253.417
GetColorsForConditions0.4860.0070.743
GetDetailedNbPeptides0.5350.0060.753
GetDetailedNbPeptidesUsed0.0000.0010.001
GetIndices_BasedOnConditions0.5280.0100.779
GetIndices_MetacellFiltering0.5460.0100.661
GetIndices_WholeLine0.5230.0090.682
GetIndices_WholeMatrix0.5150.0080.622
GetKeyId0.4810.0080.642
GetMatAdj0.6130.0100.813
GetMetacell0.0000.0010.001
GetMetacellTags0.5180.0090.633
GetNbPeptidesUsed0.5220.0090.617
GetNbTags0.0000.0000.001
GetSoftAvailables0.0000.0000.002
GetTypeofData0.4810.0110.607
Get_AllComparisons0.4530.0230.560
GlobalQuantileAlignment0.5130.0060.594
GraphPepProt0.5260.0070.626
LH0000
LH0.lm000
LH1000
LH1.lm0.0000.0000.001
LOESS1.7070.0201.951
MeanCentering0.5240.0190.597
MetaCellFiltering0.8930.0090.972
MetacellFilteringScope0.0000.0000.001
Metacell_DIA_NN0.8690.0200.947
Metacell_generic0.7820.0190.861
Metacell_maxquant0.8450.0271.018
Metacell_proline0.7800.0180.934
NumericalFiltering0.6010.0080.685
NumericalgetIndicesOfLinesToRemove0.5130.0060.583
OWAnova0.0120.0010.014
QuantileCentering0.4870.0080.552
SetCC2.6260.0282.996
SetMatAdj0.6000.0090.702
Set_POV_MEC_tags0.5250.0090.612
StringBasedFiltering0.5930.0090.685
StringBasedFiltering20.5820.0060.643
SumByColumns3.4860.0253.967
SymFilteringOperators0.0000.0010.001
UpdateMetacellAfterImputation0.5330.0060.602
aggregateIter0.8820.0070.994
aggregateIterParallel0.0000.0010.001
aggregateMean0.7080.0080.821
aggregateSum0.7440.0080.843
aggregateTopn0.6570.0080.726
applyAnovasOnProteins0.1530.0050.181
averageIntensities1.0670.2261.640
barplotEnrichGO_HC15.416 3.21923.214
barplotGroupGO_HC 9.154 1.22212.906
boxPlotD_HC0.5110.1530.845
buildGraph1.9060.0762.449
check.conditions0.4670.0080.554
check.design0.4720.0070.559
checkClusterability 7.119 3.54712.286
classic1wayAnova0.0010.0000.001
compareNormalizationD_HC0.2260.0910.398
compute.selection.table1.5040.2402.220
compute_t_tests2.5760.4093.832
corrMatrixD_HC0.7440.1321.055
createMSnset3.2100.1664.019
createMSnset23.1980.1593.911
dapar_hc_ExportMenu0.2830.2480.633
dapar_hc_chart0.1130.0850.231
deleteLinesFromIndices0.5730.0330.749
densityPlotD_HC 6.353 2.48310.436
diffAnaComputeAdjustedPValues0.2640.0620.453
diffAnaComputeFDR0.0000.0010.001
diffAnaGetSignificant0.4930.1000.754
diffAnaSave0.4450.0880.690
diffAnaVolcanoplot0.2520.0370.300
diffAnaVolcanoplot_rCharts0.7300.2081.142
display.CC.visNet2.0910.1362.557
enrich_GO 8.641 0.99911.867
finalizeAggregation000
findMECBlock0.5370.0200.657
formatHSDResults0.0000.0000.001
formatLimmaResult0.2460.0430.362
formatPHResults0.0000.0010.000
formatPHTResults0.0000.0010.000
fudge2LRT0.0000.0010.001
get.pep.prot.cc1.9140.1042.436
getDesignLevel0.4640.0060.544
getIndicesConditions0.4670.0070.538
getIndicesOfLinesToRemove0.5130.0200.710
getListNbValuesInLines0.4650.0060.536
getNumberOf0.5110.0210.720
getNumberOfEmptyLines0.5460.0110.639
getPourcentageOfMV0.5150.0190.628
getProcessingInfo0.4690.0050.534
getProteinsStats0.5340.0230.727
getQuantile4Imp0.0990.0030.124
getTextForAggregation0.0010.0010.001
getTextForAnaDiff0.0000.0000.001
getTextForFiltering0.0010.0010.002
getTextForGOAnalysis0.0000.0010.003
getTextForHypothesisTest0.0010.0010.001
getTextForNewDataset0.0040.0000.010
getTextForNormalization0.0000.0010.001
getTextForpeptideImputation0.0010.0000.001
getTextForproteinImputation0.0000.0010.001
globalAdjPval0.9150.0791.261
group_GO 8.739 1.01711.689
hc_logFC_DensityPlot1.2950.5352.184
hc_mvTypePlot21.6910.4862.636
heatmapD0.9940.0941.281
heatmapForMissingValues0.2700.0420.429
histPValue_HC0.3810.1370.639
impute.pa20.5970.0430.782
inner.aggregate.iter0.6110.0390.768
inner.aggregate.topn0.5520.0250.681
inner.mean0.6120.0240.753
inner.sum0.5400.0230.723
is.subset0.0000.0010.002
limmaCompleteTest3.4950.1304.327
listSheets0.0000.0000.001
make.contrast0.4960.0080.644
make.design.10.4870.0060.604
make.design.20.4920.0080.606
make.design.30.6390.0180.762
make.design0.4930.0060.585
match.metacell0.5430.0220.739
metacell.def0.0110.0050.016
metacellHisto_HC0.6040.0930.858
metacellPerLinesHistoPerCondition_HC0.8260.1861.308
metacellPerLinesHisto_HC1.1120.4711.953
metacombine0.1710.0140.224
mvImage5.8280.3617.759
my_hc_ExportMenu0.2800.2390.660
my_hc_chart0.2970.2460.694
nonzero0.0290.0030.040
normalizeMethods.dapar0.0000.0010.001
pepa.test0.5460.0270.732
pkgs.require0.0000.0000.001
plotJitter2.0190.1152.569
plotJitter_rCharts1.8120.1562.318
plotPCA_Eigen0.6660.0710.900
plotPCA_Eigen_hc0.4750.0120.571
plotPCA_Ind0.4820.0190.707
plotPCA_Var0.4670.0150.593
postHocTest0.0000.0000.001
proportionConRev_HC0.1020.0920.291
rbindMSnset0.6800.0670.943
reIntroduceMEC0.6130.0450.801
readExcel000
removeLines0.5710.0450.807
samLRT0.0000.0010.001
saveParameters0.4750.0140.566
scatterplotEnrichGO_HC 8.764 1.09512.393
search.metacell.tags0.0170.0040.022
separateAdjPval0.2620.0240.343
splitAdjacencyMat0.5510.0220.716
test.design0.5030.0060.565
testAnovaModels0.1680.0220.228
thresholdpval4fdr0.0000.0010.000
translatedRandomBeta0.0050.0160.022
univ_AnnotDbPkg0.2970.1470.573
violinPlotD0.6190.0560.842
visualizeClusters2.7650.3353.877
vsn0.9440.0261.211
wrapper.CVDistD_HC4.5061.7227.352
wrapper.compareNormalizationD_HC110.418 44.899179.294
wrapper.corrMatrixD_HC0.8120.1461.203
wrapper.dapar.impute.mi33.818 1.82042.914
wrapper.heatmapD0.8590.0741.155
wrapper.impute.KNN0.6110.0650.930
wrapper.impute.detQuant0.6450.0540.848
wrapper.impute.fixedValue0.6490.0540.871
wrapper.impute.mle0.5550.0320.756
wrapper.impute.pa0.1980.0330.284
wrapper.impute.pa20.5740.0430.748
wrapper.impute.slsa0.8910.0671.168
wrapper.mvImage0.2600.0440.374
wrapper.normalizeD0.4960.0090.591
wrapper.pca0.2430.0420.405
wrapperCalibrationPlot0.3060.0560.467
wrapperClassic1wayAnova0.0000.0010.001
wrapperRunClustering4.7170.6916.963
write.excel1.3650.2602.053
writeMSnsetToCSV0.5310.0360.681
writeMSnsetToExcel1.8740.3982.849