Back to Multiple platform build/check report for BioC 3.20:   simplified   long
ABC[D]EFGHIJKLMNOPQRSTUVWXYZ

This page was generated on 2025-02-06 12:04 -0500 (Thu, 06 Feb 2025).

HostnameOSArch (*)R versionInstalled pkgs
nebbiolo2Linux (Ubuntu 24.04.1 LTS)x86_644.4.2 (2024-10-31) -- "Pile of Leaves" 4753
palomino8Windows Server 2022 Datacenterx644.4.2 (2024-10-31 ucrt) -- "Pile of Leaves" 4501
merida1macOS 12.7.5 Montereyx86_644.4.2 (2024-10-31) -- "Pile of Leaves" 4524
kjohnson1macOS 13.6.6 Venturaarm644.4.2 (2024-10-31) -- "Pile of Leaves" 4476
taishanLinux (openEuler 24.03 LTS)aarch644.4.2 (2024-10-31) -- "Pile of Leaves" 4407
Click on any hostname to see more info about the system (e.g. compilers)      (*) as reported by 'uname -p', except on Windows and Mac OS X

Package 504/2289HostnameOS / ArchINSTALLBUILDCHECKBUILD BIN
DAPAR 1.38.0  (landing page)
Samuel Wieczorek
Snapshot Date: 2025-02-03 13:00 -0500 (Mon, 03 Feb 2025)
git_url: https://git.bioconductor.org/packages/DAPAR
git_branch: RELEASE_3_20
git_last_commit: 62bc537
git_last_commit_date: 2024-10-29 10:04:09 -0500 (Tue, 29 Oct 2024)
nebbiolo2Linux (Ubuntu 24.04.1 LTS) / x86_64  OK    OK    OK  UNNEEDED, same version is already published
palomino8Windows Server 2022 Datacenter / x64  OK    OK    OK    OK  UNNEEDED, same version is already published
merida1macOS 12.7.5 Monterey / x86_64  OK    OK    OK    OK  UNNEEDED, same version is already published
kjohnson1macOS 13.6.6 Ventura / arm64  OK    OK    OK    OK  UNNEEDED, same version is already published
taishanLinux (openEuler 24.03 LTS) / aarch64  OK    OK    OK  


CHECK results for DAPAR on nebbiolo2

To the developers/maintainers of the DAPAR package:
- Allow up to 24 hours (and sometimes 48 hours) for your latest push to git@git.bioconductor.org:packages/DAPAR.git to reflect on this report. See Troubleshooting Build Report for more information.
- Use the following Renviron settings to reproduce errors and warnings.
- If 'R CMD check' started to fail recently on the Linux builder(s) over a missing dependency, add the missing dependency to 'Suggests:' in your DESCRIPTION file. See Renviron.bioc for more information.

raw results


Summary

Package: DAPAR
Version: 1.38.0
Command: /home/biocbuild/bbs-3.20-bioc/R/bin/R CMD check --install=check:DAPAR.install-out.txt --library=/home/biocbuild/bbs-3.20-bioc/R/site-library --timings DAPAR_1.38.0.tar.gz
StartedAt: 2025-02-03 21:33:28 -0500 (Mon, 03 Feb 2025)
EndedAt: 2025-02-03 21:41:39 -0500 (Mon, 03 Feb 2025)
EllapsedTime: 490.4 seconds
RetCode: 0
Status:   OK  
CheckDir: DAPAR.Rcheck
Warnings: 0

Command output

##############################################################################
##############################################################################
###
### Running command:
###
###   /home/biocbuild/bbs-3.20-bioc/R/bin/R CMD check --install=check:DAPAR.install-out.txt --library=/home/biocbuild/bbs-3.20-bioc/R/site-library --timings DAPAR_1.38.0.tar.gz
###
##############################################################################
##############################################################################


* using log directory ‘/home/biocbuild/bbs-3.20-bioc/meat/DAPAR.Rcheck’
* using R version 4.4.2 (2024-10-31)
* using platform: x86_64-pc-linux-gnu
* R was compiled by
    gcc (Ubuntu 13.2.0-23ubuntu4) 13.2.0
    GNU Fortran (Ubuntu 13.2.0-23ubuntu4) 13.2.0
* running under: Ubuntu 24.04.1 LTS
* using session charset: UTF-8
* checking for file ‘DAPAR/DESCRIPTION’ ... OK
* checking extension type ... Package
* this is package ‘DAPAR’ version ‘1.38.0’
* package encoding: UTF-8
* checking package namespace information ... OK
* checking package dependencies ... NOTE
Vignette dependency required without any vignettes:: ‘knitr’
* checking if this is a source package ... OK
* checking if there is a namespace ... OK
* checking for hidden files and directories ... OK
* checking for portable file names ... OK
* checking for sufficient/correct file permissions ... OK
* checking whether package ‘DAPAR’ can be installed ... OK
* checking installed package size ... OK
* checking package directory ... OK
* checking DESCRIPTION meta-information ... OK
* checking top-level files ... OK
* checking for left-over files ... OK
* checking index information ... OK
* checking package subdirectories ... OK
* checking code files for non-ASCII characters ... OK
* checking R files for syntax errors ... OK
* checking whether the package can be loaded ... OK
* checking whether the package can be loaded with stated dependencies ... OK
* checking whether the package can be unloaded cleanly ... OK
* checking whether the namespace can be loaded with stated dependencies ... OK
* checking whether the namespace can be unloaded cleanly ... OK
* checking loading without being on the library search path ... OK
* checking whether startup messages can be suppressed ... OK
* checking dependencies in R code ... OK
* checking S3 generic/method consistency ... OK
* checking replacement functions ... OK
* checking foreign function calls ... OK
* checking R code for possible problems ... NOTE
Check_Dataset_Validity: no visible global function definition for
  ‘exprs’
OWAnova: no visible global function definition for ‘aov’
aggregateIterParallel: no visible binding for global variable ‘cond’
averageIntensities: no visible binding for global variable ‘condition’
averageIntensities: no visible binding for global variable ‘feature’
averageIntensities: no visible binding for global variable ‘intensity’
createMSnset: no visible global function definition for
  ‘installed.packages’
createMSnset: no visible binding for global variable ‘Prostar.loc’
createMSnset2: no visible global function definition for
  ‘installed.packages’
createMSnset2: no visible binding for global variable ‘Prostar.loc’
diffAnaVolcanoplot_rCharts: no visible binding for global variable ‘x’
diffAnaVolcanoplot_rCharts: no visible binding for global variable ‘y’
diffAnaVolcanoplot_rCharts: no visible binding for global variable ‘g’
display.CC.visNet: no visible binding for global variable
  ‘layout_nicely’
getTextForGOAnalysis: no visible binding for global variable
  ‘textGOParams’
getTextForGOAnalysis: no visible binding for global variable ‘input’
globalAdjPval: no visible global function definition for ‘stack’
heatmapForMissingValues: no visible binding for global variable ‘par’
limmaCompleteTest: no visible binding for global variable ‘A’
limmaCompleteTest: no visible binding for global variable ‘B’
limmaCompleteTest: no visible binding for global variable ‘P.Value’
pepa.test: no visible global function definition for ‘nodes<-’
testAnovaModels : <anonymous>: no visible global function definition
  for ‘TukeyHSD’
visualizeClusters: no visible binding for global variable
  ‘adjusted_pvalues’
visualizeClusters: no visible binding for global variable ‘Condition’
visualizeClusters: no visible binding for global variable ‘Intensity’
visualizeClusters: no visible binding for global variable
  ‘FDR_threshold’
visualizeClusters: no visible binding for global variable ‘feature’
wrapperClassic1wayAnova: no visible binding for global variable
  ‘Pr(>F)1’
wrapperRunClustering: no visible global function definition for ‘str_c’
Undefined global functions or variables:
  A B Condition FDR_threshold Intensity P.Value Pr(>F)1 Prostar.loc
  TukeyHSD adjusted_pvalues aov cond condition exprs feature g input
  installed.packages intensity layout_nicely nodes<- par stack str_c
  textGOParams x y
Consider adding
  importFrom("graphics", "par")
  importFrom("stats", "TukeyHSD", "aov")
  importFrom("utils", "installed.packages", "stack")
to your NAMESPACE file.
* checking Rd files ... OK
* checking Rd metadata ... OK
* checking Rd cross-references ... OK
* checking for missing documentation entries ... OK
* checking for code/documentation mismatches ... OK
* checking Rd \usage sections ... OK
* checking Rd contents ... OK
* checking for unstated dependencies in examples ... OK
* checking examples ... OK
Examples with CPU (user + system) or elapsed time > 5s
                                   user system elapsed
wrapper.compareNormalizationD_HC 35.627 11.889  47.906
wrapper.dapar.impute.mi          15.546  0.243  15.802
barplotEnrichGO_HC                7.555  0.738   8.325
* checking for unstated dependencies in ‘tests’ ... OK
* checking tests ...
  Running ‘testthat.R’
 OK
* checking PDF version of manual ... OK
* DONE

Status: 2 NOTEs
See
  ‘/home/biocbuild/bbs-3.20-bioc/meat/DAPAR.Rcheck/00check.log’
for details.


Installation output

DAPAR.Rcheck/00install.out

##############################################################################
##############################################################################
###
### Running command:
###
###   /home/biocbuild/bbs-3.20-bioc/R/bin/R CMD INSTALL DAPAR
###
##############################################################################
##############################################################################


* installing to library ‘/home/biocbuild/bbs-3.20-bioc/R/site-library’
* installing *source* package ‘DAPAR’ ...
** using staged installation
** R
** inst
** byte-compile and prepare package for lazy loading
** help
*** installing help indices
** building package indices
** testing if installed package can be loaded from temporary location
** testing if installed package can be loaded from final location
** testing if installed package keeps a record of temporary installation path
* DONE (DAPAR)

Tests output

DAPAR.Rcheck/tests/testthat.Rout


R version 4.4.2 (2024-10-31) -- "Pile of Leaves"
Copyright (C) 2024 The R Foundation for Statistical Computing
Platform: x86_64-pc-linux-gnu

R is free software and comes with ABSOLUTELY NO WARRANTY.
You are welcome to redistribute it under certain conditions.
Type 'license()' or 'licence()' for distribution details.

R is a collaborative project with many contributors.
Type 'contributors()' for more information and
'citation()' on how to cite R or R packages in publications.

Type 'demo()' for some demos, 'help()' for on-line help, or
'help.start()' for an HTML browser interface to help.
Type 'q()' to quit R.

> library(testthat)
> library(DAPAR)

This is the 'DAPAR' version 1.38.0.

  To get started, visit
    http://www.prostar-proteomics.org/


> 
> test_check("DAPAR")

 Iterations: 

 1 / 1  - Imputation MNAR OK - 
Imputation MCAR in progress - 
3 % - 6 % - 9 % - 12 % - 15 % - 18 % - 21 % - 24 % - 27 % - 30 % - 33 % - 36 % - 39 % - 42 % - 45 % - 48 % - 51 % - 54 % - 57 % - 60 % - 63 % - 66 % - 69 % - 72 % - 75 % - 78 % - 81 % - 84 % - 87 % - 90 % - 93 % - 96 % - 99 % - 
 Iterations: 

 1 / 1  - Imputation MNAR OK - 
Imputation MCAR in progress - 
3 % - 6 % - 9 % - 12 % - 15 % - 18 % - 21 % - 24 % - 27 % - 30 % - 33 % - 36 % - 39 % - 42 % - 45 % - 48 % - 51 % - 54 % - 57 % - 60 % - 63 % - 66 % - 69 % - 72 % - 75 % - 78 % - 81 % - 84 % - 87 % - 90 % - 93 % - 96 % - 99 % - 
 Imputation in condition  1 ...
 In progress: 10 % - 20 % - 30 % - 40 % - 50 % - 60 % - 70 % - 80 % - 90 % - 100 % - 
 Imputation in condition  2 ...
 In progress: 10 % - 20 % - 30 % - 40 % - 50 % - 60 % - 70 % - 80 % - 90 % - 100 % - [ FAIL 0 | WARN 17 | SKIP 0 | PASS 66 ]

[ FAIL 0 | WARN 17 | SKIP 0 | PASS 66 ]
> 
> proc.time()
   user  system elapsed 
 29.831   1.027  30.861 

Example timings

DAPAR.Rcheck/DAPAR-Ex.timings

nameusersystemelapsed
AggregateMetacell0.5630.0200.584
BuildAdjacencyMatrix0.5010.0100.511
BuildColumnToProteinDataset0.5240.0160.540
BuildMetaCell0.5830.0150.599
CVDistD_HC2.3300.0912.430
Children0.0030.0010.005
CountPep0.5050.0240.529
ExtendPalette1.0570.0481.105
GOAnalysisSave000
GetCC2.8340.0702.903
GetColorsForConditions0.4360.0040.439
GetDetailedNbPeptides0.4470.0100.457
GetDetailedNbPeptidesUsed000
GetIndices_BasedOnConditions0.4490.0100.458
GetIndices_MetacellFiltering0.4490.0150.463
GetIndices_WholeLine0.4450.0130.458
GetIndices_WholeMatrix0.4480.0070.456
GetKeyId0.4270.0210.448
GetMatAdj0.4920.0150.506
GetMetacell000
GetMetacellTags0.4450.0130.458
GetNbPeptidesUsed0.4570.0100.465
GetNbTags000
GetSoftAvailables0.0000.0000.001
GetTypeofData0.4250.0160.442
Get_AllComparisons0.2800.0170.298
GlobalQuantileAlignment0.4650.0070.472
GraphPepProt0.4610.0060.467
LH0000
LH0.lm000
LH1000
LH1.lm000
LOESS1.1420.0361.178
MeanCentering0.4510.0250.475
MetaCellFiltering0.5870.0210.608
MetacellFilteringScope000
Metacell_DIA_NN0.4790.0050.484
Metacell_generic0.4360.0050.441
Metacell_maxquant0.4700.0030.473
Metacell_proline0.4370.0020.439
NumericalFiltering0.4880.0050.492
NumericalgetIndicesOfLinesToRemove0.4470.0090.456
OWAnova0.0070.0000.007
QuantileCentering0.4550.0070.462
SetCC2.6890.0502.739
SetMatAdj0.4670.0130.480
Set_POV_MEC_tags0.4420.0120.454
StringBasedFiltering0.4790.0080.487
StringBasedFiltering20.4700.0090.479
SumByColumns1.2250.0101.235
SymFilteringOperators0.0010.0000.001
UpdateMetacellAfterImputation0.4650.0040.469
aggregateIter0.6120.0120.624
aggregateIterParallel000
aggregateMean0.5250.0130.538
aggregateSum0.5260.0100.536
aggregateTopn0.4930.0120.505
applyAnovasOnProteins0.1330.0040.137
averageIntensities0.4640.0250.490
barplotEnrichGO_HC7.5550.7388.325
barplotGroupGO_HC4.3500.2644.622
boxPlotD_HC0.3320.0270.359
buildGraph1.7460.1001.847
check.conditions0.4110.0150.426
check.design0.4120.0130.424
checkClusterability2.6250.9553.615
classic1wayAnova000
compareNormalizationD_HC0.1660.0180.183
compute.selection.table0.6710.0580.732
compute_t_tests0.9140.1031.019
corrMatrixD_HC0.5390.0240.563
createMSnset1.5230.1101.634
createMSnset21.4880.0231.513
dapar_hc_ExportMenu0.1110.0250.137
dapar_hc_chart0.0460.0130.060
deleteLinesFromIndices0.4640.0140.477
densityPlotD_HC2.3230.7233.067
diffAnaComputeAdjustedPValues0.1760.0180.195
diffAnaComputeFDR000
diffAnaGetSignificant0.2530.0260.279
diffAnaSave0.2460.0270.274
diffAnaVolcanoplot0.1770.0110.188
diffAnaVolcanoplot_rCharts0.3620.0410.403
display.CC.visNet1.8300.0631.894
enrich_GO4.1980.2654.470
finalizeAggregation000
findMECBlock0.4780.0130.491
formatHSDResults000
formatLimmaResult0.1690.0110.181
formatPHResults000
formatPHTResults000
fudge2LRT000
get.pep.prot.cc2.1400.0152.155
getDesignLevel0.4210.0140.436
getIndicesConditions0.4320.0060.439
getIndicesOfLinesToRemove0.4460.0210.466
getListNbValuesInLines0.4360.0060.442
getNumberOf0.4320.0170.449
getNumberOfEmptyLines0.4510.0110.462
getPourcentageOfMV0.4410.0090.450
getProcessingInfo0.4240.0090.432
getProteinsStats0.4570.0120.468
getQuantile4Imp0.1140.0030.117
getTextForAggregation000
getTextForAnaDiff000
getTextForFiltering000
getTextForGOAnalysis000
getTextForHypothesisTest000
getTextForNewDataset0.0020.0000.002
getTextForNormalization000
getTextForpeptideImputation000
getTextForproteinImputation0.0010.0000.001
globalAdjPval0.4070.0110.418
group_GO4.1690.2394.414
hc_logFC_DensityPlot0.5720.1280.705
hc_mvTypePlot20.8740.1241.000
heatmapD0.7310.0150.746
heatmapForMissingValues0.2000.0070.207
histPValue_HC0.2250.0170.243
impute.pa20.4950.0180.513
inner.aggregate.iter0.5020.0210.523
inner.aggregate.topn0.4730.0100.484
inner.mean0.5250.0070.533
inner.sum0.4740.0110.485
is.subset0.0010.0000.001
limmaCompleteTest1.3150.0481.363
listSheets000
make.contrast0.4530.0060.460
make.design.10.4480.0090.457
make.design.20.4580.0080.465
make.design.30.5970.0080.605
make.design0.4550.0100.465
match.metacell0.4720.0130.485
metacell.def0.0040.0010.004
metacellHisto_HC0.4900.0160.505
metacellPerLinesHistoPerCondition_HC0.5920.0280.620
metacellPerLinesHisto_HC0.6910.0640.756
metacombine0.0520.0040.055
mvImage1.9070.1052.015
my_hc_ExportMenu0.1270.0240.152
my_hc_chart0.1270.0310.159
nonzero0.0190.0010.020
normalizeMethods.dapar000
pepa.test0.4740.0200.494
pkgs.require000
plotJitter1.9760.1282.105
plotJitter_rCharts1.6780.0631.742
plotPCA_Eigen0.4960.0150.512
plotPCA_Eigen_hc0.4190.0100.429
plotPCA_Ind0.4290.0130.442
plotPCA_Var0.4290.0070.435
postHocTest000
proportionConRev_HC0.0350.0100.046
rbindMSnset0.4960.0200.516
reIntroduceMEC0.4760.0160.492
readExcel000
removeLines0.4510.0200.471
samLRT000
saveParameters0.4240.0080.432
scatterplotEnrichGO_HC4.1570.2934.456
search.metacell.tags0.0060.0010.007
separateAdjPval0.1980.0060.204
splitAdjacencyMat0.4710.0130.485
test.design0.4500.0060.456
testAnovaModels0.1370.0070.144
thresholdpval4fdr000
translatedRandomBeta0.0000.0020.002
univ_AnnotDbPkg0.1530.0180.171
violinPlotD0.4270.0080.435
visualizeClusters1.1460.0631.214
vsn0.6620.0360.698
wrapper.CVDistD_HC1.5850.4932.089
wrapper.compareNormalizationD_HC35.62711.88947.906
wrapper.corrMatrixD_HC0.5750.0290.603
wrapper.dapar.impute.mi15.546 0.24315.802
wrapper.heatmapD0.6260.0120.639
wrapper.impute.KNN0.4800.0380.518
wrapper.impute.detQuant0.4820.0170.498
wrapper.impute.fixedValue0.5230.0140.537
wrapper.impute.mle0.4800.0140.493
wrapper.impute.pa0.1770.0120.189
wrapper.impute.pa20.4540.0160.469
wrapper.impute.slsa0.5640.0110.575
wrapper.mvImage0.1660.0100.177
wrapper.normalizeD0.4290.0100.439
wrapper.pca0.1610.0170.179
wrapperCalibrationPlot0.2040.0150.219
wrapperClassic1wayAnova000
wrapperRunClustering1.8330.1682.007
write.excel0.7380.0690.810
writeMSnsetToCSV0.4400.0090.449
writeMSnsetToExcel0.8870.1241.016