Back to Multiple platform build/check report for BioC 3.20:   simplified   long
ABCDEF[G]HIJKLMNOPQRSTUVWXYZ

This page was generated on 2025-02-03 12:10 -0500 (Mon, 03 Feb 2025).

HostnameOSArch (*)R versionInstalled pkgs
nebbiolo2Linux (Ubuntu 24.04.1 LTS)x86_644.4.2 (2024-10-31) -- "Pile of Leaves" 4746
palomino8Windows Server 2022 Datacenterx644.4.2 (2024-10-31 ucrt) -- "Pile of Leaves" 4494
merida1macOS 12.7.5 Montereyx86_644.4.2 (2024-10-31) -- "Pile of Leaves" 4517
kjohnson1macOS 13.6.6 Venturaarm644.4.2 (2024-10-31) -- "Pile of Leaves" 4469
taishanLinux (openEuler 24.03 LTS)aarch644.4.2 (2024-10-31) -- "Pile of Leaves" 4400
Click on any hostname to see more info about the system (e.g. compilers)      (*) as reported by 'uname -p', except on Windows and Mac OS X

Package 770/2289HostnameOS / ArchINSTALLBUILDCHECKBUILD BIN
GBScleanR 2.0.3  (landing page)
Tomoyuki Furuta
Snapshot Date: 2025-01-30 13:00 -0500 (Thu, 30 Jan 2025)
git_url: https://git.bioconductor.org/packages/GBScleanR
git_branch: RELEASE_3_20
git_last_commit: 39e77d4
git_last_commit_date: 2025-01-28 04:33:43 -0500 (Tue, 28 Jan 2025)
nebbiolo2Linux (Ubuntu 24.04.1 LTS) / x86_64  OK    OK    OK  YES
palomino8Windows Server 2022 Datacenter / x64  OK    OK    OK    OK  YES
merida1macOS 12.7.5 Monterey / x86_64  OK    OK    OK    OK  YES
kjohnson1macOS 13.6.6 Ventura / arm64  OK    OK    OK    OK  YES
taishanLinux (openEuler 24.03 LTS) / aarch64  OK    ERROR  skipped


CHECK results for GBScleanR on kjohnson1

To the developers/maintainers of the GBScleanR package:
- Allow up to 24 hours (and sometimes 48 hours) for your latest push to git@git.bioconductor.org:packages/GBScleanR.git to reflect on this report. See Troubleshooting Build Report for more information.
- Use the following Renviron settings to reproduce errors and warnings.
- If 'R CMD check' started to fail recently on the Linux builder(s) over a missing dependency, add the missing dependency to 'Suggests:' in your DESCRIPTION file. See Renviron.bioc for more information.

raw results


Summary

Package: GBScleanR
Version: 2.0.3
Command: /Library/Frameworks/R.framework/Resources/bin/R CMD check --install=check:GBScleanR.install-out.txt --library=/Library/Frameworks/R.framework/Resources/library --no-vignettes --timings GBScleanR_2.0.3.tar.gz
StartedAt: 2025-01-31 19:50:47 -0500 (Fri, 31 Jan 2025)
EndedAt: 2025-01-31 19:54:06 -0500 (Fri, 31 Jan 2025)
EllapsedTime: 199.2 seconds
RetCode: 0
Status:   OK  
CheckDir: GBScleanR.Rcheck
Warnings: 0

Command output

##############################################################################
##############################################################################
###
### Running command:
###
###   /Library/Frameworks/R.framework/Resources/bin/R CMD check --install=check:GBScleanR.install-out.txt --library=/Library/Frameworks/R.framework/Resources/library --no-vignettes --timings GBScleanR_2.0.3.tar.gz
###
##############################################################################
##############################################################################


* using log directory ‘/Users/biocbuild/bbs-3.20-bioc/meat/GBScleanR.Rcheck’
* using R version 4.4.2 (2024-10-31)
* using platform: aarch64-apple-darwin20
* R was compiled by
    Apple clang version 14.0.0 (clang-1400.0.29.202)
    GNU Fortran (GCC) 12.2.0
* running under: macOS Ventura 13.7.1
* using session charset: UTF-8
* using option ‘--no-vignettes’
* checking for file ‘GBScleanR/DESCRIPTION’ ... OK
* checking extension type ... Package
* this is package ‘GBScleanR’ version ‘2.0.3’
* package encoding: UTF-8
* checking package namespace information ... OK
* checking package dependencies ... OK
* checking if this is a source package ... OK
* checking if there is a namespace ... OK
* checking for hidden files and directories ... OK
* checking for portable file names ... OK
* checking for sufficient/correct file permissions ... OK
* checking whether package ‘GBScleanR’ can be installed ... OK
* used C++ compiler: ‘Apple clang version 15.0.0 (clang-1500.0.40.1)’
* used SDK: ‘MacOSX11.3.sdk’
* checking C++ specification ... NOTE
  Specified C++11: please drop specification unless essential
* checking installed package size ... OK
* checking package directory ... OK
* checking ‘build’ directory ... OK
* checking DESCRIPTION meta-information ... OK
* checking top-level files ... OK
* checking for left-over files ... OK
* checking index information ... OK
* checking package subdirectories ... OK
* checking code files for non-ASCII characters ... OK
* checking R files for syntax errors ... OK
* checking whether the package can be loaded ... OK
* checking whether the package can be loaded with stated dependencies ... OK
* checking whether the package can be unloaded cleanly ... OK
* checking whether the namespace can be loaded with stated dependencies ... OK
* checking whether the namespace can be unloaded cleanly ... OK
* checking dependencies in R code ... OK
* checking S3 generic/method consistency ... OK
* checking replacement functions ... OK
* checking foreign function calls ... OK
* checking R code for possible problems ... OK
* checking Rd files ... OK
* checking Rd metadata ... OK
* checking Rd cross-references ... OK
* checking for missing documentation entries ... OK
* checking for code/documentation mismatches ... OK
* checking Rd \usage sections ... OK
* checking Rd contents ... OK
* checking for unstated dependencies in examples ... OK
* checking line endings in C/C++/Fortran sources/headers ... OK
* checking line endings in Makefiles ... OK
* checking compilation flags in Makevars ... OK
* checking for GNU extensions in Makefiles ... NOTE
GNU make is a SystemRequirements.
* checking for portable use of $(BLAS_LIBS) and $(LAPACK_LIBS) ... OK
* checking use of PKG_*FLAGS in Makefiles ... OK
* checking compiled code ... NOTE
Note: information on .o files is not available
File ‘/Library/Frameworks/R.framework/Versions/4.4-arm64/Resources/library/GBScleanR/libs/GBScleanR.so’:
  Found ‘__ZNSt3__14coutE’, possibly from ‘std::cout’ (C++)

Compiled code should not call entry points which might terminate R nor
write to stdout/stderr instead of to the console, nor use Fortran I/O
nor system RNGs nor [v]sprintf. The detected symbols are linked into
the code but might come from libraries and not actually be called.

See ‘Writing portable packages’ in the ‘Writing R Extensions’ manual.
* checking files in ‘vignettes’ ... OK
* checking examples ... OK
* checking for unstated dependencies in ‘tests’ ... OK
* checking tests ...
  Running ‘testthat.R’
 OK
* checking for unstated dependencies in vignettes ... OK
* checking package vignettes ... OK
* checking running R code from vignettes ... SKIPPED
* checking re-building of vignette outputs ... SKIPPED
* checking PDF version of manual ... OK
* DONE

Status: 3 NOTEs
See
  ‘/Users/biocbuild/bbs-3.20-bioc/meat/GBScleanR.Rcheck/00check.log’
for details.


Installation output

GBScleanR.Rcheck/00install.out

##############################################################################
##############################################################################
###
### Running command:
###
###   /Library/Frameworks/R.framework/Resources/bin/R CMD INSTALL GBScleanR
###
##############################################################################
##############################################################################


* installing to library ‘/Library/Frameworks/R.framework/Versions/4.4-arm64/Resources/library’
* installing *source* package ‘GBScleanR’ ...
** using staged installation
** libs
using C++ compiler: ‘Apple clang version 15.0.0 (clang-1500.0.40.1)’
using C++11
using SDK: ‘MacOSX11.3.sdk’
clang++ -arch arm64 -std=gnu++11 -I"/Library/Frameworks/R.framework/Resources/include" -DNDEBUG  -I'/Library/Frameworks/R.framework/Versions/4.4-arm64/Resources/library/Rcpp/include' -I'/Library/Frameworks/R.framework/Versions/4.4-arm64/Resources/library/RcppParallel/include' -I/opt/R/arm64/include    -fPIC  -falign-functions=64 -Wall -g -O2   -c RcppExports.cpp -o RcppExports.o
clang++ -arch arm64 -std=gnu++11 -I"/Library/Frameworks/R.framework/Resources/include" -DNDEBUG  -I'/Library/Frameworks/R.framework/Versions/4.4-arm64/Resources/library/Rcpp/include' -I'/Library/Frameworks/R.framework/Versions/4.4-arm64/Resources/library/RcppParallel/include' -I/opt/R/arm64/include    -fPIC  -falign-functions=64 -Wall -g -O2   -c gbsrCalcProb.cpp -o gbsrCalcProb.o
clang++ -arch arm64 -std=gnu++11 -I"/Library/Frameworks/R.framework/Resources/include" -DNDEBUG  -I'/Library/Frameworks/R.framework/Versions/4.4-arm64/Resources/library/Rcpp/include' -I'/Library/Frameworks/R.framework/Versions/4.4-arm64/Resources/library/RcppParallel/include' -I/opt/R/arm64/include    -fPIC  -falign-functions=64 -Wall -g -O2   -c gbsrFB.cpp -o gbsrFB.o
clang++ -arch arm64 -std=gnu++11 -I"/Library/Frameworks/R.framework/Resources/include" -DNDEBUG  -I'/Library/Frameworks/R.framework/Versions/4.4-arm64/Resources/library/Rcpp/include' -I'/Library/Frameworks/R.framework/Versions/4.4-arm64/Resources/library/RcppParallel/include' -I/opt/R/arm64/include    -fPIC  -falign-functions=64 -Wall -g -O2   -c gbsrIPO.cpp -o gbsrIPO.o
clang++ -arch arm64 -std=gnu++11 -I"/Library/Frameworks/R.framework/Resources/include" -DNDEBUG  -I'/Library/Frameworks/R.framework/Versions/4.4-arm64/Resources/library/Rcpp/include' -I'/Library/Frameworks/R.framework/Versions/4.4-arm64/Resources/library/RcppParallel/include' -I/opt/R/arm64/include    -fPIC  -falign-functions=64 -Wall -g -O2   -c gbsrStats.cpp -o gbsrStats.o
clang++ -arch arm64 -std=gnu++11 -I"/Library/Frameworks/R.framework/Resources/include" -DNDEBUG  -I'/Library/Frameworks/R.framework/Versions/4.4-arm64/Resources/library/Rcpp/include' -I'/Library/Frameworks/R.framework/Versions/4.4-arm64/Resources/library/RcppParallel/include' -I/opt/R/arm64/include    -fPIC  -falign-functions=64 -Wall -g -O2   -c gbsrViterbi.cpp -o gbsrViterbi.o
clang++ -arch arm64 -std=gnu++11 -I"/Library/Frameworks/R.framework/Resources/include" -DNDEBUG  -I'/Library/Frameworks/R.framework/Versions/4.4-arm64/Resources/library/Rcpp/include' -I'/Library/Frameworks/R.framework/Versions/4.4-arm64/Resources/library/RcppParallel/include' -I/opt/R/arm64/include    -fPIC  -falign-functions=64 -Wall -g -O2   -c gbsrutil.cpp -o gbsrutil.o
clang++ -arch arm64 -std=gnu++11 -dynamiclib -Wl,-headerpad_max_install_names -undefined dynamic_lookup -L/Library/Frameworks/R.framework/Resources/lib -L/opt/R/arm64/lib -o GBScleanR.so RcppExports.o gbsrCalcProb.o gbsrFB.o gbsrIPO.o gbsrStats.o gbsrViterbi.o gbsrutil.o -L/Library/Frameworks/R.framework/Versions/4.4-arm64/Resources/library/RcppParallel/lib -ltbb -ltbbmalloc -F/Library/Frameworks/R.framework/.. -framework R -Wl,-framework -Wl,CoreFoundation
installing to /Library/Frameworks/R.framework/Versions/4.4-arm64/Resources/library/00LOCK-GBScleanR/00new/GBScleanR/libs
** R
** inst
** byte-compile and prepare package for lazy loading
** help
*** installing help indices
** building package indices
** installing vignettes
** testing if installed package can be loaded from temporary location
** checking absolute paths in shared objects and dynamic libraries
** testing if installed package can be loaded from final location
** testing if installed package keeps a record of temporary installation path
* DONE (GBScleanR)

Tests output

GBScleanR.Rcheck/tests/testthat.Rout


R version 4.4.2 (2024-10-31) -- "Pile of Leaves"
Copyright (C) 2024 The R Foundation for Statistical Computing
Platform: aarch64-apple-darwin20

R is free software and comes with ABSOLUTELY NO WARRANTY.
You are welcome to redistribute it under certain conditions.
Type 'license()' or 'licence()' for distribution details.

R is a collaborative project with many contributors.
Type 'contributors()' for more information and
'citation()' on how to cite R or R packages in publications.

Type 'demo()' for some demos, 'help()' for on-line help, or
'help.start()' for an HTML browser interface to help.
Type 'q()' to quit R.

> library(testthat)
> library(GBScleanR)
Loading required package: SeqArray
Loading required package: gdsfmt
> 
> test_check("GBScleanR")
Loading GDS file.
Working on 'genotype' ...
Working on 'phase' ...
Working on 'annotation/format/AD' ...
Clean up the fragments of GDS file:
    open the file '/private/tmp/RtmpHHWH18/sample13dfe1ea4b28c.gds' (95.5K)
    # of fragments: 69
    save to '/private/tmp/RtmpHHWH18/sample13dfe1ea4b28c.gds.tmp'
    rename '/private/tmp/RtmpHHWH18/sample13dfe1ea4b28c.gds.tmp' (95.4K, reduced: 108B)
    # of fragments: 60
The connection to the GDS file was closed.
Loading GDS file.
The connection to the GDS file was closed.
Loading GDS file.
The connection to the GDS file was closed.
Loading GDS file.
The connection to the GDS file was closed.
Loading GDS file.
The connection to the GDS file was closed.
Loading GDS file.
The connection to the GDS file was closed.
Loading GDS file.
The connection to the GDS file was closed.
Loading GDS file.
The connection to the GDS file was closed.
Loading GDS file.
The connection to the GDS file was closed.
Loading GDS file.
The connection to the GDS file was closed.
Loading GDS file.
Working on 'genotype' ...
Working on 'phase' ...
Working on 'annotation/format/AD' ...
Clean up the fragments of GDS file:
    open the file '/private/tmp/RtmpHHWH18/sample13dfe63adaa49.gds' (95.5K)
    # of fragments: 69
    save to '/private/tmp/RtmpHHWH18/sample13dfe63adaa49.gds.tmp'
    rename '/private/tmp/RtmpHHWH18/sample13dfe63adaa49.gds.tmp' (95.4K, reduced: 108B)
    # of fragments: 60
The connection to the GDS file was closed.
Loading GDS file.
The connection to the GDS file was closed.
Loading GDS file.
Overwrite the previous parents information.
The connection to the GDS file was closed.
Loading GDS file.
Overwrite the previous parents information.
Overwrite the previous parents information.
The connection to the GDS file was closed.
Loading GDS file.
Overwrite the previous parents information.
Overwrite the previous parents information.
The connection to the GDS file was closed.
Loading GDS file.
Overwrite the previous parents information.
The connection to the GDS file was closed.
Loading GDS file.
Working on 'genotype' ...
Working on 'phase' ...
Working on 'annotation/format/AD' ...
Clean up the fragments of GDS file:
    open the file '/private/tmp/RtmpHHWH18/sample13dfe495e99d9.gds' (95.5K)
    # of fragments: 69
    save to '/private/tmp/RtmpHHWH18/sample13dfe495e99d9.gds.tmp'
    rename '/private/tmp/RtmpHHWH18/sample13dfe495e99d9.gds.tmp' (95.4K, reduced: 108B)
    # of fragments: 60
The connection to the GDS file was closed.
Loading GDS file.
The connection to the GDS file was closed.
Loading GDS file.
The connection to the GDS file was closed.
Loading GDS file.
The connection to the GDS file was closed.
Loading GDS file.
The connection to the GDS file was closed.
Loading GDS file.
The connection to the GDS file was closed.
Loading GDS file.
The connection to the GDS file was closed.
Loading GDS file.
The connection to the GDS file was closed.
Loading GDS file.
The connection to the GDS file was closed.
Fri Jan 31 19:53:36 2025
Variant Call Format (VCF) Import:
    file:
        sample.vcf (210.3K)
    file format: VCFv4.2
    genome reference: <unknown>
    # of sets of chromosomes (ploidy): 2
    # of samples: 102
    genotype field: GT
    genotype storage: bit2
    compression method: customized
    # of samples: 102
    INFO:
    FORMAT: AD
Output:
    /tmp/RtmpHHWH18/sample13dfe4104f305.gds
    [Progress Info: sample13dfe4104f305.gds.progress]
Parsing 'sample.vcf':
+ genotype/data   { Bit2 2x102x242 ZIP_ra, 16B }
Digests:
    sample.id  [md5: 338086c89cac9760256e9d1ec0a77327]
    variant.id  [md5: 6f6b771cc6816e18766cd7b202765193]
    position  [md5: f3033fec247b8ec6980e81005e257bd8]
    chromosome  [md5: 891ee7d299e1dba9146b8ae33476741c]
    allele  [md5: 9fc3f097ae98a7ebff52fac77379926e]
    genotype  [md5: b83af5eb9818d83c2ccaa40d494f15a8]
    phase  [md5: 9d686e01959b61df5fdc1a4684bd72b3]
    annotation/id  [md5: 021994c12424cab1e907740e364c7c24]
    annotation/qual  [md5: 5a566f4332739a2b28d23b215163b70a]
    annotation/filter  [md5: cb74cdb22966d99a9290a2c804a10580]
    annotation/format/AD  [md5: f8b130e5e4e497ee162cf32b15b0ac3a]
Done.
Fri Jan 31 19:53:36 2025
Optimize the access efficiency ...
Clean up the fragments of GDS file:
    open the file '/tmp/RtmpHHWH18/sample13dfe4104f305.gds' (53.4K)
    # of fragments: 108
    save to '/tmp/RtmpHHWH18/sample13dfe4104f305.gds.tmp'
    rename '/tmp/RtmpHHWH18/sample13dfe4104f305.gds.tmp' (52.8K, reduced: 648B)
    # of fragments: 54
Fri Jan 31 19:53:36 2025
Loading GDS file.
Working on 'genotype' ...
Working on 'phase' ...
Working on 'annotation/format/AD' ...
Clean up the fragments of GDS file:
    open the file '/private/tmp/RtmpHHWH18/sample13dfe4104f305.gds' (95.5K)
    # of fragments: 69
    save to '/private/tmp/RtmpHHWH18/sample13dfe4104f305.gds.tmp'
    rename '/private/tmp/RtmpHHWH18/sample13dfe4104f305.gds.tmp' (95.4K, reduced: 108B)
    # of fragments: 60
The connection to the GDS file was closed.
Loading GDS file.
The connection to the GDS file was closed.
Loading GDS file.
The connection to the GDS file was closed.
Loading GDS file.
Working on 'genotype' ...
Working on 'phase' ...
Working on 'annotation/format/AD' ...
Clean up the fragments of GDS file:
    open the file '/private/tmp/RtmpHHWH18/sample13dfe7a1c00e2.gds' (95.5K)
    # of fragments: 69
    save to '/private/tmp/RtmpHHWH18/sample13dfe7a1c00e2.gds.tmp'
    rename '/private/tmp/RtmpHHWH18/sample13dfe7a1c00e2.gds.tmp' (95.4K, reduced: 108B)
    # of fragments: 60
The connection to the GDS file was closed.
Loading GDS file.
The connection to the GDS file was closed.
Loading GDS file.
The connection to the GDS file was closed.
Loading GDS file.
The connection to the GDS file was closed.
Loading GDS file.
Reformatting FGT
The connection to the GDS file was closed.
Loading GDS file.
Reformatting FGT
The connection to the GDS file was closed.
Fri Jan 31 19:53:49 2025
Variant Call Format (VCF) Import:
    file:
        sample.vcf (210.3K)
    file format: VCFv4.2
    genome reference: <unknown>
    # of sets of chromosomes (ploidy): 2
    # of samples: 102
    genotype field: GT
    genotype storage: bit2
    compression method: customized
    # of samples: 102
    INFO:
    FORMAT: AD
Output:
    /tmp/RtmpHHWH18/sample13dfe12bcbd8c.gds
    [Progress Info: sample13dfe12bcbd8c.gds.progress]
Parsing 'sample.vcf':
+ genotype/data   { Bit2 2x102x242 ZIP_ra, 16B }
Digests:
    sample.id  [md5: 338086c89cac9760256e9d1ec0a77327]
    variant.id  [md5: 6f6b771cc6816e18766cd7b202765193]
    position  [md5: f3033fec247b8ec6980e81005e257bd8]
    chromosome  [md5: 891ee7d299e1dba9146b8ae33476741c]
    allele  [md5: 9fc3f097ae98a7ebff52fac77379926e]
    genotype  [md5: b83af5eb9818d83c2ccaa40d494f15a8]
    phase  [md5: 9d686e01959b61df5fdc1a4684bd72b3]
    annotation/id  [md5: 021994c12424cab1e907740e364c7c24]
    annotation/qual  [md5: 5a566f4332739a2b28d23b215163b70a]
    annotation/filter  [md5: cb74cdb22966d99a9290a2c804a10580]
    annotation/format/AD  [md5: f8b130e5e4e497ee162cf32b15b0ac3a]
Done.
Fri Jan 31 19:53:49 2025
Optimize the access efficiency ...
Clean up the fragments of GDS file:
    open the file '/tmp/RtmpHHWH18/sample13dfe12bcbd8c.gds' (53.4K)
    # of fragments: 108
    save to '/tmp/RtmpHHWH18/sample13dfe12bcbd8c.gds.tmp'
    rename '/tmp/RtmpHHWH18/sample13dfe12bcbd8c.gds.tmp' (52.8K, reduced: 648B)
    # of fragments: 54
Fri Jan 31 19:53:49 2025
Loading GDS file.
Working on 'genotype' ...
Working on 'phase' ...
Working on 'annotation/format/AD' ...
Clean up the fragments of GDS file:
    open the file '/private/tmp/RtmpHHWH18/sample13dfe12bcbd8c.gds' (95.5K)
    # of fragments: 69
    save to '/private/tmp/RtmpHHWH18/sample13dfe12bcbd8c.gds.tmp'
    rename '/private/tmp/RtmpHHWH18/sample13dfe12bcbd8c.gds.tmp' (95.4K, reduced: 108B)
    # of fragments: 60
No parents info.
Fri Jan 31 19:53:49 2025
Variant Call Format (VCF) Import:
    file:
        out13dfe1c1f1cab.vcf (58.8K)
    file format: VCFv4.2
    genome reference: <unknown>
    # of sets of chromosomes (ploidy): 2
    # of samples: 53
    genotype field: GT
    genotype storage: bit2
    compression method: customized
    # of samples: 53
    INFO:
    FORMAT: AD
Output:
    /tmp/RtmpHHWH18/newgds13dfe306daf87.gds
    [Progress Info: newgds13dfe306daf87.gds.progress]
Parsing 'out13dfe1c1f1cab.vcf':
+ genotype/data   { Bit2 2x53x124 ZIP_ra, 16B }
Digests:
    sample.id  [md5: 74c3cc3aaeb9c360336d8bfd925d0595]
    variant.id  [md5: 43796264d31bd83842b0aa403fce0906]
    position  [md5: 684410594ca5396d8d297f9daea5284d]
    chromosome  [md5: 60b3fe36b6edd92bcd04f5335c4a669b]
    allele  [md5: 0e9fa2f64c7deec767628996bb9582e0]
    genotype  [md5: 9828e0f5ba31db5872a199a735e55f78]
    phase  [md5: be90a74db9d1badea2b13dff4f8369fd]
    annotation/id  [md5: 6fd502da484eeb64793e07cc3a58382a]
    annotation/qual  [md5: 6cc8f26d6552e7eaab7c984d5ff4b83c]
    annotation/filter  [md5: aa5bfe55f7fbf2b12c60e9c055da37bf]
    annotation/format/AD  [md5: c995aea6c2ecb72b2f05f85be58b0275]
Done.
Fri Jan 31 19:53:49 2025
Optimize the access efficiency ...
Clean up the fragments of GDS file:
    open the file '/tmp/RtmpHHWH18/newgds13dfe306daf87.gds' (20.4K)
    # of fragments: 107
    save to '/tmp/RtmpHHWH18/newgds13dfe306daf87.gds.tmp'
    rename '/tmp/RtmpHHWH18/newgds13dfe306daf87.gds.tmp' (19.8K, reduced: 636B)
    # of fragments: 54
Fri Jan 31 19:53:49 2025
Loading GDS file.
Working on 'genotype' ...
Working on 'phase' ...
Working on 'annotation/format/AD' ...
Clean up the fragments of GDS file:
    open the file '/private/tmp/RtmpHHWH18/newgds13dfe306daf87.gds' (31.7K)
    # of fragments: 69
    save to '/private/tmp/RtmpHHWH18/newgds13dfe306daf87.gds.tmp'
    rename '/private/tmp/RtmpHHWH18/newgds13dfe306daf87.gds.tmp' (31.6K, reduced: 108B)
    # of fragments: 60
No parents info.
Fri Jan 31 19:53:50 2025
Variant Call Format (VCF) Import:
    file:
        out13dfe49c87e6.vcf (111.7K)
    file format: VCFv4.2
    genome reference: <unknown>
    # of sets of chromosomes (ploidy): 2
    # of samples: 53
    genotype field: GT
    genotype storage: bit2
    compression method: customized
    # of samples: 53
    INFO:
    FORMAT: AD,FAD,FGT
Output:
    /tmp/RtmpHHWH18/newgds13dfe49055455.gds
    [Progress Info: newgds13dfe49055455.gds.progress]
Parsing 'out13dfe49c87e6.vcf':
+ genotype/data   { Bit2 2x53x124 ZIP_ra, 16B }
Digests:
    sample.id  [md5: 74c3cc3aaeb9c360336d8bfd925d0595]
    variant.id  [md5: 43796264d31bd83842b0aa403fce0906]
    position  [md5: 684410594ca5396d8d297f9daea5284d]
    chromosome  [md5: 60b3fe36b6edd92bcd04f5335c4a669b]
    allele  [md5: 0e9fa2f64c7deec767628996bb9582e0]
    genotype  [md5: 9828e0f5ba31db5872a199a735e55f78]
    phase  [md5: be90a74db9d1badea2b13dff4f8369fd]
    annotation/id  [md5: 6fd502da484eeb64793e07cc3a58382a]
    annotation/qual  [md5: 6cc8f26d6552e7eaab7c984d5ff4b83c]
    annotation/filter  [md5: aa5bfe55f7fbf2b12c60e9c055da37bf]
    annotation/format/AD  [md5: c995aea6c2ecb72b2f05f85be58b0275]
    annotation/format/FAD  [md5: 3f78c762f957b4eaedbe18e1696ab0fd]
    annotation/format/FGT  [md5: 1cfeb91afedc41ae4a6665cde4b2bebf]
Done.
Fri Jan 31 19:53:50 2025
Optimize the access efficiency ...
Clean up the fragments of GDS file:
    open the file '/tmp/RtmpHHWH18/newgds13dfe49055455.gds' (29.8K)
    # of fragments: 129
    save to '/tmp/RtmpHHWH18/newgds13dfe49055455.gds.tmp'
    rename '/tmp/RtmpHHWH18/newgds13dfe49055455.gds.tmp' (29.1K, reduced: 780B)
    # of fragments: 64
Fri Jan 31 19:53:50 2025
Loading GDS file.
Reformatting FGT
Working on 'genotype' ...
Working on 'phase' ...
Working on 'annotation/format/AD' ...
Working on 'annotation/format/FAD' ...
Working on 'annotation/format/FGT' ...
Clean up the fragments of GDS file:
    open the file '/private/tmp/RtmpHHWH18/newgds13dfe49055455.gds' (51.4K)
    # of fragments: 86
    save to '/private/tmp/RtmpHHWH18/newgds13dfe49055455.gds.tmp'
    rename '/private/tmp/RtmpHHWH18/newgds13dfe49055455.gds.tmp' (50.0K, reduced: 1.4K)
    # of fragments: 74
The connection to the GDS file was closed.
The connection to the GDS file was closed.
Loading GDS file.
Working on 'genotype' ...
Working on 'phase' ...
Working on 'annotation/format/AD' ...
Clean up the fragments of GDS file:
    open the file '/private/tmp/RtmpHHWH18/sample13dfe67a28b49.gds' (95.5K)
    # of fragments: 69
    save to '/private/tmp/RtmpHHWH18/sample13dfe67a28b49.gds.tmp'
    rename '/private/tmp/RtmpHHWH18/sample13dfe67a28b49.gds.tmp' (95.4K, reduced: 108B)
    # of fragments: 60
As `mating` was not specified, set the following mating design.
     [,1]
[1,]    3
[2,]    3
Member IDs were not assigned to samples.
Assign 4 to all samples as member ID.
Set the number of threads: 1
Start cleaning...
Preparing genotype and haplotype pattern table...
Possible allele dosages: 0 1 2
Number of possible founder genotypes: 2
Member ID(s) to be processed: 4
Number of offspring haplotypes: 4

Now cleaning chr 1...

Cycle 1: 

Forward round of genotype estimation ...

Founder genotype probability calculation ...                                                                      
Founder genotype probability calculation at marker#: 10                                                                      
Founder genotype probability calculation at marker#: 20                                                                      
Founder genotype probability calculation at marker#: 30                                                                      
Founder genotype probability calculation at marker#: 40                                                                      
Founder genotype probability calculation at marker#: 50                                                                      
Founder genotype probability calculation at marker#: 60                                                                      
Founder genotype probability calculation at marker#: 70                                                                      
Founder genotype probability calculation at marker#: 80                                                                      
Founder genotype probability calculation at marker#: 90                                                                      
Founder genotype probability calculation at marker#: 100                                                                      
Founder genotype probability calculation at marker#: 110                                                                      
Founder genotype probability calculation at marker#: 120                                                                      
Founder genotype probability calculation at marker#: 130                                                                      
Founder genotype probability calculation at marker#: 140                                                                      
Founder genotype probability calculation at marker#: 150                                                                      
Founder genotype probability calculation at marker#: 160                                                                      
Founder genotype probability calculation at marker#: 170                                                                      
Founder genotype probability calculation at marker#: 180                                                                      
Founder genotype probability calculation at marker#: 190                                                                      
Founder genotype probability calculation at marker#: 200                                                                      
Founder genotype probability calculation at marker#: 210                                                                      
Founder genotype probability calculation at marker#: 220                                                                      
Founder genotype probability calculation at marker#: 230                                                                      
Founder genotype probability calculation at marker#: 240                                                                      
Backtracking best genotype sequences at marker#: 240                                                                      
Backtracking best genotype sequences at marker#: 230                                                                      
Backtracking best genotype sequences at marker#: 220                                                                      
Backtracking best genotype sequences at marker#: 210                                                                      
Backtracking best genotype sequences at marker#: 200                                                                      
Backtracking best genotype sequences at marker#: 190                                                                      
Backtracking best genotype sequences at marker#: 180                                                                      
Backtracking best genotype sequences at marker#: 170                                                                      
Backtracking best genotype sequences at marker#: 160                                                                      
Backtracking best genotype sequences at marker#: 150                                                                      
Backtracking best genotype sequences at marker#: 140                                                                      
Backtracking best genotype sequences at marker#: 130                                                                      
Backtracking best genotype sequences at marker#: 120                                                                      
Backtracking best genotype sequences at marker#: 110                                                                      
Backtracking best genotype sequences at marker#: 100                                                                      
Backtracking best genotype sequences at marker#: 90                                                                      
Backtracking best genotype sequences at marker#: 80                                                                      
Backtracking best genotype sequences at marker#: 70                                                                      
Backtracking best genotype sequences at marker#: 60                                                                      
Backtracking best genotype sequences at marker#: 50                                                                      
Backtracking best genotype sequences at marker#: 40                                                                      
Backtracking best genotype sequences at marker#: 30                                                                      
Backtracking best genotype sequences at marker#: 20                                                                      
Backtracking best genotype sequences at marker#: 10                                                                      
Backtracking best genotype sequences: Done!                                                                      
Offspring genotype probability calculation ...                                                                      
                                                                      
Backward round of genotype estimation  ...

Founder genotype probability calculation ...                                                                      
Founder genotype probability calculation at marker#: 10                                                                      
Founder genotype probability calculation at marker#: 20                                                                      
Founder genotype probability calculation at marker#: 30                                                                      
Founder genotype probability calculation at marker#: 40                                                                      
Founder genotype probability calculation at marker#: 50                                                                      
Founder genotype probability calculation at marker#: 60                                                                      
Founder genotype probability calculation at marker#: 70                                                                      
Founder genotype probability calculation at marker#: 80                                                                      
Founder genotype probability calculation at marker#: 90                                                                      
Founder genotype probability calculation at marker#: 100                                                                      
Founder genotype probability calculation at marker#: 110                                                                      
Founder genotype probability calculation at marker#: 120                                                                      
Founder genotype probability calculation at marker#: 130                                                                      
Founder genotype probability calculation at marker#: 140                                                                      
Founder genotype probability calculation at marker#: 150                                                                      
Founder genotype probability calculation at marker#: 160                                                                      
Founder genotype probability calculation at marker#: 170                                                                      
Founder genotype probability calculation at marker#: 180                                                                      
Founder genotype probability calculation at marker#: 190                                                                      
Founder genotype probability calculation at marker#: 200                                                                      
Founder genotype probability calculation at marker#: 210                                                                      
Founder genotype probability calculation at marker#: 220                                                                      
Founder genotype probability calculation at marker#: 230                                                                      
Founder genotype probability calculation at marker#: 240                                                                      
Backtracking best genotype sequences at marker#: 240                                                                      
Backtracking best genotype sequences at marker#: 230                                                                      
Backtracking best genotype sequences at marker#: 220                                                                      
Backtracking best genotype sequences at marker#: 210                                                                      
Backtracking best genotype sequences at marker#: 200                                                                      
Backtracking best genotype sequences at marker#: 190                                                                      
Backtracking best genotype sequences at marker#: 180                                                                      
Backtracking best genotype sequences at marker#: 170                                                                      
Backtracking best genotype sequences at marker#: 160                                                                      
Backtracking best genotype sequences at marker#: 150                                                                      
Backtracking best genotype sequences at marker#: 140                                                                      
Backtracking best genotype sequences at marker#: 130                                                                      
Backtracking best genotype sequences at marker#: 120                                                                      
Backtracking best genotype sequences at marker#: 110                                                                      
Backtracking best genotype sequences at marker#: 100                                                                      
Backtracking best genotype sequences at marker#: 90                                                                      
Backtracking best genotype sequences at marker#: 80                                                                      
Backtracking best genotype sequences at marker#: 70                                                                      
Backtracking best genotype sequences at marker#: 60                                                                      
Backtracking best genotype sequences at marker#: 50                                                                      
Backtracking best genotype sequences at marker#: 40                                                                      
Backtracking best genotype sequences at marker#: 30                                                                      
Backtracking best genotype sequences at marker#: 20                                                                      
Backtracking best genotype sequences at marker#: 10                                                                      
Backtracking best genotype sequences: Done!                                                                      
Offspring genotype probability calculation ...                                                                      
                                                                      
Paramter optimization ...

Cycle 2: 

Forward round of genotype estimation ...

Founder genotype probability calculation ...                                                                      
Founder genotype probability calculation at marker#: 10                                                                      
Founder genotype probability calculation at marker#: 20                                                                      
Founder genotype probability calculation at marker#: 30                                                                      
Founder genotype probability calculation at marker#: 40                                                                      
Founder genotype probability calculation at marker#: 50                                                                      
Founder genotype probability calculation at marker#: 60                                                                      
Founder genotype probability calculation at marker#: 70                                                                      
Founder genotype probability calculation at marker#: 80                                                                      
Founder genotype probability calculation at marker#: 90                                                                      
Founder genotype probability calculation at marker#: 100                                                                      
Founder genotype probability calculation at marker#: 110                                                                      
Founder genotype probability calculation at marker#: 120                                                                      
Founder genotype probability calculation at marker#: 130                                                                      
Founder genotype probability calculation at marker#: 140                                                                      
Founder genotype probability calculation at marker#: 150                                                                      
Founder genotype probability calculation at marker#: 160                                                                      
Founder genotype probability calculation at marker#: 170                                                                      
Founder genotype probability calculation at marker#: 180                                                                      
Founder genotype probability calculation at marker#: 190                                                                      
Founder genotype probability calculation at marker#: 200                                                                      
Founder genotype probability calculation at marker#: 210                                                                      
Founder genotype probability calculation at marker#: 220                                                                      
Founder genotype probability calculation at marker#: 230                                                                      
Founder genotype probability calculation at marker#: 240                                                                      
Backtracking best genotype sequences at marker#: 240                                                                      
Backtracking best genotype sequences at marker#: 230                                                                      
Backtracking best genotype sequences at marker#: 220                                                                      
Backtracking best genotype sequences at marker#: 210                                                                      
Backtracking best genotype sequences at marker#: 200                                                                      
Backtracking best genotype sequences at marker#: 190                                                                      
Backtracking best genotype sequences at marker#: 180                                                                      
Backtracking best genotype sequences at marker#: 170                                                                      
Backtracking best genotype sequences at marker#: 160                                                                      
Backtracking best genotype sequences at marker#: 150                                                                      
Backtracking best genotype sequences at marker#: 140                                                                      
Backtracking best genotype sequences at marker#: 130                                                                      
Backtracking best genotype sequences at marker#: 120                                                                      
Backtracking best genotype sequences at marker#: 110                                                                      
Backtracking best genotype sequences at marker#: 100                                                                      
Backtracking best genotype sequences at marker#: 90                                                                      
Backtracking best genotype sequences at marker#: 80                                                                      
Backtracking best genotype sequences at marker#: 70                                                                      
Backtracking best genotype sequences at marker#: 60                                                                      
Backtracking best genotype sequences at marker#: 50                                                                      
Backtracking best genotype sequences at marker#: 40                                                                      
Backtracking best genotype sequences at marker#: 30                                                                      
Backtracking best genotype sequences at marker#: 20                                                                      
Backtracking best genotype sequences at marker#: 10                                                                      
Backtracking best genotype sequences: Done!                                                                      
Offspring genotype probability calculation ...                                                                      
                                                                      
Backward round of genotype estimation  ...

Founder genotype probability calculation ...                                                                      
Founder genotype probability calculation at marker#: 10                                                                      
Founder genotype probability calculation at marker#: 20                                                                      
Founder genotype probability calculation at marker#: 30                                                                      
Founder genotype probability calculation at marker#: 40                                                                      
Founder genotype probability calculation at marker#: 50                                                                      
Founder genotype probability calculation at marker#: 60                                                                      
Founder genotype probability calculation at marker#: 70                                                                      
Founder genotype probability calculation at marker#: 80                                                                      
Founder genotype probability calculation at marker#: 90                                                                      
Founder genotype probability calculation at marker#: 100                                                                      
Founder genotype probability calculation at marker#: 110                                                                      
Founder genotype probability calculation at marker#: 120                                                                      
Founder genotype probability calculation at marker#: 130                                                                      
Founder genotype probability calculation at marker#: 140                                                                      
Founder genotype probability calculation at marker#: 150                                                                      
Founder genotype probability calculation at marker#: 160                                                                      
Founder genotype probability calculation at marker#: 170                                                                      
Founder genotype probability calculation at marker#: 180                                                                      
Founder genotype probability calculation at marker#: 190                                                                      
Founder genotype probability calculation at marker#: 200                                                                      
Founder genotype probability calculation at marker#: 210                                                                      
Founder genotype probability calculation at marker#: 220                                                                      
Founder genotype probability calculation at marker#: 230                                                                      
Founder genotype probability calculation at marker#: 240                                                                      
Backtracking best genotype sequences at marker#: 240                                                                      
Backtracking best genotype sequences at marker#: 230                                                                      
Backtracking best genotype sequences at marker#: 220                                                                      
Backtracking best genotype sequences at marker#: 210                                                                      
Backtracking best genotype sequences at marker#: 200                                                                      
Backtracking best genotype sequences at marker#: 190                                                                      
Backtracking best genotype sequences at marker#: 180                                                                      
Backtracking best genotype sequences at marker#: 170                                                                      
Backtracking best genotype sequences at marker#: 160                                                                      
Backtracking best genotype sequences at marker#: 150                                                                      
Backtracking best genotype sequences at marker#: 140                                                                      
Backtracking best genotype sequences at marker#: 130                                                                      
Backtracking best genotype sequences at marker#: 120                                                                      
Backtracking best genotype sequences at marker#: 110                                                                      
Backtracking best genotype sequences at marker#: 100                                                                      
Backtracking best genotype sequences at marker#: 90                                                                      
Backtracking best genotype sequences at marker#: 80                                                                      
Backtracking best genotype sequences at marker#: 70                                                                      
Backtracking best genotype sequences at marker#: 60                                                                      
Backtracking best genotype sequences at marker#: 50                                                                      
Backtracking best genotype sequences at marker#: 40                                                                      
Backtracking best genotype sequences at marker#: 30                                                                      
Backtracking best genotype sequences at marker#: 20                                                                      
Backtracking best genotype sequences at marker#: 10                                                                      
Backtracking best genotype sequences: Done!                                                                      
Offspring genotype probability calculation ...                                                                      
                                                                      
Summarizing output ...

Done!
The connection to the GDS file was closed.
[ FAIL 0 | WARN 0 | SKIP 0 | PASS 271 ]
> 
> proc.time()
   user  system elapsed 
 32.852   1.248  34.346 

Example timings

GBScleanR.Rcheck/GBScleanR-Ex.timings

nameusersystemelapsed
GbsrGenotypeData-class0.0150.0040.023
GbsrScheme-class0.0110.0010.012
addScheme0.0090.0020.011
assignScheme0.0780.0030.081
boxplotGBSR0.9230.0290.975
closeGDS0.0040.0010.005
countGenotype0.7790.0070.786
countRead0.8090.0080.817
estGeno2.4280.0812.515
gbsrGDS2CSV0.0200.0030.024
gbsrGDS2VCF0.0040.0010.006
gbsrVCF2GDS0.0810.0300.127
getAllele0.0030.0010.004
getChromosome0.0030.0010.004
getCountAlleleAlt0.4890.0060.498
getCountAlleleMissing0.4950.0060.503
getCountAlleleRef0.5310.0040.536
getCountGenoAlt0.5310.0040.534
getCountGenoHet0.5190.0030.523
getCountGenoMissing0.5340.0030.538
getCountGenoRef0.5240.0040.528
getCountRead0.5560.0040.560
getCountReadAlt0.5330.0050.537
getCountReadRef0.5320.0050.537
getFixedBias0.0900.0340.139
getGenotype0.0290.0020.032
getHaplotype2.4210.0712.503
getInfo0.0050.0020.007
getMAC0.5230.0050.528
getMAF0.5330.0030.536
getMarID0.0060.0030.009
getMeanReadAlt0.5800.0050.585
getMeanReadRef0.5730.0060.580
getMedianReadAlt0.5370.0040.542
getMedianReadRef0.5740.0040.579
getParents0.0080.0030.010
getPosition0.0050.0030.008
getRead0.0070.0020.010
getReplicates0.0060.0020.008
getSDReadAlt0.5900.0060.595
getSDReadRef0.5590.0040.564
getSamID0.0050.0020.007
histGBSR0.7540.0050.766
initScheme0.0070.0020.011
isOpenGDS0.0070.0030.011
loadGDS0.0960.0370.155
makeScheme0.0070.0020.009
nmar0.0040.0010.005
nsam0.0040.0010.006
pairsGBSR0.6470.0050.656
plotDosage0.2290.0110.240
plotGBSR0.7120.0050.723
plotReadRatio0.1870.0040.191
reopenGDS0.0060.0030.010
resetCallFilter0.6940.0610.771
resetFilter1.7500.0551.824
resetMarFilter1.0440.0041.049
resetSamFilter1.1610.0371.213
setCallFilter1.2830.0681.370
setFixedBias0.0900.0340.138
setInfoFilter0.0050.0020.006
setMarFilter1.0580.0051.063
setParents2.3850.0642.450
setReplicates0.0050.0020.008
setSamFilter1.0960.0061.102
showScheme0.0070.0020.010
thinMarker0.5730.0030.577
validMar0.0040.0040.008
validSam0.0040.0020.006