Back to Multiple platform build/check report for BioC 3.20:   simplified   long
ABCDEF[G]HIJKLMNOPQRSTUVWXYZ

This page was generated on 2025-02-03 12:08 -0500 (Mon, 03 Feb 2025).

HostnameOSArch (*)R versionInstalled pkgs
nebbiolo2Linux (Ubuntu 24.04.1 LTS)x86_644.4.2 (2024-10-31) -- "Pile of Leaves" 4746
palomino8Windows Server 2022 Datacenterx644.4.2 (2024-10-31 ucrt) -- "Pile of Leaves" 4494
merida1macOS 12.7.5 Montereyx86_644.4.2 (2024-10-31) -- "Pile of Leaves" 4517
kjohnson1macOS 13.6.6 Venturaarm644.4.2 (2024-10-31) -- "Pile of Leaves" 4469
taishanLinux (openEuler 24.03 LTS)aarch644.4.2 (2024-10-31) -- "Pile of Leaves" 4400
Click on any hostname to see more info about the system (e.g. compilers)      (*) as reported by 'uname -p', except on Windows and Mac OS X

Package 770/2289HostnameOS / ArchINSTALLBUILDCHECKBUILD BIN
GBScleanR 2.0.3  (landing page)
Tomoyuki Furuta
Snapshot Date: 2025-01-30 13:00 -0500 (Thu, 30 Jan 2025)
git_url: https://git.bioconductor.org/packages/GBScleanR
git_branch: RELEASE_3_20
git_last_commit: 39e77d4
git_last_commit_date: 2025-01-28 04:33:43 -0500 (Tue, 28 Jan 2025)
nebbiolo2Linux (Ubuntu 24.04.1 LTS) / x86_64  OK    OK    OK  YES
palomino8Windows Server 2022 Datacenter / x64  OK    OK    OK    OK  YES
merida1macOS 12.7.5 Monterey / x86_64  OK    OK    OK    OK  YES
kjohnson1macOS 13.6.6 Ventura / arm64  OK    OK    OK    OK  YES
taishanLinux (openEuler 24.03 LTS) / aarch64  OK    ERROR  skipped


CHECK results for GBScleanR on merida1

To the developers/maintainers of the GBScleanR package:
- Allow up to 24 hours (and sometimes 48 hours) for your latest push to git@git.bioconductor.org:packages/GBScleanR.git to reflect on this report. See Troubleshooting Build Report for more information.
- Use the following Renviron settings to reproduce errors and warnings.
- If 'R CMD check' started to fail recently on the Linux builder(s) over a missing dependency, add the missing dependency to 'Suggests:' in your DESCRIPTION file. See Renviron.bioc for more information.

raw results


Summary

Package: GBScleanR
Version: 2.0.3
Command: /Library/Frameworks/R.framework/Resources/bin/R CMD check --install=check:GBScleanR.install-out.txt --library=/Library/Frameworks/R.framework/Resources/library --no-vignettes --timings GBScleanR_2.0.3.tar.gz
StartedAt: 2025-01-31 04:07:34 -0500 (Fri, 31 Jan 2025)
EndedAt: 2025-01-31 04:14:04 -0500 (Fri, 31 Jan 2025)
EllapsedTime: 389.7 seconds
RetCode: 0
Status:   OK  
CheckDir: GBScleanR.Rcheck
Warnings: 0

Command output

##############################################################################
##############################################################################
###
### Running command:
###
###   /Library/Frameworks/R.framework/Resources/bin/R CMD check --install=check:GBScleanR.install-out.txt --library=/Library/Frameworks/R.framework/Resources/library --no-vignettes --timings GBScleanR_2.0.3.tar.gz
###
##############################################################################
##############################################################################


* using log directory ‘/Users/biocbuild/bbs-3.20-bioc/meat/GBScleanR.Rcheck’
* using R version 4.4.2 (2024-10-31)
* using platform: x86_64-apple-darwin20
* R was compiled by
    Apple clang version 14.0.0 (clang-1400.0.29.202)
    GNU Fortran (GCC) 12.2.0
* running under: macOS Monterey 12.7.6
* using session charset: UTF-8
* using option ‘--no-vignettes’
* checking for file ‘GBScleanR/DESCRIPTION’ ... OK
* checking extension type ... Package
* this is package ‘GBScleanR’ version ‘2.0.3’
* package encoding: UTF-8
* checking package namespace information ... OK
* checking package dependencies ... OK
* checking if this is a source package ... OK
* checking if there is a namespace ... OK
* checking for hidden files and directories ... OK
* checking for portable file names ... OK
* checking for sufficient/correct file permissions ... OK
* checking whether package ‘GBScleanR’ can be installed ... OK
* used C++ compiler: ‘Apple clang version 14.0.0 (clang-1400.0.29.202)’
* used SDK: ‘MacOSX11.3.sdk’
* checking C++ specification ... NOTE
  Specified C++11: please drop specification unless essential
* checking installed package size ... OK
* checking package directory ... OK
* checking ‘build’ directory ... OK
* checking DESCRIPTION meta-information ... OK
* checking top-level files ... OK
* checking for left-over files ... OK
* checking index information ... OK
* checking package subdirectories ... OK
* checking code files for non-ASCII characters ... OK
* checking R files for syntax errors ... OK
* checking whether the package can be loaded ... OK
* checking whether the package can be loaded with stated dependencies ... OK
* checking whether the package can be unloaded cleanly ... OK
* checking whether the namespace can be loaded with stated dependencies ... OK
* checking whether the namespace can be unloaded cleanly ... OK
* checking dependencies in R code ... OK
* checking S3 generic/method consistency ... OK
* checking replacement functions ... OK
* checking foreign function calls ... OK
* checking R code for possible problems ... OK
* checking Rd files ... OK
* checking Rd metadata ... OK
* checking Rd cross-references ... OK
* checking for missing documentation entries ... OK
* checking for code/documentation mismatches ... OK
* checking Rd \usage sections ... OK
* checking Rd contents ... OK
* checking for unstated dependencies in examples ... OK
* checking line endings in C/C++/Fortran sources/headers ... OK
* checking line endings in Makefiles ... OK
* checking compilation flags in Makevars ... OK
* checking for GNU extensions in Makefiles ... NOTE
GNU make is a SystemRequirements.
* checking for portable use of $(BLAS_LIBS) and $(LAPACK_LIBS) ... OK
* checking use of PKG_*FLAGS in Makefiles ... OK
* checking compiled code ... NOTE
Note: information on .o files is not available
File ‘/Library/Frameworks/R.framework/Versions/4.4-x86_64/Resources/library/GBScleanR/libs/GBScleanR.so’:
  Found ‘__ZNSt3__14coutE’, possibly from ‘std::cout’ (C++)

Compiled code should not call entry points which might terminate R nor
write to stdout/stderr instead of to the console, nor use Fortran I/O
nor system RNGs nor [v]sprintf. The detected symbols are linked into
the code but might come from libraries and not actually be called.

See ‘Writing portable packages’ in the ‘Writing R Extensions’ manual.
* checking files in ‘vignettes’ ... OK
* checking examples ... OK
Examples with CPU (user + system) or elapsed time > 5s
              user system elapsed
estGeno      4.062 11.281  15.743
setParents   3.977 11.237  15.875
getHaplotype 4.020 11.111  15.334
* checking for unstated dependencies in ‘tests’ ... OK
* checking tests ...
  Running ‘testthat.R’
 OK
* checking for unstated dependencies in vignettes ... OK
* checking package vignettes ... OK
* checking running R code from vignettes ... SKIPPED
* checking re-building of vignette outputs ... SKIPPED
* checking PDF version of manual ... OK
* DONE

Status: 3 NOTEs
See
  ‘/Users/biocbuild/bbs-3.20-bioc/meat/GBScleanR.Rcheck/00check.log’
for details.


Installation output

GBScleanR.Rcheck/00install.out

##############################################################################
##############################################################################
###
### Running command:
###
###   /Library/Frameworks/R.framework/Resources/bin/R CMD INSTALL GBScleanR
###
##############################################################################
##############################################################################


* installing to library ‘/Library/Frameworks/R.framework/Versions/4.4-x86_64/Resources/library’
* installing *source* package ‘GBScleanR’ ...
** using staged installation
** libs
using C++ compiler: ‘Apple clang version 14.0.0 (clang-1400.0.29.202)’
using C++11
using SDK: ‘MacOSX11.3.sdk’
clang++ -arch x86_64 -std=gnu++11 -I"/Library/Frameworks/R.framework/Resources/include" -DNDEBUG  -I'/Library/Frameworks/R.framework/Versions/4.4-x86_64/Resources/library/Rcpp/include' -I'/Library/Frameworks/R.framework/Versions/4.4-x86_64/Resources/library/RcppParallel/include' -I/opt/R/x86_64/include    -fPIC  -falign-functions=64 -Wall -g -O2   -c RcppExports.cpp -o RcppExports.o
clang++ -arch x86_64 -std=gnu++11 -I"/Library/Frameworks/R.framework/Resources/include" -DNDEBUG  -I'/Library/Frameworks/R.framework/Versions/4.4-x86_64/Resources/library/Rcpp/include' -I'/Library/Frameworks/R.framework/Versions/4.4-x86_64/Resources/library/RcppParallel/include' -I/opt/R/x86_64/include    -fPIC  -falign-functions=64 -Wall -g -O2   -c gbsrCalcProb.cpp -o gbsrCalcProb.o
clang++ -arch x86_64 -std=gnu++11 -I"/Library/Frameworks/R.framework/Resources/include" -DNDEBUG  -I'/Library/Frameworks/R.framework/Versions/4.4-x86_64/Resources/library/Rcpp/include' -I'/Library/Frameworks/R.framework/Versions/4.4-x86_64/Resources/library/RcppParallel/include' -I/opt/R/x86_64/include    -fPIC  -falign-functions=64 -Wall -g -O2   -c gbsrFB.cpp -o gbsrFB.o
clang++ -arch x86_64 -std=gnu++11 -I"/Library/Frameworks/R.framework/Resources/include" -DNDEBUG  -I'/Library/Frameworks/R.framework/Versions/4.4-x86_64/Resources/library/Rcpp/include' -I'/Library/Frameworks/R.framework/Versions/4.4-x86_64/Resources/library/RcppParallel/include' -I/opt/R/x86_64/include    -fPIC  -falign-functions=64 -Wall -g -O2   -c gbsrIPO.cpp -o gbsrIPO.o
clang++ -arch x86_64 -std=gnu++11 -I"/Library/Frameworks/R.framework/Resources/include" -DNDEBUG  -I'/Library/Frameworks/R.framework/Versions/4.4-x86_64/Resources/library/Rcpp/include' -I'/Library/Frameworks/R.framework/Versions/4.4-x86_64/Resources/library/RcppParallel/include' -I/opt/R/x86_64/include    -fPIC  -falign-functions=64 -Wall -g -O2   -c gbsrStats.cpp -o gbsrStats.o
clang++ -arch x86_64 -std=gnu++11 -I"/Library/Frameworks/R.framework/Resources/include" -DNDEBUG  -I'/Library/Frameworks/R.framework/Versions/4.4-x86_64/Resources/library/Rcpp/include' -I'/Library/Frameworks/R.framework/Versions/4.4-x86_64/Resources/library/RcppParallel/include' -I/opt/R/x86_64/include    -fPIC  -falign-functions=64 -Wall -g -O2   -c gbsrViterbi.cpp -o gbsrViterbi.o
clang++ -arch x86_64 -std=gnu++11 -I"/Library/Frameworks/R.framework/Resources/include" -DNDEBUG  -I'/Library/Frameworks/R.framework/Versions/4.4-x86_64/Resources/library/Rcpp/include' -I'/Library/Frameworks/R.framework/Versions/4.4-x86_64/Resources/library/RcppParallel/include' -I/opt/R/x86_64/include    -fPIC  -falign-functions=64 -Wall -g -O2   -c gbsrutil.cpp -o gbsrutil.o
clang++ -arch x86_64 -std=gnu++11 -dynamiclib -Wl,-headerpad_max_install_names -undefined dynamic_lookup -L/Library/Frameworks/R.framework/Resources/lib -L/opt/R/x86_64/lib -o GBScleanR.so RcppExports.o gbsrCalcProb.o gbsrFB.o gbsrIPO.o gbsrStats.o gbsrViterbi.o gbsrutil.o -L/Library/Frameworks/R.framework/Versions/4.4-x86_64/Resources/library/RcppParallel/lib -ltbb -ltbbmalloc -F/Library/Frameworks/R.framework/.. -framework R -Wl,-framework -Wl,CoreFoundation
installing to /Library/Frameworks/R.framework/Versions/4.4-x86_64/Resources/library/00LOCK-GBScleanR/00new/GBScleanR/libs
** R
** inst
** byte-compile and prepare package for lazy loading
** help
*** installing help indices
** building package indices
** installing vignettes
** testing if installed package can be loaded from temporary location
** checking absolute paths in shared objects and dynamic libraries
** testing if installed package can be loaded from final location
** testing if installed package keeps a record of temporary installation path
* DONE (GBScleanR)

Tests output

GBScleanR.Rcheck/tests/testthat.Rout


R version 4.4.2 (2024-10-31) -- "Pile of Leaves"
Copyright (C) 2024 The R Foundation for Statistical Computing
Platform: x86_64-apple-darwin20

R is free software and comes with ABSOLUTELY NO WARRANTY.
You are welcome to redistribute it under certain conditions.
Type 'license()' or 'licence()' for distribution details.

R is a collaborative project with many contributors.
Type 'contributors()' for more information and
'citation()' on how to cite R or R packages in publications.

Type 'demo()' for some demos, 'help()' for on-line help, or
'help.start()' for an HTML browser interface to help.
Type 'q()' to quit R.

> library(testthat)
> library(GBScleanR)
Loading required package: SeqArray
Loading required package: gdsfmt
> 
> test_check("GBScleanR")
Loading GDS file.
Working on 'genotype' ...
Working on 'phase' ...
Working on 'annotation/format/AD' ...
Clean up the fragments of GDS file:
    open the file '/private/tmp/RtmpQfik9T/sample1189318b1319a.gds' (95.5K)
    # of fragments: 69
    save to '/private/tmp/RtmpQfik9T/sample1189318b1319a.gds.tmp'
    rename '/private/tmp/RtmpQfik9T/sample1189318b1319a.gds.tmp' (95.4K, reduced: 108B)
    # of fragments: 60
The connection to the GDS file was closed.
Loading GDS file.
The connection to the GDS file was closed.
Loading GDS file.
The connection to the GDS file was closed.
Loading GDS file.
The connection to the GDS file was closed.
Loading GDS file.
The connection to the GDS file was closed.
Loading GDS file.
The connection to the GDS file was closed.
Loading GDS file.
The connection to the GDS file was closed.
Loading GDS file.
The connection to the GDS file was closed.
Loading GDS file.
The connection to the GDS file was closed.
Loading GDS file.
The connection to the GDS file was closed.
Loading GDS file.
Working on 'genotype' ...
Working on 'phase' ...
Working on 'annotation/format/AD' ...
Clean up the fragments of GDS file:
    open the file '/private/tmp/RtmpQfik9T/sample118936aa5715c.gds' (95.5K)
    # of fragments: 69
    save to '/private/tmp/RtmpQfik9T/sample118936aa5715c.gds.tmp'
    rename '/private/tmp/RtmpQfik9T/sample118936aa5715c.gds.tmp' (95.4K, reduced: 108B)
    # of fragments: 60
The connection to the GDS file was closed.
Loading GDS file.
The connection to the GDS file was closed.
Loading GDS file.
Overwrite the previous parents information.
The connection to the GDS file was closed.
Loading GDS file.
Overwrite the previous parents information.
Overwrite the previous parents information.
The connection to the GDS file was closed.
Loading GDS file.
Overwrite the previous parents information.
Overwrite the previous parents information.
The connection to the GDS file was closed.
Loading GDS file.
Overwrite the previous parents information.
The connection to the GDS file was closed.
Loading GDS file.
Working on 'genotype' ...
Working on 'phase' ...
Working on 'annotation/format/AD' ...
Clean up the fragments of GDS file:
    open the file '/private/tmp/RtmpQfik9T/sample11893610413bf.gds' (95.5K)
    # of fragments: 69
    save to '/private/tmp/RtmpQfik9T/sample11893610413bf.gds.tmp'
    rename '/private/tmp/RtmpQfik9T/sample11893610413bf.gds.tmp' (95.4K, reduced: 108B)
    # of fragments: 60
The connection to the GDS file was closed.
Loading GDS file.
The connection to the GDS file was closed.
Loading GDS file.
The connection to the GDS file was closed.
Loading GDS file.
The connection to the GDS file was closed.
Loading GDS file.
The connection to the GDS file was closed.
Loading GDS file.
The connection to the GDS file was closed.
Loading GDS file.
The connection to the GDS file was closed.
Loading GDS file.
The connection to the GDS file was closed.
Loading GDS file.
The connection to the GDS file was closed.
Fri Jan 31 04:13:13 2025
Variant Call Format (VCF) Import:
    file:
        sample.vcf (210.3K)
    file format: VCFv4.2
    genome reference: <unknown>
    # of sets of chromosomes (ploidy): 2
    # of samples: 102
    genotype field: GT
    genotype storage: bit2
    compression method: customized
    # of samples: 102
    INFO:
    FORMAT: AD
Output:
    /tmp/RtmpQfik9T/sample1189371b954a4.gds
    [Progress Info: sample1189371b954a4.gds.progress]
Parsing 'sample.vcf':
+ genotype/data   { Bit2 2x102x242 ZIP_ra, 16B }
Digests:
    sample.id  [md5: 338086c89cac9760256e9d1ec0a77327]
    variant.id  [md5: 6f6b771cc6816e18766cd7b202765193]
    position  [md5: f3033fec247b8ec6980e81005e257bd8]
    chromosome  [md5: 891ee7d299e1dba9146b8ae33476741c]
    allele  [md5: 9fc3f097ae98a7ebff52fac77379926e]
    genotype  [md5: b83af5eb9818d83c2ccaa40d494f15a8]
    phase  [md5: 9d686e01959b61df5fdc1a4684bd72b3]
    annotation/id  [md5: 021994c12424cab1e907740e364c7c24]
    annotation/qual  [md5: 5a566f4332739a2b28d23b215163b70a]
    annotation/filter  [md5: cb74cdb22966d99a9290a2c804a10580]
    annotation/format/AD  [md5: f8b130e5e4e497ee162cf32b15b0ac3a]
Done.
Fri Jan 31 04:13:13 2025
Optimize the access efficiency ...
Clean up the fragments of GDS file:
    open the file '/tmp/RtmpQfik9T/sample1189371b954a4.gds' (53.4K)
    # of fragments: 108
    save to '/tmp/RtmpQfik9T/sample1189371b954a4.gds.tmp'
    rename '/tmp/RtmpQfik9T/sample1189371b954a4.gds.tmp' (52.8K, reduced: 648B)
    # of fragments: 54
Fri Jan 31 04:13:13 2025
Loading GDS file.
Working on 'genotype' ...
Working on 'phase' ...
Working on 'annotation/format/AD' ...
Clean up the fragments of GDS file:
    open the file '/private/tmp/RtmpQfik9T/sample1189371b954a4.gds' (95.5K)
    # of fragments: 69
    save to '/private/tmp/RtmpQfik9T/sample1189371b954a4.gds.tmp'
    rename '/private/tmp/RtmpQfik9T/sample1189371b954a4.gds.tmp' (95.4K, reduced: 108B)
    # of fragments: 60
The connection to the GDS file was closed.
Loading GDS file.
The connection to the GDS file was closed.
Loading GDS file.
The connection to the GDS file was closed.
Loading GDS file.
Working on 'genotype' ...
Working on 'phase' ...
Working on 'annotation/format/AD' ...
Clean up the fragments of GDS file:
    open the file '/private/tmp/RtmpQfik9T/sample11893ec61c6c.gds' (95.5K)
    # of fragments: 69
    save to '/private/tmp/RtmpQfik9T/sample11893ec61c6c.gds.tmp'
    rename '/private/tmp/RtmpQfik9T/sample11893ec61c6c.gds.tmp' (95.4K, reduced: 108B)
    # of fragments: 60
The connection to the GDS file was closed.
Loading GDS file.
The connection to the GDS file was closed.
Loading GDS file.
The connection to the GDS file was closed.
Loading GDS file.
The connection to the GDS file was closed.
Loading GDS file.
Reformatting FGT
The connection to the GDS file was closed.
Loading GDS file.
Reformatting FGT
The connection to the GDS file was closed.
Fri Jan 31 04:13:26 2025
Variant Call Format (VCF) Import:
    file:
        sample.vcf (210.3K)
    file format: VCFv4.2
    genome reference: <unknown>
    # of sets of chromosomes (ploidy): 2
    # of samples: 102
    genotype field: GT
    genotype storage: bit2
    compression method: customized
    # of samples: 102
    INFO:
    FORMAT: AD
Output:
    /tmp/RtmpQfik9T/sample1189314f5a35b.gds
    [Progress Info: sample1189314f5a35b.gds.progress]
Parsing 'sample.vcf':
+ genotype/data   { Bit2 2x102x242 ZIP_ra, 16B }
Digests:
    sample.id  [md5: 338086c89cac9760256e9d1ec0a77327]
    variant.id  [md5: 6f6b771cc6816e18766cd7b202765193]
    position  [md5: f3033fec247b8ec6980e81005e257bd8]
    chromosome  [md5: 891ee7d299e1dba9146b8ae33476741c]
    allele  [md5: 9fc3f097ae98a7ebff52fac77379926e]
    genotype  [md5: b83af5eb9818d83c2ccaa40d494f15a8]
    phase  [md5: 9d686e01959b61df5fdc1a4684bd72b3]
    annotation/id  [md5: 021994c12424cab1e907740e364c7c24]
    annotation/qual  [md5: 5a566f4332739a2b28d23b215163b70a]
    annotation/filter  [md5: cb74cdb22966d99a9290a2c804a10580]
    annotation/format/AD  [md5: f8b130e5e4e497ee162cf32b15b0ac3a]
Done.
Fri Jan 31 04:13:27 2025
Optimize the access efficiency ...
Clean up the fragments of GDS file:
    open the file '/tmp/RtmpQfik9T/sample1189314f5a35b.gds' (53.4K)
    # of fragments: 108
    save to '/tmp/RtmpQfik9T/sample1189314f5a35b.gds.tmp'
    rename '/tmp/RtmpQfik9T/sample1189314f5a35b.gds.tmp' (52.8K, reduced: 648B)
    # of fragments: 54
Fri Jan 31 04:13:27 2025
Loading GDS file.
Working on 'genotype' ...
Working on 'phase' ...
Working on 'annotation/format/AD' ...
Clean up the fragments of GDS file:
    open the file '/private/tmp/RtmpQfik9T/sample1189314f5a35b.gds' (95.5K)
    # of fragments: 69
    save to '/private/tmp/RtmpQfik9T/sample1189314f5a35b.gds.tmp'
    rename '/private/tmp/RtmpQfik9T/sample1189314f5a35b.gds.tmp' (95.4K, reduced: 108B)
    # of fragments: 60
No parents info.
Fri Jan 31 04:13:27 2025
Variant Call Format (VCF) Import:
    file:
        out1189323152f6a.vcf (42.7K)
    file format: VCFv4.2
    genome reference: <unknown>
    # of sets of chromosomes (ploidy): 2
    # of samples: 41
    genotype field: GT
    genotype storage: bit2
    compression method: customized
    # of samples: 41
    INFO:
    FORMAT: AD
Output:
    /tmp/RtmpQfik9T/newgds118931ae9044a.gds
    [Progress Info: newgds118931ae9044a.gds.progress]
Parsing 'out1189323152f6a.vcf':
+ genotype/data   { Bit2 2x41x113 ZIP_ra, 16B }
Digests:
    sample.id  [md5: e74f1dd94cf9ddc61636bc55f95c1db2]
    variant.id  [md5: 33cb6463b8609dcab434773f65b64bb0]
    position  [md5: 3199807c6752f5562b864311d47a7c7c]
    chromosome  [md5: ac620ef2962685e4e48a4266f49f2e79]
    allele  [md5: 056a177a7e69b1b7603e969c2ca4d303]
    genotype  [md5: 9db849cf4c965fc201605df04e069ab7]
    phase  [md5: 9fd35697a4173387cf640adaa289f199]
    annotation/id  [md5: 67a86dd062bc00fe304f278d288cd2d4]
    annotation/qual  [md5: b5e5f5a0a4a78969f23b027601107d05]
    annotation/filter  [md5: f8f4c2d07bf641d466c85241c6fd5ee9]
    annotation/format/AD  [md5: 349238678c0ec2672ccb5b3651810bc4]
Done.
Fri Jan 31 04:13:27 2025
Optimize the access efficiency ...
Clean up the fragments of GDS file:
    open the file '/tmp/RtmpQfik9T/newgds118931ae9044a.gds' (17.0K)
    # of fragments: 107
    save to '/tmp/RtmpQfik9T/newgds118931ae9044a.gds.tmp'
    rename '/tmp/RtmpQfik9T/newgds118931ae9044a.gds.tmp' (16.4K, reduced: 636B)
    # of fragments: 54
Fri Jan 31 04:13:27 2025
Loading GDS file.
Working on 'genotype' ...
Working on 'phase' ...
Working on 'annotation/format/AD' ...
Clean up the fragments of GDS file:
    open the file '/private/tmp/RtmpQfik9T/newgds118931ae9044a.gds' (25.2K)
    # of fragments: 69
    save to '/private/tmp/RtmpQfik9T/newgds118931ae9044a.gds.tmp'
    rename '/private/tmp/RtmpQfik9T/newgds118931ae9044a.gds.tmp' (25.1K, reduced: 108B)
    # of fragments: 60
No parents info.
Fri Jan 31 04:13:28 2025
Variant Call Format (VCF) Import:
    file:
        out1189362fa1538.vcf (80.2K)
    file format: VCFv4.2
    genome reference: <unknown>
    # of sets of chromosomes (ploidy): 2
    # of samples: 41
    genotype field: GT
    genotype storage: bit2
    compression method: customized
    # of samples: 41
    INFO:
    FORMAT: AD,FAD,FGT
Output:
    /tmp/RtmpQfik9T/newgds118932011940e.gds
    [Progress Info: newgds118932011940e.gds.progress]
Parsing 'out1189362fa1538.vcf':
+ genotype/data   { Bit2 2x41x113 ZIP_ra, 16B }
Digests:
    sample.id  [md5: e74f1dd94cf9ddc61636bc55f95c1db2]
    variant.id  [md5: 33cb6463b8609dcab434773f65b64bb0]
    position  [md5: 3199807c6752f5562b864311d47a7c7c]
    chromosome  [md5: ac620ef2962685e4e48a4266f49f2e79]
    allele  [md5: 056a177a7e69b1b7603e969c2ca4d303]
    genotype  [md5: 9db849cf4c965fc201605df04e069ab7]
    phase  [md5: 9fd35697a4173387cf640adaa289f199]
    annotation/id  [md5: 67a86dd062bc00fe304f278d288cd2d4]
    annotation/qual  [md5: b5e5f5a0a4a78969f23b027601107d05]
    annotation/filter  [md5: f8f4c2d07bf641d466c85241c6fd5ee9]
    annotation/format/AD  [md5: 349238678c0ec2672ccb5b3651810bc4]
    annotation/format/FAD  [md5: ff663b70f49dac18bbccd40c56970771]
    annotation/format/FGT  [md5: 84f0068756166ef0ebf12c0d58a06f4f]
Done.
Fri Jan 31 04:13:28 2025
Optimize the access efficiency ...
Clean up the fragments of GDS file:
    open the file '/tmp/RtmpQfik9T/newgds118932011940e.gds' (24.2K)
    # of fragments: 129
    save to '/tmp/RtmpQfik9T/newgds118932011940e.gds.tmp'
    rename '/tmp/RtmpQfik9T/newgds118932011940e.gds.tmp' (23.4K, reduced: 780B)
    # of fragments: 64
Fri Jan 31 04:13:28 2025
Loading GDS file.
Reformatting FGT
Working on 'genotype' ...
Working on 'phase' ...
Working on 'annotation/format/AD' ...
Working on 'annotation/format/FAD' ...
Working on 'annotation/format/FGT' ...
Clean up the fragments of GDS file:
    open the file '/private/tmp/RtmpQfik9T/newgds118932011940e.gds' (39.6K)
    # of fragments: 86
    save to '/private/tmp/RtmpQfik9T/newgds118932011940e.gds.tmp'
    rename '/private/tmp/RtmpQfik9T/newgds118932011940e.gds.tmp' (38.6K, reduced: 1.0K)
    # of fragments: 74
The connection to the GDS file was closed.
The connection to the GDS file was closed.
Loading GDS file.
Working on 'genotype' ...
Working on 'phase' ...
Working on 'annotation/format/AD' ...
Clean up the fragments of GDS file:
    open the file '/private/tmp/RtmpQfik9T/sample1189327f9a122.gds' (95.5K)
    # of fragments: 69
    save to '/private/tmp/RtmpQfik9T/sample1189327f9a122.gds.tmp'
    rename '/private/tmp/RtmpQfik9T/sample1189327f9a122.gds.tmp' (95.4K, reduced: 108B)
    # of fragments: 60
As `mating` was not specified, set the following mating design.
     [,1]
[1,]    3
[2,]    3
Member IDs were not assigned to samples.
Assign 4 to all samples as member ID.
Set the number of threads: 1
Start cleaning...
Preparing genotype and haplotype pattern table...
Possible allele dosages: 0 1 2
Number of possible founder genotypes: 2
Member ID(s) to be processed: 4
Number of offspring haplotypes: 4

Now cleaning chr 1...

Cycle 1: 

Forward round of genotype estimation ...

Founder genotype probability calculation ...                                                                      
Founder genotype probability calculation at marker#: 10                                                                      
Founder genotype probability calculation at marker#: 20                                                                      
Founder genotype probability calculation at marker#: 30                                                                      
Founder genotype probability calculation at marker#: 40                                                                      
Founder genotype probability calculation at marker#: 50                                                                      
Founder genotype probability calculation at marker#: 60                                                                      
Founder genotype probability calculation at marker#: 70                                                                      
Founder genotype probability calculation at marker#: 80                                                                      
Founder genotype probability calculation at marker#: 90                                                                      
Founder genotype probability calculation at marker#: 100                                                                      
Founder genotype probability calculation at marker#: 110                                                                      
Founder genotype probability calculation at marker#: 120                                                                      
Founder genotype probability calculation at marker#: 130                                                                      
Founder genotype probability calculation at marker#: 140                                                                      
Founder genotype probability calculation at marker#: 150                                                                      
Founder genotype probability calculation at marker#: 160                                                                      
Founder genotype probability calculation at marker#: 170                                                                      
Founder genotype probability calculation at marker#: 180                                                                      
Founder genotype probability calculation at marker#: 190                                                                      
Founder genotype probability calculation at marker#: 200                                                                      
Founder genotype probability calculation at marker#: 210                                                                      
Founder genotype probability calculation at marker#: 220                                                                      
Founder genotype probability calculation at marker#: 230                                                                      
Founder genotype probability calculation at marker#: 240                                                                      
Backtracking best genotype sequences at marker#: 240                                                                      
Backtracking best genotype sequences at marker#: 230                                                                      
Backtracking best genotype sequences at marker#: 220                                                                      
Backtracking best genotype sequences at marker#: 210                                                                      
Backtracking best genotype sequences at marker#: 200                                                                      
Backtracking best genotype sequences at marker#: 190                                                                      
Backtracking best genotype sequences at marker#: 180                                                                      
Backtracking best genotype sequences at marker#: 170                                                                      
Backtracking best genotype sequences at marker#: 160                                                                      
Backtracking best genotype sequences at marker#: 150                                                                      
Backtracking best genotype sequences at marker#: 140                                                                      
Backtracking best genotype sequences at marker#: 130                                                                      
Backtracking best genotype sequences at marker#: 120                                                                      
Backtracking best genotype sequences at marker#: 110                                                                      
Backtracking best genotype sequences at marker#: 100                                                                      
Backtracking best genotype sequences at marker#: 90                                                                      
Backtracking best genotype sequences at marker#: 80                                                                      
Backtracking best genotype sequences at marker#: 70                                                                      
Backtracking best genotype sequences at marker#: 60                                                                      
Backtracking best genotype sequences at marker#: 50                                                                      
Backtracking best genotype sequences at marker#: 40                                                                      
Backtracking best genotype sequences at marker#: 30                                                                      
Backtracking best genotype sequences at marker#: 20                                                                      
Backtracking best genotype sequences at marker#: 10                                                                      
Backtracking best genotype sequences: Done!                                                                      
Offspring genotype probability calculation ...                                                                      
                                                                      
Backward round of genotype estimation  ...

Founder genotype probability calculation ...                                                                      
Founder genotype probability calculation at marker#: 10                                                                      
Founder genotype probability calculation at marker#: 20                                                                      
Founder genotype probability calculation at marker#: 30                                                                      
Founder genotype probability calculation at marker#: 40                                                                      
Founder genotype probability calculation at marker#: 50                                                                      
Founder genotype probability calculation at marker#: 60                                                                      
Founder genotype probability calculation at marker#: 70                                                                      
Founder genotype probability calculation at marker#: 80                                                                      
Founder genotype probability calculation at marker#: 90                                                                      
Founder genotype probability calculation at marker#: 100                                                                      
Founder genotype probability calculation at marker#: 110                                                                      
Founder genotype probability calculation at marker#: 120                                                                      
Founder genotype probability calculation at marker#: 130                                                                      
Founder genotype probability calculation at marker#: 140                                                                      
Founder genotype probability calculation at marker#: 150                                                                      
Founder genotype probability calculation at marker#: 160                                                                      
Founder genotype probability calculation at marker#: 170                                                                      
Founder genotype probability calculation at marker#: 180                                                                      
Founder genotype probability calculation at marker#: 190                                                                      
Founder genotype probability calculation at marker#: 200                                                                      
Founder genotype probability calculation at marker#: 210                                                                      
Founder genotype probability calculation at marker#: 220                                                                      
Founder genotype probability calculation at marker#: 230                                                                      
Founder genotype probability calculation at marker#: 240                                                                      
Backtracking best genotype sequences at marker#: 240                                                                      
Backtracking best genotype sequences at marker#: 230                                                                      
Backtracking best genotype sequences at marker#: 220                                                                      
Backtracking best genotype sequences at marker#: 210                                                                      
Backtracking best genotype sequences at marker#: 200                                                                      
Backtracking best genotype sequences at marker#: 190                                                                      
Backtracking best genotype sequences at marker#: 180                                                                      
Backtracking best genotype sequences at marker#: 170                                                                      
Backtracking best genotype sequences at marker#: 160                                                                      
Backtracking best genotype sequences at marker#: 150                                                                      
Backtracking best genotype sequences at marker#: 140                                                                      
Backtracking best genotype sequences at marker#: 130                                                                      
Backtracking best genotype sequences at marker#: 120                                                                      
Backtracking best genotype sequences at marker#: 110                                                                      
Backtracking best genotype sequences at marker#: 100                                                                      
Backtracking best genotype sequences at marker#: 90                                                                      
Backtracking best genotype sequences at marker#: 80                                                                      
Backtracking best genotype sequences at marker#: 70                                                                      
Backtracking best genotype sequences at marker#: 60                                                                      
Backtracking best genotype sequences at marker#: 50                                                                      
Backtracking best genotype sequences at marker#: 40                                                                      
Backtracking best genotype sequences at marker#: 30                                                                      
Backtracking best genotype sequences at marker#: 20                                                                      
Backtracking best genotype sequences at marker#: 10                                                                      
Backtracking best genotype sequences: Done!                                                                      
Offspring genotype probability calculation ...                                                                      
                                                                      
Paramter optimization ...

Cycle 2: 

Forward round of genotype estimation ...

Founder genotype probability calculation ...                                                                      
Founder genotype probability calculation at marker#: 10                                                                      
Founder genotype probability calculation at marker#: 20                                                                      
Founder genotype probability calculation at marker#: 30                                                                      
Founder genotype probability calculation at marker#: 40                                                                      
Founder genotype probability calculation at marker#: 50                                                                      
Founder genotype probability calculation at marker#: 60                                                                      
Founder genotype probability calculation at marker#: 70                                                                      
Founder genotype probability calculation at marker#: 80                                                                      
Founder genotype probability calculation at marker#: 90                                                                      
Founder genotype probability calculation at marker#: 100                                                                      
Founder genotype probability calculation at marker#: 110                                                                      
Founder genotype probability calculation at marker#: 120                                                                      
Founder genotype probability calculation at marker#: 130                                                                      
Founder genotype probability calculation at marker#: 140                                                                      
Founder genotype probability calculation at marker#: 150                                                                      
Founder genotype probability calculation at marker#: 160                                                                      
Founder genotype probability calculation at marker#: 170                                                                      
Founder genotype probability calculation at marker#: 180                                                                      
Founder genotype probability calculation at marker#: 190                                                                      
Founder genotype probability calculation at marker#: 200                                                                      
Founder genotype probability calculation at marker#: 210                                                                      
Founder genotype probability calculation at marker#: 220                                                                      
Founder genotype probability calculation at marker#: 230                                                                      
Founder genotype probability calculation at marker#: 240                                                                      
Backtracking best genotype sequences at marker#: 240                                                                      
Backtracking best genotype sequences at marker#: 230                                                                      
Backtracking best genotype sequences at marker#: 220                                                                      
Backtracking best genotype sequences at marker#: 210                                                                      
Backtracking best genotype sequences at marker#: 200                                                                      
Backtracking best genotype sequences at marker#: 190                                                                      
Backtracking best genotype sequences at marker#: 180                                                                      
Backtracking best genotype sequences at marker#: 170                                                                      
Backtracking best genotype sequences at marker#: 160                                                                      
Backtracking best genotype sequences at marker#: 150                                                                      
Backtracking best genotype sequences at marker#: 140                                                                      
Backtracking best genotype sequences at marker#: 130                                                                      
Backtracking best genotype sequences at marker#: 120                                                                      
Backtracking best genotype sequences at marker#: 110                                                                      
Backtracking best genotype sequences at marker#: 100                                                                      
Backtracking best genotype sequences at marker#: 90                                                                      
Backtracking best genotype sequences at marker#: 80                                                                      
Backtracking best genotype sequences at marker#: 70                                                                      
Backtracking best genotype sequences at marker#: 60                                                                      
Backtracking best genotype sequences at marker#: 50                                                                      
Backtracking best genotype sequences at marker#: 40                                                                      
Backtracking best genotype sequences at marker#: 30                                                                      
Backtracking best genotype sequences at marker#: 20                                                                      
Backtracking best genotype sequences at marker#: 10                                                                      
Backtracking best genotype sequences: Done!                                                                      
Offspring genotype probability calculation ...                                                                      
                                                                      
Backward round of genotype estimation  ...

Founder genotype probability calculation ...                                                                      
Founder genotype probability calculation at marker#: 10                                                                      
Founder genotype probability calculation at marker#: 20                                                                      
Founder genotype probability calculation at marker#: 30                                                                      
Founder genotype probability calculation at marker#: 40                                                                      
Founder genotype probability calculation at marker#: 50                                                                      
Founder genotype probability calculation at marker#: 60                                                                      
Founder genotype probability calculation at marker#: 70                                                                      
Founder genotype probability calculation at marker#: 80                                                                      
Founder genotype probability calculation at marker#: 90                                                                      
Founder genotype probability calculation at marker#: 100                                                                      
Founder genotype probability calculation at marker#: 110                                                                      
Founder genotype probability calculation at marker#: 120                                                                      
Founder genotype probability calculation at marker#: 130                                                                      
Founder genotype probability calculation at marker#: 140                                                                      
Founder genotype probability calculation at marker#: 150                                                                      
Founder genotype probability calculation at marker#: 160                                                                      
Founder genotype probability calculation at marker#: 170                                                                      
Founder genotype probability calculation at marker#: 180                                                                      
Founder genotype probability calculation at marker#: 190                                                                      
Founder genotype probability calculation at marker#: 200                                                                      
Founder genotype probability calculation at marker#: 210                                                                      
Founder genotype probability calculation at marker#: 220                                                                      
Founder genotype probability calculation at marker#: 230                                                                      
Founder genotype probability calculation at marker#: 240                                                                      
Backtracking best genotype sequences at marker#: 240                                                                      
Backtracking best genotype sequences at marker#: 230                                                                      
Backtracking best genotype sequences at marker#: 220                                                                      
Backtracking best genotype sequences at marker#: 210                                                                      
Backtracking best genotype sequences at marker#: 200                                                                      
Backtracking best genotype sequences at marker#: 190                                                                      
Backtracking best genotype sequences at marker#: 180                                                                      
Backtracking best genotype sequences at marker#: 170                                                                      
Backtracking best genotype sequences at marker#: 160                                                                      
Backtracking best genotype sequences at marker#: 150                                                                      
Backtracking best genotype sequences at marker#: 140                                                                      
Backtracking best genotype sequences at marker#: 130                                                                      
Backtracking best genotype sequences at marker#: 120                                                                      
Backtracking best genotype sequences at marker#: 110                                                                      
Backtracking best genotype sequences at marker#: 100                                                                      
Backtracking best genotype sequences at marker#: 90                                                                      
Backtracking best genotype sequences at marker#: 80                                                                      
Backtracking best genotype sequences at marker#: 70                                                                      
Backtracking best genotype sequences at marker#: 60                                                                      
Backtracking best genotype sequences at marker#: 50                                                                      
Backtracking best genotype sequences at marker#: 40                                                                      
Backtracking best genotype sequences at marker#: 30                                                                      
Backtracking best genotype sequences at marker#: 20                                                                      
Backtracking best genotype sequences at marker#: 10                                                                      
Backtracking best genotype sequences: Done!                                                                      
Offspring genotype probability calculation ...                                                                      
                                                                      
Summarizing output ...

Done!
The connection to the GDS file was closed.
[ FAIL 0 | WARN 0 | SKIP 0 | PASS 271 ]
> 
> proc.time()
   user  system elapsed 
 41.046  13.497  55.902 

Example timings

GBScleanR.Rcheck/GBScleanR-Ex.timings

nameusersystemelapsed
GbsrGenotypeData-class0.0240.0050.409
GbsrScheme-class0.0210.0030.025
addScheme0.0160.0040.020
assignScheme0.2030.0060.210
boxplotGBSR1.4600.0701.535
closeGDS0.0080.0030.010
countGenotype1.1770.0091.193
countRead1.1880.0131.251
estGeno 4.06211.28115.743
gbsrGDS2CSV0.0350.0050.057
gbsrGDS2VCF0.0090.0030.011
gbsrVCF2GDS0.1580.0670.681
getAllele0.0110.0070.018
getChromosome0.0090.0050.015
getCountAlleleAlt0.4780.0080.488
getCountAlleleMissing0.4680.0070.477
getCountAlleleRef0.4570.0060.467
getCountGenoAlt0.4740.0070.489
getCountGenoHet0.4680.0070.519
getCountGenoMissing0.4820.0060.491
getCountGenoRef0.4590.0080.469
getCountRead0.5010.0100.512
getCountReadAlt0.5140.0080.566
getCountReadRef0.5120.0080.522
getFixedBias0.1290.0610.291
getGenotype0.0720.0030.116
getHaplotype 4.02011.11115.334
getInfo0.0090.0030.013
getMAC0.4580.0100.596
getMAF0.4610.0130.568
getMarID0.0100.0090.019
getMeanReadAlt0.5030.0140.561
getMeanReadRef0.4800.0120.499
getMedianReadAlt0.4720.0150.539
getMedianReadRef0.4940.0130.511
getParents0.0150.0040.019
getPosition0.0110.0060.018
getRead0.0140.0030.017
getReplicates0.0110.0030.014
getSDReadAlt0.4920.0100.514
getSDReadRef0.4950.0100.513
getSamID0.0090.0040.014
histGBSR1.0690.0081.092
initScheme0.0150.0030.019
isOpenGDS0.0110.0030.015
loadGDS0.1400.0670.260
makeScheme0.0150.0040.018
nmar0.0080.0030.011
nsam0.0090.0030.012
pairsGBSR0.8010.0080.813
plotDosage0.5500.0130.570
plotGBSR0.9430.0111.006
plotReadRatio0.4680.0070.490
reopenGDS0.0140.0040.019
resetCallFilter0.6850.1010.866
resetFilter1.7260.1021.958
resetMarFilter1.0780.0081.132
resetSamFilter1.1250.0681.260
setCallFilter1.2780.1241.513
setFixedBias0.1330.0620.219
setInfoFilter0.0110.0030.015
setMarFilter0.9560.0081.004
setParents 3.97711.23715.875
setReplicates0.0120.0050.016
setSamFilter0.9260.0070.942
showScheme0.0140.0050.019
thinMarker0.4730.0040.489
validMar0.0100.0090.021
validSam0.0100.0050.015