Back to Multiple platform build/check report for BioC 3.20:   simplified   long
ABCDEF[G]HIJKLMNOPQRSTUVWXYZ

This page was generated on 2025-02-03 12:08 -0500 (Mon, 03 Feb 2025).

HostnameOSArch (*)R versionInstalled pkgs
nebbiolo2Linux (Ubuntu 24.04.1 LTS)x86_644.4.2 (2024-10-31) -- "Pile of Leaves" 4746
palomino8Windows Server 2022 Datacenterx644.4.2 (2024-10-31 ucrt) -- "Pile of Leaves" 4494
merida1macOS 12.7.5 Montereyx86_644.4.2 (2024-10-31) -- "Pile of Leaves" 4517
kjohnson1macOS 13.6.6 Venturaarm644.4.2 (2024-10-31) -- "Pile of Leaves" 4469
taishanLinux (openEuler 24.03 LTS)aarch644.4.2 (2024-10-31) -- "Pile of Leaves" 4400
Click on any hostname to see more info about the system (e.g. compilers)      (*) as reported by 'uname -p', except on Windows and Mac OS X

Package 897/2289HostnameOS / ArchINSTALLBUILDCHECKBUILD BIN
GRaNIE 1.10.0  (landing page)
Christian Arnold
Snapshot Date: 2025-01-30 13:00 -0500 (Thu, 30 Jan 2025)
git_url: https://git.bioconductor.org/packages/GRaNIE
git_branch: RELEASE_3_20
git_last_commit: 22b61ee
git_last_commit_date: 2024-10-29 11:11:39 -0500 (Tue, 29 Oct 2024)
nebbiolo2Linux (Ubuntu 24.04.1 LTS) / x86_64  OK    OK    OK  UNNEEDED, same version is already published
palomino8Windows Server 2022 Datacenter / x64  OK    OK    WARNINGS    OK  UNNEEDED, same version is already published
merida1macOS 12.7.5 Monterey / x86_64  OK    OK    OK    OK  UNNEEDED, same version is already published
kjohnson1macOS 13.6.6 Ventura / arm64  OK    OK    OK    OK  UNNEEDED, same version is already published
taishanLinux (openEuler 24.03 LTS) / aarch64  OK    OK    ERROR  


CHECK results for GRaNIE on merida1

To the developers/maintainers of the GRaNIE package:
- Allow up to 24 hours (and sometimes 48 hours) for your latest push to git@git.bioconductor.org:packages/GRaNIE.git to reflect on this report. See Troubleshooting Build Report for more information.
- Use the following Renviron settings to reproduce errors and warnings.
- If 'R CMD check' started to fail recently on the Linux builder(s) over a missing dependency, add the missing dependency to 'Suggests:' in your DESCRIPTION file. See Renviron.bioc for more information.

raw results


Summary

Package: GRaNIE
Version: 1.10.0
Command: /Library/Frameworks/R.framework/Resources/bin/R CMD check --install=check:GRaNIE.install-out.txt --library=/Library/Frameworks/R.framework/Resources/library --no-vignettes --timings GRaNIE_1.10.0.tar.gz
StartedAt: 2025-01-31 04:46:02 -0500 (Fri, 31 Jan 2025)
EndedAt: 2025-01-31 05:00:17 -0500 (Fri, 31 Jan 2025)
EllapsedTime: 855.2 seconds
RetCode: 0
Status:   OK  
CheckDir: GRaNIE.Rcheck
Warnings: 0

Command output

##############################################################################
##############################################################################
###
### Running command:
###
###   /Library/Frameworks/R.framework/Resources/bin/R CMD check --install=check:GRaNIE.install-out.txt --library=/Library/Frameworks/R.framework/Resources/library --no-vignettes --timings GRaNIE_1.10.0.tar.gz
###
##############################################################################
##############################################################################


* using log directory ‘/Users/biocbuild/bbs-3.20-bioc/meat/GRaNIE.Rcheck’
* using R version 4.4.2 (2024-10-31)
* using platform: x86_64-apple-darwin20
* R was compiled by
    Apple clang version 14.0.0 (clang-1400.0.29.202)
    GNU Fortran (GCC) 12.2.0
* running under: macOS Monterey 12.7.6
* using session charset: UTF-8
* using option ‘--no-vignettes’
* checking for file ‘GRaNIE/DESCRIPTION’ ... OK
* this is package ‘GRaNIE’ version ‘1.10.0’
* package encoding: UTF-8
* checking package namespace information ... OK
* checking package dependencies ... OK
* checking if this is a source package ... OK
* checking if there is a namespace ... OK
* checking for hidden files and directories ... OK
* checking for portable file names ... OK
* checking for sufficient/correct file permissions ... OK
* checking whether package ‘GRaNIE’ can be installed ... OK
* checking installed package size ... OK
* checking package directory ... OK
* checking ‘build’ directory ... OK
* checking DESCRIPTION meta-information ... OK
* checking top-level files ... OK
* checking for left-over files ... OK
* checking index information ... OK
* checking package subdirectories ... OK
* checking code files for non-ASCII characters ... OK
* checking R files for syntax errors ... OK
* checking whether the package can be loaded ... OK
* checking whether the package can be loaded with stated dependencies ... OK
* checking whether the package can be unloaded cleanly ... OK
* checking whether the namespace can be loaded with stated dependencies ... OK
* checking whether the namespace can be unloaded cleanly ... OK
* checking whether startup messages can be suppressed ... OK
* checking dependencies in R code ... OK
* checking S3 generic/method consistency ... OK
* checking replacement functions ... OK
* checking foreign function calls ... OK
* checking R code for possible problems ... NOTE
.performIHW: no visible binding for global variable 'adj_pvalue'
Undefined global functions or variables:
  adj_pvalue
* checking Rd files ... OK
* checking Rd metadata ... OK
* checking Rd cross-references ... OK
* checking for missing documentation entries ... OK
* checking for code/documentation mismatches ... OK
* checking Rd \usage sections ... OK
* checking Rd contents ... OK
* checking for unstated dependencies in examples ... OK
* checking files in ‘vignettes’ ... OK
* checking examples ... OK
Examples with CPU (user + system) or elapsed time > 5s
                                 user system elapsed
generateStatsSummary           11.726  0.202  12.635
addSNPData                      8.838  0.439  14.738
addConnections_TF_peak          7.104  1.358  17.222
plotDiagnosticPlots_peakGene    8.231  0.165   9.145
plotDiagnosticPlots_TFPeaks     6.075  0.132   6.750
plotCommunitiesEnrichment       5.613  0.183   6.308
getGRNSummary                   5.301  0.119   5.945
plot_stats_connectionSummary    5.266  0.141   6.256
plotCommunitiesStats            5.137  0.088   5.817
calculateCommunitiesEnrichment  4.866  0.218   5.875
visualizeGRN                    4.732  0.187   5.745
plotGeneralGraphStats           4.812  0.082   5.397
plotCorrelations                4.541  0.134   5.256
plotTFEnrichment                4.265  0.083   5.043
addConnections_peak_gene        4.073  0.092   6.983
* checking for unstated dependencies in vignettes ... OK
* checking package vignettes ... OK
* checking running R code from vignettes ... SKIPPED
* checking re-building of vignette outputs ... SKIPPED
* checking PDF version of manual ... OK
* DONE

Status: 1 NOTE
See
  ‘/Users/biocbuild/bbs-3.20-bioc/meat/GRaNIE.Rcheck/00check.log’
for details.


Installation output

GRaNIE.Rcheck/00install.out

##############################################################################
##############################################################################
###
### Running command:
###
###   /Library/Frameworks/R.framework/Resources/bin/R CMD INSTALL GRaNIE
###
##############################################################################
##############################################################################


* installing to library ‘/Library/Frameworks/R.framework/Versions/4.4-x86_64/Resources/library’
* installing *source* package ‘GRaNIE’ ...
** using staged installation
** R
** byte-compile and prepare package for lazy loading
** help
*** installing help indices
*** copying figures
** building package indices
** installing vignettes
** testing if installed package can be loaded from temporary location
** testing if installed package can be loaded from final location
** testing if installed package keeps a record of temporary installation path
* DONE (GRaNIE)

Tests output


Example timings

GRaNIE.Rcheck/GRaNIE-Ex.timings

nameusersystemelapsed
AR_classification_wrapper0.0000.0000.001
addConnections_TF_peak 7.104 1.35817.222
addConnections_peak_gene4.0730.0926.983
addData000
addSNPData 8.838 0.43914.738
addTFBS000
add_TF_gene_correlation2.8200.0753.455
add_featureVariation0.0010.0010.001
build_eGRN_graph2.8790.0873.477
calculateCommunitiesEnrichment4.8660.2185.875
calculateCommunitiesStats3.9030.1404.651
calculateGeneralEnrichment3.1790.0713.831
calculateTFEnrichment3.4730.0774.059
changeOutputDirectory2.7660.0683.612
deleteIntermediateData2.8180.0903.725
filterConnectionsForPlotting2.8190.0743.695
filterData3.4960.0944.274
filterGRNAndConnectGenes2.7670.0633.298
generateStatsSummary11.726 0.20212.635
getCounts2.9490.0873.529
getGRNConnections2.6970.0643.220
getGRNSummary5.3010.1195.945
getParameters2.6670.0673.267
getTopNodes2.9500.0993.578
initializeGRN0.0390.0060.044
loadExampleObject2.7970.1073.511
nGenes3.9050.0964.577
nPeaks2.6840.0623.287
nTFs2.7630.0723.441
overlapPeaksAndTFBS2.6250.0583.157
performAllNetworkAnalyses0.0000.0010.001
plotCommunitiesEnrichment5.6130.1836.308
plotCommunitiesStats5.1370.0885.817
plotCorrelations4.5410.1345.256
plotDiagnosticPlots_TFPeaks6.0750.1326.750
plotDiagnosticPlots_peakGene8.2310.1659.145
plotGeneralEnrichment3.2730.0753.842
plotGeneralGraphStats4.8120.0825.397
plotPCA_all4.2070.1724.986
plotTFEnrichment4.2650.0835.043
plot_stats_connectionSummary5.2660.1416.256
visualizeGRN4.7320.1875.745