Back to Multiple platform build/check report for BioC 3.20: simplified long |
|
This page was generated on 2025-02-03 12:05 -0500 (Mon, 03 Feb 2025).
Hostname | OS | Arch (*) | R version | Installed pkgs |
---|---|---|---|---|
nebbiolo2 | Linux (Ubuntu 24.04.1 LTS) | x86_64 | 4.4.2 (2024-10-31) -- "Pile of Leaves" | 4746 |
palomino8 | Windows Server 2022 Datacenter | x64 | 4.4.2 (2024-10-31 ucrt) -- "Pile of Leaves" | 4494 |
merida1 | macOS 12.7.5 Monterey | x86_64 | 4.4.2 (2024-10-31) -- "Pile of Leaves" | 4517 |
kjohnson1 | macOS 13.6.6 Ventura | arm64 | 4.4.2 (2024-10-31) -- "Pile of Leaves" | 4469 |
taishan | Linux (openEuler 24.03 LTS) | aarch64 | 4.4.2 (2024-10-31) -- "Pile of Leaves" | 4400 |
Click on any hostname to see more info about the system (e.g. compilers) (*) as reported by 'uname -p', except on Windows and Mac OS X |
Package 897/2289 | Hostname | OS / Arch | INSTALL | BUILD | CHECK | BUILD BIN | ||||||||
GRaNIE 1.10.0 (landing page) Christian Arnold
| nebbiolo2 | Linux (Ubuntu 24.04.1 LTS) / x86_64 | OK | OK | OK | |||||||||
palomino8 | Windows Server 2022 Datacenter / x64 | OK | OK | WARNINGS | OK | |||||||||
merida1 | macOS 12.7.5 Monterey / x86_64 | OK | OK | OK | OK | |||||||||
kjohnson1 | macOS 13.6.6 Ventura / arm64 | OK | OK | OK | OK | |||||||||
taishan | Linux (openEuler 24.03 LTS) / aarch64 | OK | OK | ERROR | ||||||||||
To the developers/maintainers of the GRaNIE package: - Allow up to 24 hours (and sometimes 48 hours) for your latest push to git@git.bioconductor.org:packages/GRaNIE.git to reflect on this report. See Troubleshooting Build Report for more information. - Use the following Renviron settings to reproduce errors and warnings. - If 'R CMD check' started to fail recently on the Linux builder(s) over a missing dependency, add the missing dependency to 'Suggests:' in your DESCRIPTION file. See Renviron.bioc for more information. |
Package: GRaNIE |
Version: 1.10.0 |
Command: /home/biocbuild/bbs-3.20-bioc/R/bin/R CMD check --install=check:GRaNIE.install-out.txt --library=/home/biocbuild/bbs-3.20-bioc/R/site-library --timings GRaNIE_1.10.0.tar.gz |
StartedAt: 2025-01-30 22:47:09 -0500 (Thu, 30 Jan 2025) |
EndedAt: 2025-01-30 22:57:13 -0500 (Thu, 30 Jan 2025) |
EllapsedTime: 603.8 seconds |
RetCode: 0 |
Status: OK |
CheckDir: GRaNIE.Rcheck |
Warnings: 0 |
############################################################################## ############################################################################## ### ### Running command: ### ### /home/biocbuild/bbs-3.20-bioc/R/bin/R CMD check --install=check:GRaNIE.install-out.txt --library=/home/biocbuild/bbs-3.20-bioc/R/site-library --timings GRaNIE_1.10.0.tar.gz ### ############################################################################## ############################################################################## * using log directory ‘/home/biocbuild/bbs-3.20-bioc/meat/GRaNIE.Rcheck’ * using R version 4.4.2 (2024-10-31) * using platform: x86_64-pc-linux-gnu * R was compiled by gcc (Ubuntu 13.2.0-23ubuntu4) 13.2.0 GNU Fortran (Ubuntu 13.2.0-23ubuntu4) 13.2.0 * running under: Ubuntu 24.04.1 LTS * using session charset: UTF-8 * checking for file ‘GRaNIE/DESCRIPTION’ ... OK * this is package ‘GRaNIE’ version ‘1.10.0’ * package encoding: UTF-8 * checking package namespace information ... OK * checking package dependencies ... OK * checking if this is a source package ... OK * checking if there is a namespace ... OK * checking for hidden files and directories ... OK * checking for portable file names ... OK * checking for sufficient/correct file permissions ... OK * checking whether package ‘GRaNIE’ can be installed ... OK * checking installed package size ... OK * checking package directory ... OK * checking ‘build’ directory ... OK * checking DESCRIPTION meta-information ... OK * checking top-level files ... OK * checking for left-over files ... OK * checking index information ... OK * checking package subdirectories ... OK * checking code files for non-ASCII characters ... OK * checking R files for syntax errors ... OK * checking whether the package can be loaded ... OK * checking whether the package can be loaded with stated dependencies ... OK * checking whether the package can be unloaded cleanly ... OK * checking whether the namespace can be loaded with stated dependencies ... OK * checking whether the namespace can be unloaded cleanly ... OK * checking loading without being on the library search path ... OK * checking whether startup messages can be suppressed ... OK * checking dependencies in R code ... OK * checking S3 generic/method consistency ... OK * checking replacement functions ... OK * checking foreign function calls ... OK * checking R code for possible problems ... NOTE .performIHW: no visible binding for global variable 'adj_pvalue' Undefined global functions or variables: adj_pvalue * checking Rd files ... OK * checking Rd metadata ... OK * checking Rd cross-references ... OK * checking for missing documentation entries ... OK * checking for code/documentation mismatches ... OK * checking Rd \usage sections ... OK * checking Rd contents ... OK * checking for unstated dependencies in examples ... OK * checking files in ‘vignettes’ ... OK * checking examples ... OK Examples with CPU (user + system) or elapsed time > 5s user system elapsed generateStatsSummary 9.624 0.670 11.716 plotCommunitiesEnrichment 6.454 0.681 7.974 plotDiagnosticPlots_peakGene 4.728 0.455 5.621 addSNPData 4.763 0.262 6.885 plotCorrelations 4.330 0.583 5.388 plotCommunitiesStats 4.550 0.228 5.335 nGenes 4.287 0.451 5.838 getGRNConnections 4.123 0.492 5.549 filterData 4.228 0.273 5.425 * checking for unstated dependencies in vignettes ... OK * checking package vignettes ... OK * checking re-building of vignette outputs ... OK * checking PDF version of manual ... OK * DONE Status: 1 NOTE See ‘/home/biocbuild/bbs-3.20-bioc/meat/GRaNIE.Rcheck/00check.log’ for details.
GRaNIE.Rcheck/00install.out
############################################################################## ############################################################################## ### ### Running command: ### ### /home/biocbuild/bbs-3.20-bioc/R/bin/R CMD INSTALL GRaNIE ### ############################################################################## ############################################################################## * installing to library ‘/home/biocbuild/bbs-3.20-bioc/R/site-library’ * installing *source* package ‘GRaNIE’ ... ** using staged installation ** R ** byte-compile and prepare package for lazy loading ** help *** installing help indices *** copying figures ** building package indices ** installing vignettes ** testing if installed package can be loaded from temporary location ** testing if installed package can be loaded from final location ** testing if installed package keeps a record of temporary installation path * DONE (GRaNIE)
GRaNIE.Rcheck/GRaNIE-Ex.timings
name | user | system | elapsed | |
AR_classification_wrapper | 0 | 0 | 0 | |
addConnections_TF_peak | 2.958 | 0.116 | 3.993 | |
addConnections_peak_gene | 2.560 | 0.083 | 3.069 | |
addData | 0 | 0 | 0 | |
addSNPData | 4.763 | 0.262 | 6.885 | |
addTFBS | 0 | 0 | 0 | |
add_TF_gene_correlation | 1.560 | 0.070 | 2.108 | |
add_featureVariation | 0 | 0 | 0 | |
build_eGRN_graph | 1.604 | 0.109 | 2.192 | |
calculateCommunitiesEnrichment | 3.381 | 0.348 | 4.269 | |
calculateCommunitiesStats | 1.647 | 0.064 | 2.165 | |
calculateGeneralEnrichment | 1.937 | 0.117 | 2.488 | |
calculateTFEnrichment | 2.140 | 0.130 | 2.691 | |
changeOutputDirectory | 1.619 | 0.035 | 2.145 | |
deleteIntermediateData | 1.738 | 0.068 | 2.300 | |
filterConnectionsForPlotting | 2.956 | 0.106 | 4.365 | |
filterData | 4.228 | 0.273 | 5.425 | |
filterGRNAndConnectGenes | 2.328 | 0.093 | 3.154 | |
generateStatsSummary | 9.624 | 0.670 | 11.716 | |
getCounts | 2.084 | 0.109 | 2.742 | |
getGRNConnections | 4.123 | 0.492 | 5.549 | |
getGRNSummary | 3.609 | 0.202 | 4.340 | |
getParameters | 2.204 | 0.096 | 2.799 | |
getTopNodes | 2.431 | 0.110 | 3.213 | |
initializeGRN | 0.040 | 0.008 | 0.055 | |
loadExampleObject | 2.606 | 0.169 | 3.741 | |
nGenes | 4.287 | 0.451 | 5.838 | |
nPeaks | 1.827 | 0.146 | 2.476 | |
nTFs | 2.943 | 0.151 | 3.635 | |
overlapPeaksAndTFBS | 2.227 | 0.108 | 2.982 | |
performAllNetworkAnalyses | 0 | 0 | 0 | |
plotCommunitiesEnrichment | 6.454 | 0.681 | 7.974 | |
plotCommunitiesStats | 4.550 | 0.228 | 5.335 | |
plotCorrelations | 4.330 | 0.583 | 5.388 | |
plotDiagnosticPlots_TFPeaks | 4.054 | 0.294 | 4.883 | |
plotDiagnosticPlots_peakGene | 4.728 | 0.455 | 5.621 | |
plotGeneralEnrichment | 1.827 | 0.091 | 2.373 | |
plotGeneralGraphStats | 2.421 | 0.169 | 3.057 | |
plotPCA_all | 3.368 | 0.314 | 4.203 | |
plotTFEnrichment | 2.162 | 0.102 | 2.767 | |
plot_stats_connectionSummary | 2.135 | 0.163 | 2.752 | |
visualizeGRN | 2.444 | 0.203 | 3.156 | |