Back to Multiple platform build/check report for BioC 3.20:   simplified   long
ABCDEFGHIJKLMNO[P]QRSTUVWXYZ

This page was generated on 2025-02-03 12:05 -0500 (Mon, 03 Feb 2025).

HostnameOSArch (*)R versionInstalled pkgs
nebbiolo2Linux (Ubuntu 24.04.1 LTS)x86_644.4.2 (2024-10-31) -- "Pile of Leaves" 4746
palomino8Windows Server 2022 Datacenterx644.4.2 (2024-10-31 ucrt) -- "Pile of Leaves" 4494
merida1macOS 12.7.5 Montereyx86_644.4.2 (2024-10-31) -- "Pile of Leaves" 4517
kjohnson1macOS 13.6.6 Venturaarm644.4.2 (2024-10-31) -- "Pile of Leaves" 4469
taishanLinux (openEuler 24.03 LTS)aarch644.4.2 (2024-10-31) -- "Pile of Leaves" 4400
Click on any hostname to see more info about the system (e.g. compilers)      (*) as reported by 'uname -p', except on Windows and Mac OS X

Package 1604/2289HostnameOS / ArchINSTALLBUILDCHECKBUILD BIN
PRONE 1.0.2  (landing page)
Lis Arend
Snapshot Date: 2025-01-30 13:00 -0500 (Thu, 30 Jan 2025)
git_url: https://git.bioconductor.org/packages/PRONE
git_branch: RELEASE_3_20
git_last_commit: b30d6ab
git_last_commit_date: 2025-01-23 11:38:54 -0500 (Thu, 23 Jan 2025)
nebbiolo2Linux (Ubuntu 24.04.1 LTS) / x86_64  OK    OK    OK  UNNEEDED, same version is already published
palomino8Windows Server 2022 Datacenter / x64  OK    OK    OK    OK  UNNEEDED, same version is already published
merida1macOS 12.7.5 Monterey / x86_64  OK    OK    OK    OK  UNNEEDED, same version is already published
kjohnson1macOS 13.6.6 Ventura / arm64  OK    OK    OK    OK  UNNEEDED, same version is already published
taishanLinux (openEuler 24.03 LTS) / aarch64  OK    OK    OK  


CHECK results for PRONE on nebbiolo2

To the developers/maintainers of the PRONE package:
- Allow up to 24 hours (and sometimes 48 hours) for your latest push to git@git.bioconductor.org:packages/PRONE.git to reflect on this report. See Troubleshooting Build Report for more information.
- Use the following Renviron settings to reproduce errors and warnings.
- If 'R CMD check' started to fail recently on the Linux builder(s) over a missing dependency, add the missing dependency to 'Suggests:' in your DESCRIPTION file. See Renviron.bioc for more information.

raw results


Summary

Package: PRONE
Version: 1.0.2
Command: /home/biocbuild/bbs-3.20-bioc/R/bin/R CMD check --install=check:PRONE.install-out.txt --library=/home/biocbuild/bbs-3.20-bioc/R/site-library --timings PRONE_1.0.2.tar.gz
StartedAt: 2025-01-31 01:13:00 -0500 (Fri, 31 Jan 2025)
EndedAt: 2025-01-31 01:20:14 -0500 (Fri, 31 Jan 2025)
EllapsedTime: 433.5 seconds
RetCode: 0
Status:   OK  
CheckDir: PRONE.Rcheck
Warnings: 0

Command output

##############################################################################
##############################################################################
###
### Running command:
###
###   /home/biocbuild/bbs-3.20-bioc/R/bin/R CMD check --install=check:PRONE.install-out.txt --library=/home/biocbuild/bbs-3.20-bioc/R/site-library --timings PRONE_1.0.2.tar.gz
###
##############################################################################
##############################################################################


* using log directory ‘/home/biocbuild/bbs-3.20-bioc/meat/PRONE.Rcheck’
* using R version 4.4.2 (2024-10-31)
* using platform: x86_64-pc-linux-gnu
* R was compiled by
    gcc (Ubuntu 13.2.0-23ubuntu4) 13.2.0
    GNU Fortran (Ubuntu 13.2.0-23ubuntu4) 13.2.0
* running under: Ubuntu 24.04.1 LTS
* using session charset: UTF-8
* checking for file ‘PRONE/DESCRIPTION’ ... OK
* checking extension type ... Package
* this is package ‘PRONE’ version ‘1.0.2’
* package encoding: UTF-8
* checking package namespace information ... OK
* checking package dependencies ... OK
* checking if this is a source package ... OK
* checking if there is a namespace ... OK
* checking for hidden files and directories ... OK
* checking for portable file names ... OK
* checking for sufficient/correct file permissions ... OK
* checking whether package ‘PRONE’ can be installed ... OK
* checking installed package size ... OK
* checking package directory ... OK
* checking ‘build’ directory ... OK
* checking DESCRIPTION meta-information ... OK
* checking top-level files ... OK
* checking for left-over files ... OK
* checking index information ... OK
* checking package subdirectories ... OK
* checking code files for non-ASCII characters ... OK
* checking R files for syntax errors ... OK
* checking whether the package can be loaded ... OK
* checking whether the package can be loaded with stated dependencies ... OK
* checking whether the package can be unloaded cleanly ... OK
* checking whether the namespace can be loaded with stated dependencies ... OK
* checking whether the namespace can be unloaded cleanly ... OK
* checking loading without being on the library search path ... OK
* checking dependencies in R code ... NOTE
Unexported objects imported by ':::' calls:
  ‘NormalyzerDE:::calculateAvgMadMem’
  ‘NormalyzerDE:::calculateAvgReplicateVariation’
  ‘NormalyzerDE:::calculatePercentageAvgDiffInMat’
  ‘NormalyzerDE:::calculateReplicateCV’
  ‘NormalyzerDE:::calculateSummarizedCorrelationVector’
  See the note in ?`:::` about the use of this operator.
* checking S3 generic/method consistency ... OK
* checking replacement functions ... OK
* checking foreign function calls ... OK
* checking R code for possible problems ... OK
* checking Rd files ... OK
* checking Rd metadata ... OK
* checking Rd cross-references ... OK
* checking for missing documentation entries ... OK
* checking for code/documentation mismatches ... OK
* checking Rd \usage sections ... OK
* checking Rd contents ... OK
* checking for unstated dependencies in examples ... OK
* checking contents of ‘data’ directory ... OK
* checking data for non-ASCII characters ... OK
* checking data for ASCII and uncompressed saves ... OK
* checking files in ‘vignettes’ ... OK
* checking examples ... OK
Examples with CPU (user + system) or elapsed time > 5s
                              user system elapsed
plot_intersection_enrichment 1.727  0.018  12.794
* checking for unstated dependencies in vignettes ... OK
* checking package vignettes ... OK
* checking re-building of vignette outputs ... OK
* checking PDF version of manual ... OK
* DONE

Status: 1 NOTE
See
  ‘/home/biocbuild/bbs-3.20-bioc/meat/PRONE.Rcheck/00check.log’
for details.


Installation output

PRONE.Rcheck/00install.out

##############################################################################
##############################################################################
###
### Running command:
###
###   /home/biocbuild/bbs-3.20-bioc/R/bin/R CMD INSTALL PRONE
###
##############################################################################
##############################################################################


* installing to library ‘/home/biocbuild/bbs-3.20-bioc/R/site-library’
* installing *source* package ‘PRONE’ ...
** using staged installation
** R
** data
** inst
** byte-compile and prepare package for lazy loading
** help
*** installing help indices
*** copying figures
** building package indices
** installing vignettes
** testing if installed package can be loaded from temporary location
** testing if installed package can be loaded from final location
** testing if installed package keeps a record of temporary installation path
* DONE (PRONE)

Tests output


Example timings

PRONE.Rcheck/PRONE-Ex.timings

nameusersystemelapsed
apply_thresholds0.0310.0010.033
detect_outliers_POMA0.9040.0170.920
eigenMSNorm1.5010.0391.541
export_data0.0270.0010.027
extract_consensus_DE_candidates0.0780.0010.080
filter_out_NA_proteins_by_threshold0.2070.0050.205
filter_out_complete_NA_proteins0.0490.0040.054
filter_out_proteins_by_ID0.1540.0140.168
filter_out_proteins_by_value0.1520.0200.173
get_NA_overview0.0350.0020.037
get_normalization_methods000
get_overview_DE0.0400.0030.043
get_proteins_by_value0.1440.0170.161
get_spiked_stats_DE0.0850.0060.090
globalIntNorm0.1580.0030.161
globalMeanNorm0.1280.0000.128
globalMedianNorm0.1240.0000.125
impute_se0.7560.0130.719
irsNorm0.0590.0030.062
limmaNorm0.0680.0070.075
load_data0.0460.0070.053
load_spike_data0.0390.0060.044
loessCycNorm0.1160.0040.120
loessFNorm0.0810.0040.085
meanNorm0.0420.0010.043
medianAbsDevNorm0.0890.0040.093
medianNorm0.0580.0010.059
normalize_se3.2130.0183.231
normalize_se_combination3.1090.0053.114
normalize_se_single3.2080.0133.221
normicsNorm3.0270.0013.029
plot_NA_density0.2940.0000.280
plot_NA_frequency0.1750.0010.169
plot_NA_heatmap1.3670.0101.378
plot_PCA1.0140.0021.016
plot_ROC_AUC_spiked1.8810.0051.871
plot_TP_FP_spiked_bar0.2510.0010.252
plot_TP_FP_spiked_box0.3240.0020.325
plot_TP_FP_spiked_scatter0.3510.0020.353
plot_boxplots3.6140.0133.578
plot_condition_overview0.1810.0010.182
plot_densities2.4070.0002.300
plot_fold_changes_spiked0.4120.0030.407
plot_heatmap3.5720.0013.573
plot_heatmap_DE1.2020.0041.207
plot_histogram_spiked0.2990.0020.294
plot_identified_spiked_proteins0.3740.0030.377
plot_intersection_enrichment 1.727 0.01812.794
plot_intragroup_PCV0.4350.0010.437
plot_intragroup_PEV0.3250.0000.326
plot_intragroup_PMAD0.3240.0010.326
plot_intragroup_correlation0.3030.0020.305
plot_jaccard_heatmap0.2300.0010.220
plot_logFC_thresholds_spiked0.5160.0020.518
plot_markers_boxplots0.6450.0020.640
plot_nr_prot_samples0.2100.0010.212
plot_overview_DE_bar0.3450.0010.345
plot_overview_DE_tile0.1750.0010.176
plot_profiles_spiked0.6430.0020.633
plot_pvalues_spiked0.3970.0030.400
plot_stats_spiked_heatmap0.3110.0020.313
plot_tot_int_samples0.2050.0000.206
plot_upset0.5270.0020.529
plot_upset_DE0.7370.0060.746
plot_volcano_DE2.6910.0062.698
quantileNorm0.0410.0020.043
readPRONE_example0.0010.0000.001
remove_POMA_outliers0.4590.0020.461
remove_assays_from_SE0.0460.0010.046
remove_reference_samples0.0460.0000.045
remove_samples_manually0.0380.0020.040
rlrMACycNorm0.6140.0020.616
rlrMANorm0.1000.0010.102
rlrNorm0.0840.0000.085
robnormNorm0.0740.0000.074
run_DE2.2660.0032.239
specify_comparisons0.0440.0000.030
subset_SE_by_norm0.0780.0010.079
tmmNorm0.1230.0030.127
vsnNorm0.0970.0030.101