Back to Multiple platform build/check report for BioC 3.20: simplified long |
|
This page was generated on 2025-02-06 12:12 -0500 (Thu, 06 Feb 2025).
Hostname | OS | Arch (*) | R version | Installed pkgs |
---|---|---|---|---|
nebbiolo2 | Linux (Ubuntu 24.04.1 LTS) | x86_64 | 4.4.2 (2024-10-31) -- "Pile of Leaves" | 4753 |
palomino8 | Windows Server 2022 Datacenter | x64 | 4.4.2 (2024-10-31 ucrt) -- "Pile of Leaves" | 4501 |
merida1 | macOS 12.7.5 Monterey | x86_64 | 4.4.2 (2024-10-31) -- "Pile of Leaves" | 4524 |
kjohnson1 | macOS 13.6.6 Ventura | arm64 | 4.4.2 (2024-10-31) -- "Pile of Leaves" | 4476 |
taishan | Linux (openEuler 24.03 LTS) | aarch64 | 4.4.2 (2024-10-31) -- "Pile of Leaves" | 4407 |
Click on any hostname to see more info about the system (e.g. compilers) (*) as reported by 'uname -p', except on Windows and Mac OS X |
Package 1604/2289 | Hostname | OS / Arch | INSTALL | BUILD | CHECK | BUILD BIN | ||||||||
PRONE 1.0.2 (landing page) Lis Arend
| nebbiolo2 | Linux (Ubuntu 24.04.1 LTS) / x86_64 | OK | OK | OK | |||||||||
palomino8 | Windows Server 2022 Datacenter / x64 | OK | OK | OK | OK | |||||||||
merida1 | macOS 12.7.5 Monterey / x86_64 | OK | OK | OK | OK | |||||||||
kjohnson1 | macOS 13.6.6 Ventura / arm64 | OK | OK | OK | OK | |||||||||
taishan | Linux (openEuler 24.03 LTS) / aarch64 | OK | OK | OK | ||||||||||
To the developers/maintainers of the PRONE package: - Allow up to 24 hours (and sometimes 48 hours) for your latest push to git@git.bioconductor.org:packages/PRONE.git to reflect on this report. See Troubleshooting Build Report for more information. - Use the following Renviron settings to reproduce errors and warnings. - If 'R CMD check' started to fail recently on the Linux builder(s) over a missing dependency, add the missing dependency to 'Suggests:' in your DESCRIPTION file. See Renviron.bioc for more information. - See Martin Grigorov's blog post for how to debug Linux ARM64 related issues on a x86_64 host. |
Package: PRONE |
Version: 1.0.2 |
Command: /home/biocbuild/R/R/bin/R CMD check --install=check:PRONE.install-out.txt --library=/home/biocbuild/R/R/site-library --no-vignettes --timings PRONE_1.0.2.tar.gz |
StartedAt: 2025-02-04 10:02:06 -0000 (Tue, 04 Feb 2025) |
EndedAt: 2025-02-04 10:08:35 -0000 (Tue, 04 Feb 2025) |
EllapsedTime: 388.5 seconds |
RetCode: 0 |
Status: OK |
CheckDir: PRONE.Rcheck |
Warnings: 0 |
############################################################################## ############################################################################## ### ### Running command: ### ### /home/biocbuild/R/R/bin/R CMD check --install=check:PRONE.install-out.txt --library=/home/biocbuild/R/R/site-library --no-vignettes --timings PRONE_1.0.2.tar.gz ### ############################################################################## ############################################################################## * using log directory ‘/home/biocbuild/bbs-3.20-bioc/meat/PRONE.Rcheck’ * using R version 4.4.2 (2024-10-31) * using platform: aarch64-unknown-linux-gnu * R was compiled by aarch64-unknown-linux-gnu-gcc (GCC) 14.2.0 GNU Fortran (GCC) 12.3.1 (openEuler 12.3.1-36.oe2403) * running under: openEuler 24.03 (LTS) * using session charset: UTF-8 * using option ‘--no-vignettes’ * checking for file ‘PRONE/DESCRIPTION’ ... OK * checking extension type ... Package * this is package ‘PRONE’ version ‘1.0.2’ * package encoding: UTF-8 * checking package namespace information ... OK * checking package dependencies ... OK * checking if this is a source package ... OK * checking if there is a namespace ... OK * checking for hidden files and directories ... OK * checking for portable file names ... OK * checking for sufficient/correct file permissions ... OK * checking whether package ‘PRONE’ can be installed ... OK * checking installed package size ... OK * checking package directory ... OK * checking ‘build’ directory ... OK * checking DESCRIPTION meta-information ... OK * checking top-level files ... OK * checking for left-over files ... OK * checking index information ... OK * checking package subdirectories ... OK * checking code files for non-ASCII characters ... OK * checking R files for syntax errors ... OK * checking whether the package can be loaded ... OK * checking whether the package can be loaded with stated dependencies ... OK * checking whether the package can be unloaded cleanly ... OK * checking whether the namespace can be loaded with stated dependencies ... OK * checking whether the namespace can be unloaded cleanly ... OK * checking loading without being on the library search path ... OK * checking dependencies in R code ... NOTE Unexported objects imported by ':::' calls: ‘NormalyzerDE:::calculateAvgMadMem’ ‘NormalyzerDE:::calculateAvgReplicateVariation’ ‘NormalyzerDE:::calculatePercentageAvgDiffInMat’ ‘NormalyzerDE:::calculateReplicateCV’ ‘NormalyzerDE:::calculateSummarizedCorrelationVector’ See the note in ?`:::` about the use of this operator. * checking S3 generic/method consistency ... OK * checking replacement functions ... OK * checking foreign function calls ... OK * checking R code for possible problems ... OK * checking Rd files ... OK * checking Rd metadata ... OK * checking Rd cross-references ... OK * checking for missing documentation entries ... OK * checking for code/documentation mismatches ... OK * checking Rd \usage sections ... OK * checking Rd contents ... OK * checking for unstated dependencies in examples ... OK * checking contents of ‘data’ directory ... OK * checking data for non-ASCII characters ... OK * checking data for ASCII and uncompressed saves ... OK * checking files in ‘vignettes’ ... OK * checking examples ... OK Examples with CPU (user + system) or elapsed time > 5s user system elapsed plot_boxplots 5.625 0.100 5.737 normalize_se 5.536 0.123 5.676 plot_heatmap 5.580 0.060 5.657 normalize_se_combination 5.245 0.176 5.433 normicsNorm 5.161 0.163 5.340 normalize_se_single 5.263 0.060 5.336 plot_intersection_enrichment 2.191 0.195 13.444 * checking for unstated dependencies in vignettes ... OK * checking package vignettes ... OK * checking running R code from vignettes ... SKIPPED * checking re-building of vignette outputs ... SKIPPED * checking PDF version of manual ... OK * DONE Status: 1 NOTE See ‘/home/biocbuild/bbs-3.20-bioc/meat/PRONE.Rcheck/00check.log’ for details.
PRONE.Rcheck/00install.out
############################################################################## ############################################################################## ### ### Running command: ### ### /home/biocbuild/R/R/bin/R CMD INSTALL PRONE ### ############################################################################## ############################################################################## * installing to library ‘/home/biocbuild/R/R-4.4.2/site-library’ * installing *source* package ‘PRONE’ ... ** using staged installation ** R ** data ** inst ** byte-compile and prepare package for lazy loading ** help *** installing help indices *** copying figures ** building package indices ** installing vignettes ** testing if installed package can be loaded from temporary location ** testing if installed package can be loaded from final location ** testing if installed package keeps a record of temporary installation path * DONE (PRONE)
PRONE.Rcheck/PRONE-Ex.timings
name | user | system | elapsed | |
apply_thresholds | 0.034 | 0.000 | 0.035 | |
detect_outliers_POMA | 1.223 | 0.071 | 1.297 | |
eigenMSNorm | 1.624 | 0.044 | 1.672 | |
export_data | 0.024 | 0.000 | 0.025 | |
extract_consensus_DE_candidates | 0.098 | 0.000 | 0.098 | |
filter_out_NA_proteins_by_threshold | 0.258 | 0.032 | 0.290 | |
filter_out_complete_NA_proteins | 0.052 | 0.008 | 0.060 | |
filter_out_proteins_by_ID | 0.205 | 0.028 | 0.232 | |
filter_out_proteins_by_value | 0.206 | 0.024 | 0.230 | |
get_NA_overview | 0.037 | 0.000 | 0.036 | |
get_normalization_methods | 0.001 | 0.000 | 0.000 | |
get_overview_DE | 0.042 | 0.004 | 0.046 | |
get_proteins_by_value | 0.194 | 0.016 | 0.211 | |
get_spiked_stats_DE | 0.115 | 0.008 | 0.123 | |
globalIntNorm | 0.174 | 0.012 | 0.187 | |
globalMeanNorm | 0.179 | 0.004 | 0.184 | |
globalMedianNorm | 0.177 | 0.012 | 0.189 | |
impute_se | 0.974 | 0.004 | 0.977 | |
irsNorm | 0.068 | 0.008 | 0.075 | |
limmaNorm | 0.086 | 0.008 | 0.094 | |
load_data | 0.070 | 0.004 | 0.077 | |
load_spike_data | 0.081 | 0.004 | 0.088 | |
loessCycNorm | 0.142 | 0.012 | 0.155 | |
loessFNorm | 0.129 | 0.000 | 0.129 | |
meanNorm | 0.044 | 0.004 | 0.049 | |
medianAbsDevNorm | 0.114 | 0.012 | 0.127 | |
medianNorm | 0.061 | 0.012 | 0.073 | |
normalize_se | 5.536 | 0.123 | 5.676 | |
normalize_se_combination | 5.245 | 0.176 | 5.433 | |
normalize_se_single | 5.263 | 0.060 | 5.336 | |
normicsNorm | 5.161 | 0.163 | 5.340 | |
plot_NA_density | 0.397 | 0.012 | 0.410 | |
plot_NA_frequency | 0.242 | 0.000 | 0.243 | |
plot_NA_heatmap | 1.947 | 0.040 | 1.993 | |
plot_PCA | 1.487 | 0.008 | 1.499 | |
plot_ROC_AUC_spiked | 2.235 | 0.055 | 2.302 | |
plot_TP_FP_spiked_bar | 0.326 | 0.008 | 0.335 | |
plot_TP_FP_spiked_box | 0.448 | 0.000 | 0.448 | |
plot_TP_FP_spiked_scatter | 0.484 | 0.007 | 0.493 | |
plot_boxplots | 5.625 | 0.100 | 5.737 | |
plot_condition_overview | 0.256 | 0.004 | 0.261 | |
plot_densities | 3.367 | 0.027 | 3.400 | |
plot_fold_changes_spiked | 0.573 | 0.004 | 0.579 | |
plot_heatmap | 5.580 | 0.060 | 5.657 | |
plot_heatmap_DE | 1.700 | 0.008 | 1.712 | |
plot_histogram_spiked | 0.428 | 0.000 | 0.428 | |
plot_identified_spiked_proteins | 0.527 | 0.000 | 0.529 | |
plot_intersection_enrichment | 2.191 | 0.195 | 13.444 | |
plot_intragroup_PCV | 0.748 | 0.095 | 0.847 | |
plot_intragroup_PEV | 0.486 | 0.023 | 0.511 | |
plot_intragroup_PMAD | 0.464 | 0.044 | 0.510 | |
plot_intragroup_correlation | 0.501 | 0.072 | 0.575 | |
plot_jaccard_heatmap | 0.335 | 0.008 | 0.344 | |
plot_logFC_thresholds_spiked | 0.733 | 0.028 | 0.764 | |
plot_markers_boxplots | 1.024 | 0.072 | 1.099 | |
plot_nr_prot_samples | 0.325 | 0.016 | 0.342 | |
plot_overview_DE_bar | 0.412 | 0.032 | 0.445 | |
plot_overview_DE_tile | 0.240 | 0.016 | 0.258 | |
plot_profiles_spiked | 0.993 | 0.055 | 1.056 | |
plot_pvalues_spiked | 0.592 | 0.020 | 0.614 | |
plot_stats_spiked_heatmap | 0.395 | 0.004 | 0.401 | |
plot_tot_int_samples | 0.301 | 0.028 | 0.330 | |
plot_upset | 0.892 | 0.044 | 0.939 | |
plot_upset_DE | 1.115 | 0.068 | 1.193 | |
plot_volcano_DE | 4.122 | 0.176 | 4.311 | |
quantileNorm | 0.044 | 0.003 | 0.049 | |
readPRONE_example | 0.001 | 0.000 | 0.001 | |
remove_POMA_outliers | 0.770 | 0.020 | 0.793 | |
remove_assays_from_SE | 0.051 | 0.005 | 0.056 | |
remove_reference_samples | 0.037 | 0.000 | 0.037 | |
remove_samples_manually | 0.038 | 0.003 | 0.042 | |
rlrMACycNorm | 0.892 | 0.044 | 0.940 | |
rlrMANorm | 0.123 | 0.008 | 0.131 | |
rlrNorm | 0.116 | 0.000 | 0.117 | |
robnormNorm | 0.138 | 0.020 | 0.158 | |
run_DE | 3.325 | 0.119 | 3.454 | |
specify_comparisons | 0.028 | 0.000 | 0.028 | |
subset_SE_by_norm | 0.102 | 0.000 | 0.103 | |
tmmNorm | 0.163 | 0.004 | 0.168 | |
vsnNorm | 0.078 | 0.004 | 0.083 | |