Back to Multiple platform build/check report for BioC 3.20: simplified long |
|
This page was generated on 2025-02-06 12:09 -0500 (Thu, 06 Feb 2025).
Hostname | OS | Arch (*) | R version | Installed pkgs |
---|---|---|---|---|
nebbiolo2 | Linux (Ubuntu 24.04.1 LTS) | x86_64 | 4.4.2 (2024-10-31) -- "Pile of Leaves" | 4753 |
palomino8 | Windows Server 2022 Datacenter | x64 | 4.4.2 (2024-10-31 ucrt) -- "Pile of Leaves" | 4501 |
merida1 | macOS 12.7.5 Monterey | x86_64 | 4.4.2 (2024-10-31) -- "Pile of Leaves" | 4524 |
kjohnson1 | macOS 13.6.6 Ventura | arm64 | 4.4.2 (2024-10-31) -- "Pile of Leaves" | 4476 |
taishan | Linux (openEuler 24.03 LTS) | aarch64 | 4.4.2 (2024-10-31) -- "Pile of Leaves" | 4407 |
Click on any hostname to see more info about the system (e.g. compilers) (*) as reported by 'uname -p', except on Windows and Mac OS X |
Package 1698/2289 | Hostname | OS / Arch | INSTALL | BUILD | CHECK | BUILD BIN | ||||||||
ReactomeGSA 1.20.0 (landing page) Johannes Griss
| nebbiolo2 | Linux (Ubuntu 24.04.1 LTS) / x86_64 | OK | OK | OK | ![]() | ||||||||
palomino8 | Windows Server 2022 Datacenter / x64 | OK | OK | OK | OK | ![]() | ||||||||
merida1 | macOS 12.7.5 Monterey / x86_64 | OK | OK | OK | OK | ![]() | ||||||||
kjohnson1 | macOS 13.6.6 Ventura / arm64 | OK | OK | OK | OK | ![]() | ||||||||
taishan | Linux (openEuler 24.03 LTS) / aarch64 | OK | OK | OK | ||||||||||
To the developers/maintainers of the ReactomeGSA package: - Allow up to 24 hours (and sometimes 48 hours) for your latest push to git@git.bioconductor.org:packages/ReactomeGSA.git to reflect on this report. See Troubleshooting Build Report for more information. - Use the following Renviron settings to reproduce errors and warnings. - If 'R CMD check' started to fail recently on the Linux builder(s) over a missing dependency, add the missing dependency to 'Suggests:' in your DESCRIPTION file. See Renviron.bioc for more information. |
Package: ReactomeGSA |
Version: 1.20.0 |
Command: /Library/Frameworks/R.framework/Resources/bin/R CMD check --install=check:ReactomeGSA.install-out.txt --library=/Library/Frameworks/R.framework/Resources/library --no-vignettes --timings ReactomeGSA_1.20.0.tar.gz |
StartedAt: 2025-02-04 08:40:34 -0500 (Tue, 04 Feb 2025) |
EndedAt: 2025-02-04 09:04:06 -0500 (Tue, 04 Feb 2025) |
EllapsedTime: 1412.8 seconds |
RetCode: 0 |
Status: OK |
CheckDir: ReactomeGSA.Rcheck |
Warnings: 0 |
############################################################################## ############################################################################## ### ### Running command: ### ### /Library/Frameworks/R.framework/Resources/bin/R CMD check --install=check:ReactomeGSA.install-out.txt --library=/Library/Frameworks/R.framework/Resources/library --no-vignettes --timings ReactomeGSA_1.20.0.tar.gz ### ############################################################################## ############################################################################## * using log directory ‘/Users/biocbuild/bbs-3.20-bioc/meat/ReactomeGSA.Rcheck’ * using R version 4.4.2 (2024-10-31) * using platform: x86_64-apple-darwin20 * R was compiled by Apple clang version 14.0.0 (clang-1400.0.29.202) GNU Fortran (GCC) 12.2.0 * running under: macOS Monterey 12.7.6 * using session charset: UTF-8 * using option ‘--no-vignettes’ * checking for file ‘ReactomeGSA/DESCRIPTION’ ... OK * checking extension type ... Package * this is package ‘ReactomeGSA’ version ‘1.20.0’ * package encoding: UTF-8 * checking package namespace information ... OK * checking package dependencies ... OK * checking if this is a source package ... OK * checking if there is a namespace ... OK * checking for hidden files and directories ... OK * checking for portable file names ... OK * checking for sufficient/correct file permissions ... OK * checking whether package ‘ReactomeGSA’ can be installed ... OK * checking installed package size ... OK * checking package directory ... OK * checking ‘build’ directory ... OK * checking DESCRIPTION meta-information ... OK * checking top-level files ... OK * checking for left-over files ... OK * checking index information ... OK * checking package subdirectories ... OK * checking code files for non-ASCII characters ... OK * checking R files for syntax errors ... OK * checking whether the package can be loaded ... OK * checking whether the package can be loaded with stated dependencies ... OK * checking whether the package can be unloaded cleanly ... OK * checking whether the namespace can be loaded with stated dependencies ... OK * checking whether the namespace can be unloaded cleanly ... OK * checking whether startup messages can be suppressed ... OK * checking dependencies in R code ... OK * checking S3 generic/method consistency ... OK * checking replacement functions ... OK * checking foreign function calls ... OK * checking R code for possible problems ... NOTE plot_correlations,ReactomeAnalysisResult: no visible binding for global variable ‘combined_sig’ plot_correlations,ReactomeAnalysisResult: no visible binding for global variable ‘alpha’ plot_gsva_pathway,ReactomeAnalysisResult: no visible binding for global variable ‘cluster_id’ plot_gsva_pathway,ReactomeAnalysisResult: no visible binding for global variable ‘expr’ plot_gsva_pca,ReactomeAnalysisResult: no visible binding for global variable ‘gsva_result’ plot_gsva_pca,ReactomeAnalysisResult: no visible binding for global variable ‘PC1’ plot_gsva_pca,ReactomeAnalysisResult: no visible binding for global variable ‘PC2’ plot_heatmap,ReactomeAnalysisResult: no visible global function definition for ‘desc’ plot_heatmap,ReactomeAnalysisResult: no visible binding for global variable ‘n_sig’ plot_heatmap,ReactomeAnalysisResult: no visible binding for global variable ‘dataset’ plot_heatmap,ReactomeAnalysisResult: no visible binding for global variable ‘Name’ plot_volcano,ReactomeAnalysisResult: no visible binding for global variable ‘av_foldchange’ plot_volcano,ReactomeAnalysisResult: no visible binding for global variable ‘FDR’ Undefined global functions or variables: FDR Name PC1 PC2 alpha av_foldchange cluster_id combined_sig dataset desc expr gsva_result n_sig * checking Rd files ... OK * checking Rd metadata ... OK * checking Rd cross-references ... OK * checking for missing documentation entries ... OK * checking for code/documentation mismatches ... OK * checking Rd \usage sections ... OK * checking Rd contents ... OK * checking for unstated dependencies in examples ... OK * checking files in ‘vignettes’ ... OK * checking examples ... OK Examples with CPU (user + system) or elapsed time > 5s user system elapsed plot_gsva_heatmap-ReactomeAnalysisResult-method 84.836 1.812 125.690 analyse_sc_clusters-Seurat-method 81.299 2.343 134.995 plot_gsva_heatmap 81.567 1.858 120.672 analyse_sc_clusters 80.183 3.236 158.624 plot_gsva_pathway 80.473 1.861 124.181 plot_gsva_pca 80.419 1.748 119.488 plot_gsva_pathway-ReactomeAnalysisResult-method 80.081 1.766 122.117 analyse_sc_clusters-SingleCellExperiment-method 78.474 2.838 118.535 plot_gsva_pca-ReactomeAnalysisResult-method 79.050 1.672 124.957 ReactomeAnalysisRequest 11.217 0.759 12.661 perform_reactome_analysis 6.194 0.428 56.189 plot_heatmap-ReactomeAnalysisResult-method 4.869 0.184 5.356 plot_heatmap 4.869 0.049 5.171 load_public_dataset 2.657 0.296 36.396 * checking for unstated dependencies in ‘tests’ ... OK * checking tests ... Running ‘testthat.R’ OK * checking for unstated dependencies in vignettes ... OK * checking package vignettes ... OK * checking running R code from vignettes ... SKIPPED * checking re-building of vignette outputs ... SKIPPED * checking PDF version of manual ... OK * DONE Status: 1 NOTE See ‘/Users/biocbuild/bbs-3.20-bioc/meat/ReactomeGSA.Rcheck/00check.log’ for details.
ReactomeGSA.Rcheck/00install.out
############################################################################## ############################################################################## ### ### Running command: ### ### /Library/Frameworks/R.framework/Resources/bin/R CMD INSTALL ReactomeGSA ### ############################################################################## ############################################################################## * installing to library ‘/Library/Frameworks/R.framework/Versions/4.4-x86_64/Resources/library’ * installing *source* package ‘ReactomeGSA’ ... ** using staged installation ** R ** inst ** byte-compile and prepare package for lazy loading in method for ‘analyse_sc_clusters’ with signature ‘object="Seurat"’: no definition for class “Seurat” in method for ‘analyse_sc_clusters’ with signature ‘object="SingleCellExperiment"’: no definition for class “SingleCellExperiment” in method for ‘add_dataset’ with signature ‘request="ReactomeAnalysisRequest",expression_values="EList"’: no definition for class “EList” in method for ‘add_dataset’ with signature ‘request="ReactomeAnalysisRequest",expression_values="DGEList"’: no definition for class “DGEList” ** help *** installing help indices ** building package indices ** installing vignettes ** testing if installed package can be loaded from temporary location ** testing if installed package can be loaded from final location ** testing if installed package keeps a record of temporary installation path * DONE (ReactomeGSA)
ReactomeGSA.Rcheck/tests/testthat.Rout
R version 4.4.2 (2024-10-31) -- "Pile of Leaves" Copyright (C) 2024 The R Foundation for Statistical Computing Platform: x86_64-apple-darwin20 R is free software and comes with ABSOLUTELY NO WARRANTY. You are welcome to redistribute it under certain conditions. Type 'license()' or 'licence()' for distribution details. R is a collaborative project with many contributors. Type 'contributors()' for more information and 'citation()' on how to cite R or R packages in publications. Type 'demo()' for some demos, 'help()' for on-line help, or 'help.start()' for an HTML browser interface to help. Type 'q()' to quit R. > library(testthat) > library(ReactomeGSA) > > test_check("ReactomeGSA") [ FAIL 0 | WARN 0 | SKIP 0 | PASS 17 ] > > proc.time() user system elapsed 3.309 0.305 3.746
ReactomeGSA.Rcheck/ReactomeGSA-Ex.timings
name | user | system | elapsed | |
ReactomeAnalysisRequest | 11.217 | 0.759 | 12.661 | |
ReactomeAnalysisResult-class | 3.877 | 0.055 | 4.312 | |
add_dataset-ReactomeAnalysisRequest-DGEList-method | 1.473 | 0.072 | 1.613 | |
add_dataset-ReactomeAnalysisRequest-EList-method | 1.381 | 0.051 | 1.502 | |
add_dataset-ReactomeAnalysisRequest-ExpressionSet-method | 1.384 | 0.040 | 1.522 | |
add_dataset-ReactomeAnalysisRequest-data.frame-method | 1.675 | 0.058 | 1.887 | |
add_dataset-ReactomeAnalysisRequest-matrix-method | 1.339 | 0.052 | 1.552 | |
add_dataset | 1.321 | 0.056 | 1.496 | |
analyse_sc_clusters-Seurat-method | 81.299 | 2.343 | 134.995 | |
analyse_sc_clusters-SingleCellExperiment-method | 78.474 | 2.838 | 118.535 | |
analyse_sc_clusters | 80.183 | 3.236 | 158.624 | |
find_public_datasets | 0.190 | 0.022 | 3.871 | |
get_public_species | 0.048 | 0.006 | 0.415 | |
get_reactome_data_types | 0.098 | 0.012 | 1.325 | |
get_reactome_methods | 0.168 | 0.022 | 1.310 | |
get_result-ReactomeAnalysisResult-method | 0.316 | 0.021 | 0.342 | |
get_result | 0.321 | 0.015 | 0.344 | |
load_public_dataset | 2.657 | 0.296 | 36.396 | |
names-ReactomeAnalysisResult-method | 0.324 | 0.016 | 0.372 | |
open_reactome-ReactomeAnalysisResult-method | 0.319 | 0.016 | 0.377 | |
open_reactome | 0.322 | 0.015 | 0.358 | |
pathways-ReactomeAnalysisResult-method | 4.055 | 0.068 | 4.384 | |
pathways | 3.899 | 0.038 | 4.285 | |
perform_reactome_analysis | 6.194 | 0.428 | 56.189 | |
plot_correlations-ReactomeAnalysisResult-method | 3.925 | 0.080 | 4.169 | |
plot_correlations | 3.882 | 0.039 | 4.193 | |
plot_gsva_heatmap-ReactomeAnalysisResult-method | 84.836 | 1.812 | 125.690 | |
plot_gsva_heatmap | 81.567 | 1.858 | 120.672 | |
plot_gsva_pathway-ReactomeAnalysisResult-method | 80.081 | 1.766 | 122.117 | |
plot_gsva_pathway | 80.473 | 1.861 | 124.181 | |
plot_gsva_pca-ReactomeAnalysisResult-method | 79.050 | 1.672 | 124.957 | |
plot_gsva_pca | 80.419 | 1.748 | 119.488 | |
plot_heatmap-ReactomeAnalysisResult-method | 4.869 | 0.184 | 5.356 | |
plot_heatmap | 4.869 | 0.049 | 5.171 | |
plot_volcano-ReactomeAnalysisResult-method | 0.352 | 0.016 | 0.378 | |
plot_volcano | 0.415 | 0.017 | 0.477 | |
print-ReactomeAnalysisRequest-method | 0.003 | 0.002 | 0.005 | |
print-ReactomeAnalysisResult-method | 0.326 | 0.016 | 0.359 | |
reactome_links-ReactomeAnalysisResult-method | 0.331 | 0.017 | 0.361 | |
reactome_links | 0.318 | 0.016 | 0.344 | |
result_types-ReactomeAnalysisResult-method | 0.340 | 0.015 | 0.379 | |
result_types | 0.338 | 0.015 | 0.366 | |
set_method-ReactomeAnalysisRequest-method | 0.003 | 0.004 | 0.007 | |
set_method | 0.003 | 0.003 | 0.008 | |
set_parameters-ReactomeAnalysisRequest-method | 0.004 | 0.001 | 0.004 | |
set_parameters | 0.004 | 0.001 | 0.004 | |
show-ReactomeAnalysisRequest-method | 0.003 | 0.002 | 0.005 | |
show-ReactomeAnalysisResult-method | 0.346 | 0.016 | 0.380 | |