Back to Multiple platform build/check report for BioC 3.20:   simplified   long
[A]BCDEFGHIJKLMNOPQRSTUVWXYZ

This page was generated on 2025-02-06 12:09 -0500 (Thu, 06 Feb 2025).

HostnameOSArch (*)R versionInstalled pkgs
nebbiolo2Linux (Ubuntu 24.04.1 LTS)x86_644.4.2 (2024-10-31) -- "Pile of Leaves" 4753
palomino8Windows Server 2022 Datacenterx644.4.2 (2024-10-31 ucrt) -- "Pile of Leaves" 4501
merida1macOS 12.7.5 Montereyx86_644.4.2 (2024-10-31) -- "Pile of Leaves" 4524
kjohnson1macOS 13.6.6 Venturaarm644.4.2 (2024-10-31) -- "Pile of Leaves" 4476
taishanLinux (openEuler 24.03 LTS)aarch644.4.2 (2024-10-31) -- "Pile of Leaves" 4407
Click on any hostname to see more info about the system (e.g. compilers)      (*) as reported by 'uname -p', except on Windows and Mac OS X

Package 117/2289HostnameOS / ArchINSTALLBUILDCHECKBUILD BIN
autonomics 1.14.8  (landing page)
Aditya Bhagwat
Snapshot Date: 2025-02-03 13:00 -0500 (Mon, 03 Feb 2025)
git_url: https://git.bioconductor.org/packages/autonomics
git_branch: RELEASE_3_20
git_last_commit: 0ca9dcc
git_last_commit_date: 2025-01-23 09:56:37 -0500 (Thu, 23 Jan 2025)
nebbiolo2Linux (Ubuntu 24.04.1 LTS) / x86_64  OK    OK    OK  UNNEEDED, same version is already published
palomino8Windows Server 2022 Datacenter / x64  OK    OK    OK    OK  UNNEEDED, same version is already published
merida1macOS 12.7.5 Monterey / x86_64  OK    OK    OK    OK  UNNEEDED, same version is already published
kjohnson1macOS 13.6.6 Ventura / arm64  OK    OK    OK    OK  UNNEEDED, same version is already published
taishanLinux (openEuler 24.03 LTS) / aarch64  OK    OK    OK  


CHECK results for autonomics on kjohnson1

To the developers/maintainers of the autonomics package:
- Allow up to 24 hours (and sometimes 48 hours) for your latest push to git@git.bioconductor.org:packages/autonomics.git to reflect on this report. See Troubleshooting Build Report for more information.
- Use the following Renviron settings to reproduce errors and warnings.
- If 'R CMD check' started to fail recently on the Linux builder(s) over a missing dependency, add the missing dependency to 'Suggests:' in your DESCRIPTION file. See Renviron.bioc for more information.

raw results


Summary

Package: autonomics
Version: 1.14.8
Command: /Library/Frameworks/R.framework/Resources/bin/R CMD check --install=check:autonomics.install-out.txt --library=/Library/Frameworks/R.framework/Resources/library --no-vignettes --timings autonomics_1.14.8.tar.gz
StartedAt: 2025-02-04 11:47:52 -0500 (Tue, 04 Feb 2025)
EndedAt: 2025-02-04 12:02:51 -0500 (Tue, 04 Feb 2025)
EllapsedTime: 899.0 seconds
RetCode: 0
Status:   OK  
CheckDir: autonomics.Rcheck
Warnings: 0

Command output

##############################################################################
##############################################################################
###
### Running command:
###
###   /Library/Frameworks/R.framework/Resources/bin/R CMD check --install=check:autonomics.install-out.txt --library=/Library/Frameworks/R.framework/Resources/library --no-vignettes --timings autonomics_1.14.8.tar.gz
###
##############################################################################
##############################################################################


* using log directory ‘/Users/biocbuild/bbs-3.20-bioc/meat/autonomics.Rcheck’
* using R version 4.4.2 (2024-10-31)
* using platform: aarch64-apple-darwin20
* R was compiled by
    Apple clang version 14.0.0 (clang-1400.0.29.202)
    GNU Fortran (GCC) 12.2.0
* running under: macOS Ventura 13.7.1
* using session charset: UTF-8
* using option ‘--no-vignettes’
* checking for file ‘autonomics/DESCRIPTION’ ... OK
* checking extension type ... Package
* this is package ‘autonomics’ version ‘1.14.8’
* package encoding: UTF-8
* checking package namespace information ... OK
* checking package dependencies ... OK
* checking if this is a source package ... OK
* checking if there is a namespace ... OK
* checking for hidden files and directories ... NOTE
Found the following hidden files and directories:
  .BBSoptions
These were most likely included in error. See section ‘Package
structure’ in the ‘Writing R Extensions’ manual.
* checking for portable file names ... OK
* checking for sufficient/correct file permissions ... OK
* checking whether package ‘autonomics’ can be installed ... OK
* checking installed package size ... OK
* checking package directory ... OK
* checking ‘build’ directory ... OK
* checking DESCRIPTION meta-information ... OK
* checking top-level files ... OK
* checking for left-over files ... OK
* checking index information ... OK
* checking package subdirectories ... OK
* checking code files for non-ASCII characters ... OK
* checking R files for syntax errors ... OK
* checking whether the package can be loaded ... OK
* checking whether the package can be loaded with stated dependencies ... OK
* checking whether the package can be unloaded cleanly ... OK
* checking whether the namespace can be loaded with stated dependencies ... OK
* checking whether the namespace can be unloaded cleanly ... OK
* checking dependencies in R code ... OK
* checking S3 generic/method consistency ... OK
* checking replacement functions ... OK
* checking foreign function calls ... OK
* checking R code for possible problems ... OK
* checking Rd files ... OK
* checking Rd metadata ... OK
* checking Rd cross-references ... OK
* checking for missing documentation entries ... OK
* checking for code/documentation mismatches ... OK
* checking Rd \usage sections ... OK
* checking Rd contents ... OK
* checking for unstated dependencies in examples ... OK
* checking files in ‘vignettes’ ... OK
* checking examples ... OK
Examples with CPU (user + system) or elapsed time > 5s
                            user system elapsed
read_diann_proteingroups 107.098  3.349 100.864
read_rnaseq_counts        32.006  1.407  31.350
plot_exprs_per_coef       25.500  0.390  24.067
plot_exprs                24.964  0.381  23.342
rm_diann_contaminants     22.183  0.883  18.411
fit                       18.672  0.937  13.732
default_formula           17.725  0.749  16.058
read_metabolon            14.657  0.229  14.366
analyze                   13.708  0.310  12.589
plot_summary              13.660  0.224  12.577
read_somascan             13.534  0.197  12.672
plot_densities            11.455  0.340  10.553
plot_volcano              10.504  0.213  10.042
ftype                      9.534  0.795   7.951
read_fragpipe              7.891  0.406   6.403
plot_sample_nas            6.891  0.127   6.238
fit_lmx                    6.347  0.325   4.653
fcluster                   6.456  0.147   5.959
code                       6.210  0.099   6.089
reset_fit                  5.464  0.195   4.618
dot-plot_survival          5.216  0.308   5.528
plot_subgroup_points       5.317  0.137   4.725
subtract_baseline          5.152  0.172   4.753
biplot_covariates          5.205  0.100   5.083
extract_coef_features      4.967  0.122   4.866
* checking for unstated dependencies in ‘tests’ ... OK
* checking tests ...
  Running ‘testthat.R’
 OK
* checking for unstated dependencies in vignettes ... OK
* checking package vignettes ... OK
* checking running R code from vignettes ... SKIPPED
* checking re-building of vignette outputs ... SKIPPED
* checking PDF version of manual ... OK
* DONE

Status: 1 NOTE
See
  ‘/Users/biocbuild/bbs-3.20-bioc/meat/autonomics.Rcheck/00check.log’
for details.


Installation output

autonomics.Rcheck/00install.out

##############################################################################
##############################################################################
###
### Running command:
###
###   /Library/Frameworks/R.framework/Resources/bin/R CMD INSTALL autonomics
###
##############################################################################
##############################################################################


* installing to library ‘/Library/Frameworks/R.framework/Versions/4.4-arm64/Resources/library’
* installing *source* package ‘autonomics’ ...
** using staged installation
** R
** inst
** byte-compile and prepare package for lazy loading
** help
*** installing help indices
** building package indices
** installing vignettes
** testing if installed package can be loaded from temporary location
** testing if installed package can be loaded from final location
** testing if installed package keeps a record of temporary installation path
* DONE (autonomics)

Tests output

autonomics.Rcheck/tests/testthat.Rout


R version 4.4.2 (2024-10-31) -- "Pile of Leaves"
Copyright (C) 2024 The R Foundation for Statistical Computing
Platform: aarch64-apple-darwin20

R is free software and comes with ABSOLUTELY NO WARRANTY.
You are welcome to redistribute it under certain conditions.
Type 'license()' or 'licence()' for distribution details.

R is a collaborative project with many contributors.
Type 'contributors()' for more information and
'citation()' on how to cite R or R packages in publications.

Type 'demo()' for some demos, 'help()' for on-line help, or
'help.start()' for an HTML browser interface to help.
Type 'q()' to quit R.

> library(testthat)
> library(autonomics)

Attaching package: 'autonomics'

The following objects are masked from 'package:stats':

    biplot, loadings

The following object is masked from 'package:base':

    beta

> 
> test_check("autonomics")
[ FAIL 0 | WARN 0 | SKIP 0 | PASS 158 ]
> 
> proc.time()
   user  system elapsed 
169.002  10.247 162.222 

Example timings

autonomics.Rcheck/autonomics-Ex.timings

nameusersystemelapsed
AUTONOMICS_DATASETS0.0010.0000.001
COMPOUNDDISCOVERER_PATTERNS0.0000.0000.001
CONTAMINANTSURL0.0000.0000.001
FITSEP0.0000.0000.001
LINMOD_ENGINES0.0000.0000.001
MAXQUANT_PATTERNS0.0000.0000.001
TAXON_TO_ORGNAME000
TESTS000
X1.4670.1221.476
abstract_fit2.0560.1351.967
add_adjusted_pvalues0.5840.0240.609
add_assay_means0.3710.0070.378
add_facetvars2.0710.0841.920
add_opentargets_by_uniprot0.4320.0080.444
add_psp0.5530.0130.569
add_smiles0.5890.0590.530
analysis0.5310.0230.435
analyze13.708 0.31012.589
annotate_maxquant0.9500.0370.990
annotate_uniprot_rest0.0990.0190.968
assert_is_valid_sumexp0.8810.0680.803
bin1.5580.0321.515
biplot3.5440.0973.413
biplot_corrections3.3830.0843.237
biplot_covariates5.2050.1005.083
block2lme0.0030.0010.004
center1.4640.0281.494
code6.2100.0996.089
coefs0.9900.0760.833
collapsed_entrezg_to_symbol0.0010.0000.001
contrast_subgroup_cols0.8050.0720.654
count_in0.0020.0000.002
counts1.4800.0071.479
counts2cpm0.3550.0030.358
counts2tpm0.3580.0030.360
cpm0.3680.0020.371
create_design0.9070.0790.753
default_coefs0.9360.0760.785
default_formula17.725 0.74916.058
default_geom0.7420.0720.619
default_sfile0.0040.0010.002
demultiplex0.0250.0010.014
dequantify0.0050.0010.002
dequantify_compounddiscoverer0.0020.0000.001
dot-merge0.0290.0020.022
dot-plot_survival5.2160.3085.528
dot-read_maxquant_proteingroups0.1440.0050.148
download_contaminants0.0940.0090.846
download_data0.0000.0010.001
download_gtf000
download_mcclain210.0000.0010.001
dt2mat0.0040.0010.004
enrichment1.1810.0631.246
entrezg_to_symbol0.0010.0000.001
explore_transformations3.4880.1493.637
extract_coef_features4.9670.1224.866
extract_rectangle0.1480.0450.195
fcluster6.4560.1475.959
fcor1.0690.0341.107
fdata0.5850.0160.601
fdr2p1.1390.0780.993
filter_exprs_replicated_in_some_subgroup1.5220.1191.047
filter_features0.8220.0920.620
filter_medoid0.8480.0220.835
filter_samples0.7540.0660.639
fit18.672 0.93713.732
fit_lmx6.3470.3254.653
fitcoefs0.9540.0820.821
fits0.9370.0790.788
fitvars1.2950.0791.140
fix_xlgenes0.0030.0000.003
flevels0.4390.0060.446
fnames0.4710.0090.480
formula2str0.0010.0000.000
ftype9.5340.7957.951
fvalues0.5380.0140.506
fvars0.4490.0090.460
genome_to_orgdb0.0000.0000.001
group_by_level0.0010.0010.002
guess_compounddiscoverer_quantity0.0010.0000.001
guess_fitsep0.5350.0090.545
guess_maxquant_quantity0.0050.0010.006
guess_sep0.6820.0600.612
has_multiple_levels0.1110.0080.063
hdlproteins0.0900.0370.103
impute3.3190.0443.378
invert_subgroups0.7090.0080.723
is_collapsed_subset0.0010.0000.001
is_correlation_matrix0.0010.0010.002
is_diann_report0.6990.0860.448
is_fastadt0.1350.0070.078
is_file0.0010.0010.001
is_fraction0.0030.0000.002
is_imputed0.8970.0140.882
is_positive_number0.0020.0000.002
is_scalar_subset0.3690.0060.375
is_sig1.6470.0151.671
is_valid_formula0.0450.0010.047
keep_connected_blocks0.7080.0600.619
keep_connected_features1.1600.0940.812
keep_replicated_features1.4720.1080.984
label2index0.0010.0010.001
list2mat0.0020.0000.001
log2counts0.5750.0170.441
log2cpm0.4100.0030.414
log2diffs0.3850.0090.396
log2proteins0.4390.0070.447
log2sites0.3760.0060.385
log2tpm0.4280.0040.435
log2transform3.9970.0524.065
logical2factor0.0020.0000.002
make_alpha_palette0.7100.0610.628
make_colors0.0250.0030.015
make_volcano_dt1.0150.0160.988
map_fvalues0.4330.0070.442
matrix2sumexp1.2080.0691.086
merge_sample_file0.5550.0100.567
merge_sdata0.8100.0720.692
message_df0.0050.0010.002
modelvar4.1240.1253.701
order_on_p1.1530.0681.018
pca3.3290.0883.212
pg_to_canonical0.0050.0000.006
plot_contrast_venn3.0030.1202.467
plot_contrastogram3.8720.2113.536
plot_data1.6020.0811.423
plot_densities11.455 0.34010.553
plot_design0.7080.0130.724
plot_exprs24.964 0.38123.342
plot_exprs_per_coef25.500 0.39024.067
plot_fit_summary2.5090.1132.020
plot_heatmap1.8420.0141.861
plot_matrix0.6890.0600.607
plot_sample_nas6.8910.1276.238
plot_subgroup_points5.3170.1374.725
plot_summary13.660 0.22412.577
plot_venn0.0250.0020.028
plot_venn_heatmap0.0210.0010.022
plot_violins3.9750.1303.871
plot_volcano10.504 0.21310.042
preprocess_rnaseq_counts0.3570.0030.361
pull_columns0.0020.0000.003
read_affymetrix000
read_contaminants0.0480.0050.304
read_diann_proteingroups107.098 3.349100.864
read_fragpipe7.8910.4066.403
read_maxquant_phosphosites1.6470.0351.688
read_maxquant_proteingroups1.4620.0431.525
read_metabolon14.657 0.22914.366
read_msigdt0.0010.0000.001
read_olink1.6000.0861.335
read_rectangles0.2040.0250.232
read_rnaseq_counts32.006 1.40731.350
read_salmon000
read_somascan13.534 0.19712.672
read_uniprotdt0.3090.0200.331
reset_fit5.4640.1954.618
rm_diann_contaminants22.183 0.88318.411
rm_missing_in_some_samples0.6450.0650.573
rm_unmatched_samples0.5970.0160.520
scaledlibsizes0.4520.0080.461
scoremat1.1810.0781.039
slevels0.5010.0070.508
snames0.4510.0110.463
split_extract_fixed0.6280.0590.552
split_samples1.4970.0891.279
stri_any_regex0.0000.0000.001
stri_detect_fixed_in_collapsed0.3670.0060.380
subgroup_matrix0.7040.0660.625
subtract_baseline5.1520.1724.753
sumexp_to_longdt1.9250.1241.832
sumexp_to_tsv0.5020.0060.509
sumexplist_to_longdt1.7370.0161.752
summarize_fit2.4210.1771.728
svalues0.4350.0060.442
svars0.4160.0050.421
systematic_nas0.6240.0040.629
tag_features1.2000.0301.232
tag_hdlproteins0.5460.0240.570
taxon2org0.0010.0000.001
tpm0.4850.0050.495
uncollapse0.0120.0010.013
values0.4450.0060.450
varlevels_dont_clash0.0230.0010.024
venn_detects0.5620.0070.569
weights0.3980.0030.400
write_xl1.0270.0770.878
zero_to_na0.0020.0010.002