Back to Multiple platform build/check report for BioC 3.20: simplified long |
|
This page was generated on 2025-02-03 12:11 -0500 (Mon, 03 Feb 2025).
Hostname | OS | Arch (*) | R version | Installed pkgs |
---|---|---|---|---|
nebbiolo2 | Linux (Ubuntu 24.04.1 LTS) | x86_64 | 4.4.2 (2024-10-31) -- "Pile of Leaves" | 4746 |
palomino8 | Windows Server 2022 Datacenter | x64 | 4.4.2 (2024-10-31 ucrt) -- "Pile of Leaves" | 4494 |
merida1 | macOS 12.7.5 Monterey | x86_64 | 4.4.2 (2024-10-31) -- "Pile of Leaves" | 4517 |
kjohnson1 | macOS 13.6.6 Ventura | arm64 | 4.4.2 (2024-10-31) -- "Pile of Leaves" | 4469 |
taishan | Linux (openEuler 24.03 LTS) | aarch64 | 4.4.2 (2024-10-31) -- "Pile of Leaves" | 4400 |
Click on any hostname to see more info about the system (e.g. compilers) (*) as reported by 'uname -p', except on Windows and Mac OS X |
Package 117/2289 | Hostname | OS / Arch | INSTALL | BUILD | CHECK | BUILD BIN | ||||||||
autonomics 1.14.8 (landing page) Aditya Bhagwat
| nebbiolo2 | Linux (Ubuntu 24.04.1 LTS) / x86_64 | OK | OK | OK | |||||||||
palomino8 | Windows Server 2022 Datacenter / x64 | OK | OK | OK | OK | |||||||||
merida1 | macOS 12.7.5 Monterey / x86_64 | OK | OK | OK | OK | |||||||||
kjohnson1 | macOS 13.6.6 Ventura / arm64 | OK | OK | OK | OK | |||||||||
taishan | Linux (openEuler 24.03 LTS) / aarch64 | OK | OK | OK | ||||||||||
To the developers/maintainers of the autonomics package: - Allow up to 24 hours (and sometimes 48 hours) for your latest push to git@git.bioconductor.org:packages/autonomics.git to reflect on this report. See Troubleshooting Build Report for more information. - Use the following Renviron settings to reproduce errors and warnings. - If 'R CMD check' started to fail recently on the Linux builder(s) over a missing dependency, add the missing dependency to 'Suggests:' in your DESCRIPTION file. See Renviron.bioc for more information. - See Martin Grigorov's blog post for how to debug Linux ARM64 related issues on a x86_64 host. |
Package: autonomics |
Version: 1.14.8 |
Command: /home/biocbuild/R/R/bin/R CMD check --install=check:autonomics.install-out.txt --library=/home/biocbuild/R/R/site-library --no-vignettes --timings autonomics_1.14.8.tar.gz |
StartedAt: 2025-01-31 03:55:42 -0000 (Fri, 31 Jan 2025) |
EndedAt: 2025-01-31 04:13:09 -0000 (Fri, 31 Jan 2025) |
EllapsedTime: 1046.6 seconds |
RetCode: 0 |
Status: OK |
CheckDir: autonomics.Rcheck |
Warnings: 0 |
############################################################################## ############################################################################## ### ### Running command: ### ### /home/biocbuild/R/R/bin/R CMD check --install=check:autonomics.install-out.txt --library=/home/biocbuild/R/R/site-library --no-vignettes --timings autonomics_1.14.8.tar.gz ### ############################################################################## ############################################################################## * using log directory ‘/home/biocbuild/bbs-3.20-bioc/meat/autonomics.Rcheck’ * using R version 4.4.2 (2024-10-31) * using platform: aarch64-unknown-linux-gnu * R was compiled by aarch64-unknown-linux-gnu-gcc (GCC) 14.2.0 GNU Fortran (GCC) 12.3.1 (openEuler 12.3.1-36.oe2403) * running under: openEuler 24.03 (LTS) * using session charset: UTF-8 * using option ‘--no-vignettes’ * checking for file ‘autonomics/DESCRIPTION’ ... OK * checking extension type ... Package * this is package ‘autonomics’ version ‘1.14.8’ * package encoding: UTF-8 * checking package namespace information ... OK * checking package dependencies ... OK * checking if this is a source package ... OK * checking if there is a namespace ... OK * checking for hidden files and directories ... NOTE Found the following hidden files and directories: .BBSoptions These were most likely included in error. See section ‘Package structure’ in the ‘Writing R Extensions’ manual. * checking for portable file names ... OK * checking for sufficient/correct file permissions ... OK * checking whether package ‘autonomics’ can be installed ... OK * checking installed package size ... OK * checking package directory ... OK * checking ‘build’ directory ... OK * checking DESCRIPTION meta-information ... OK * checking top-level files ... OK * checking for left-over files ... OK * checking index information ... OK * checking package subdirectories ... OK * checking code files for non-ASCII characters ... OK * checking R files for syntax errors ... OK * checking whether the package can be loaded ... OK * checking whether the package can be loaded with stated dependencies ... OK * checking whether the package can be unloaded cleanly ... OK * checking whether the namespace can be loaded with stated dependencies ... OK * checking whether the namespace can be unloaded cleanly ... OK * checking loading without being on the library search path ... OK * checking dependencies in R code ... OK * checking S3 generic/method consistency ... OK * checking replacement functions ... OK * checking foreign function calls ... OK * checking R code for possible problems ... OK * checking Rd files ... OK * checking Rd metadata ... OK * checking Rd cross-references ... OK * checking for missing documentation entries ... OK * checking for code/documentation mismatches ... OK * checking Rd \usage sections ... OK * checking Rd contents ... OK * checking for unstated dependencies in examples ... OK * checking files in ‘vignettes’ ... OK * checking examples ... OK Examples with CPU (user + system) or elapsed time > 5s user system elapsed read_rnaseq_counts 38.068 1.511 47.010 plot_exprs_per_coef 34.013 0.235 35.363 plot_exprs 34.035 0.123 35.734 read_diann_proteingroups 33.021 0.337 43.531 default_formula 21.825 0.255 22.288 read_somascan 19.136 0.338 25.548 fit 17.978 0.144 18.945 plot_summary 17.655 0.211 18.637 analyze 17.516 0.112 17.675 read_metabolon 17.325 0.032 19.139 plot_volcano 13.861 0.087 15.453 plot_densities 12.150 0.096 12.699 ftype 9.608 0.099 10.164 code 9.439 0.008 9.561 read_fragpipe 8.358 0.108 10.293 plot_sample_nas 8.071 0.020 9.381 fcluster 7.861 0.024 8.067 extract_coef_features 7.367 0.032 7.732 rm_diann_contaminants 7.182 0.123 9.866 reset_fit 6.737 0.016 7.136 biplot_covariates 6.652 0.032 6.789 plot_subgroup_points 6.188 0.079 7.071 subtract_baseline 5.793 0.127 6.497 fit_lmx 5.868 0.024 5.905 plot_violins 5.240 0.024 5.283 modelvar 5.055 0.024 5.268 log2transform 4.983 0.028 5.057 explore_transformations 4.756 0.139 5.256 annotate_uniprot_rest 0.225 0.004 5.222 * checking for unstated dependencies in ‘tests’ ... OK * checking tests ... Running ‘testthat.R’ OK * checking for unstated dependencies in vignettes ... OK * checking package vignettes ... OK * checking running R code from vignettes ... SKIPPED * checking re-building of vignette outputs ... SKIPPED * checking PDF version of manual ... OK * DONE Status: 1 NOTE See ‘/home/biocbuild/bbs-3.20-bioc/meat/autonomics.Rcheck/00check.log’ for details.
autonomics.Rcheck/00install.out
############################################################################## ############################################################################## ### ### Running command: ### ### /home/biocbuild/R/R/bin/R CMD INSTALL autonomics ### ############################################################################## ############################################################################## * installing to library ‘/home/biocbuild/R/R-4.4.2/site-library’ * installing *source* package ‘autonomics’ ... ** using staged installation ** R ** inst ** byte-compile and prepare package for lazy loading ** help *** installing help indices ** building package indices ** installing vignettes ** testing if installed package can be loaded from temporary location ** testing if installed package can be loaded from final location ** testing if installed package keeps a record of temporary installation path * DONE (autonomics)
autonomics.Rcheck/tests/testthat.Rout
R version 4.4.2 (2024-10-31) -- "Pile of Leaves" Copyright (C) 2024 The R Foundation for Statistical Computing Platform: aarch64-unknown-linux-gnu R is free software and comes with ABSOLUTELY NO WARRANTY. You are welcome to redistribute it under certain conditions. Type 'license()' or 'licence()' for distribution details. R is a collaborative project with many contributors. Type 'contributors()' for more information and 'citation()' on how to cite R or R packages in publications. Type 'demo()' for some demos, 'help()' for on-line help, or 'help.start()' for an HTML browser interface to help. Type 'q()' to quit R. > library(testthat) > library(autonomics) Attaching package: 'autonomics' The following objects are masked from 'package:stats': biplot, loadings The following object is masked from 'package:base': beta > > test_check("autonomics") [ FAIL 0 | WARN 0 | SKIP 0 | PASS 158 ] > > proc.time() user system elapsed 180.211 2.975 191.730
autonomics.Rcheck/autonomics-Ex.timings
name | user | system | elapsed | |
AUTONOMICS_DATASETS | 0.001 | 0.000 | 0.000 | |
COMPOUNDDISCOVERER_PATTERNS | 0 | 0 | 0 | |
CONTAMINANTSURL | 0.001 | 0.000 | 0.000 | |
FITSEP | 0 | 0 | 0 | |
LINMOD_ENGINES | 0 | 0 | 0 | |
MAXQUANT_PATTERNS | 0.000 | 0.001 | 0.000 | |
TAXON_TO_ORGNAME | 0.000 | 0.000 | 0.001 | |
TESTS | 0 | 0 | 0 | |
X | 2.180 | 0.064 | 2.259 | |
abstract_fit | 1.982 | 0.088 | 2.074 | |
add_adjusted_pvalues | 0.717 | 0.012 | 0.736 | |
add_assay_means | 0.513 | 0.013 | 0.528 | |
add_facetvars | 2.773 | 0.035 | 2.816 | |
add_opentargets_by_uniprot | 0.590 | 0.008 | 0.605 | |
add_psp | 0.679 | 0.004 | 0.711 | |
add_smiles | 0.712 | 0.108 | 0.850 | |
analysis | 0.522 | 0.024 | 0.547 | |
analyze | 17.516 | 0.112 | 17.675 | |
annotate_maxquant | 1.072 | 0.032 | 1.445 | |
annotate_uniprot_rest | 0.225 | 0.004 | 5.222 | |
assert_is_valid_sumexp | 0.890 | 0.027 | 1.165 | |
bin | 1.204 | 0.051 | 1.306 | |
biplot | 4.683 | 0.008 | 4.841 | |
biplot_corrections | 4.161 | 0.076 | 4.316 | |
biplot_covariates | 6.652 | 0.032 | 6.789 | |
block2lme | 0.003 | 0.000 | 0.004 | |
center | 1.850 | 0.024 | 2.001 | |
code | 9.439 | 0.008 | 9.561 | |
coefs | 1.037 | 0.012 | 1.052 | |
collapsed_entrezg_to_symbol | 0.000 | 0.000 | 0.001 | |
contrast_subgroup_cols | 0.835 | 0.004 | 0.842 | |
count_in | 0.001 | 0.000 | 0.001 | |
counts | 1.182 | 0.004 | 1.259 | |
counts2cpm | 0.501 | 0.000 | 0.532 | |
counts2tpm | 0.500 | 0.004 | 0.506 | |
cpm | 0.496 | 0.000 | 0.500 | |
create_design | 0.932 | 0.012 | 0.971 | |
default_coefs | 0.966 | 0.008 | 1.032 | |
default_formula | 21.825 | 0.255 | 22.288 | |
default_geom | 0.738 | 0.000 | 0.739 | |
default_sfile | 0.001 | 0.000 | 0.001 | |
demultiplex | 0.02 | 0.00 | 0.02 | |
dequantify | 0.003 | 0.000 | 0.003 | |
dequantify_compounddiscoverer | 0.001 | 0.000 | 0.001 | |
dot-merge | 0.021 | 0.000 | 0.021 | |
dot-plot_survival | 4.725 | 0.115 | 4.852 | |
dot-read_maxquant_proteingroups | 0.129 | 0.000 | 0.130 | |
download_contaminants | 0.119 | 0.000 | 2.735 | |
download_data | 0 | 0 | 0 | |
download_gtf | 0 | 0 | 0 | |
download_mcclain21 | 0.001 | 0.000 | 0.001 | |
dt2mat | 0.005 | 0.000 | 0.013 | |
enrichment | 1.747 | 0.036 | 1.944 | |
entrezg_to_symbol | 0 | 0 | 0 | |
explore_transformations | 4.756 | 0.139 | 5.256 | |
extract_coef_features | 7.367 | 0.032 | 7.732 | |
extract_rectangle | 0.139 | 0.012 | 0.301 | |
fcluster | 7.861 | 0.024 | 8.067 | |
fcor | 1.285 | 0.008 | 1.432 | |
fdata | 0.729 | 0.004 | 0.795 | |
fdr2p | 1.249 | 0.004 | 1.266 | |
filter_exprs_replicated_in_some_subgroup | 1.328 | 0.012 | 1.344 | |
filter_features | 0.747 | 0.008 | 0.757 | |
filter_medoid | 1.027 | 0.020 | 1.049 | |
filter_samples | 0.750 | 0.012 | 0.764 | |
fit | 17.978 | 0.144 | 18.945 | |
fit_lmx | 5.868 | 0.024 | 5.905 | |
fitcoefs | 1.075 | 0.000 | 1.078 | |
fits | 0.989 | 0.008 | 0.999 | |
fitvars | 1.417 | 0.008 | 1.429 | |
fix_xlgenes | 0.002 | 0.000 | 0.001 | |
flevels | 0.571 | 0.004 | 0.577 | |
fnames | 0.664 | 0.000 | 0.666 | |
formula2str | 0.000 | 0.000 | 0.001 | |
ftype | 9.608 | 0.099 | 10.164 | |
fvalues | 0.609 | 0.004 | 0.626 | |
fvars | 0.561 | 0.004 | 0.670 | |
genome_to_orgdb | 0.001 | 0.000 | 0.000 | |
group_by_level | 0.001 | 0.000 | 0.001 | |
guess_compounddiscoverer_quantity | 0.001 | 0.000 | 0.002 | |
guess_fitsep | 0.668 | 0.000 | 0.702 | |
guess_maxquant_quantity | 0.007 | 0.000 | 0.007 | |
guess_sep | 0.689 | 0.012 | 0.709 | |
has_multiple_levels | 0.07 | 0.00 | 0.07 | |
hdlproteins | 0.046 | 0.008 | 0.068 | |
impute | 4.132 | 0.004 | 4.163 | |
invert_subgroups | 0.911 | 0.008 | 0.920 | |
is_collapsed_subset | 0.001 | 0.000 | 0.001 | |
is_correlation_matrix | 0.002 | 0.000 | 0.001 | |
is_diann_report | 0.311 | 0.021 | 0.713 | |
is_fastadt | 0.094 | 0.000 | 0.154 | |
is_file | 0.001 | 0.000 | 0.001 | |
is_fraction | 0.002 | 0.000 | 0.002 | |
is_imputed | 1.023 | 0.003 | 1.047 | |
is_positive_number | 0.002 | 0.000 | 0.002 | |
is_scalar_subset | 0.462 | 0.008 | 0.474 | |
is_sig | 2.343 | 0.004 | 2.353 | |
is_valid_formula | 0.058 | 0.000 | 0.059 | |
keep_connected_blocks | 0.676 | 0.024 | 0.738 | |
keep_connected_features | 0.987 | 0.012 | 1.000 | |
keep_replicated_features | 1.181 | 0.004 | 1.308 | |
label2index | 0.000 | 0.000 | 0.001 | |
list2mat | 0.000 | 0.000 | 0.001 | |
log2counts | 0.565 | 0.002 | 0.569 | |
log2cpm | 0.547 | 0.000 | 0.568 | |
log2diffs | 0.478 | 0.000 | 0.492 | |
log2proteins | 0.500 | 0.007 | 0.511 | |
log2sites | 0.490 | 0.020 | 0.511 | |
log2tpm | 0.532 | 0.012 | 0.546 | |
log2transform | 4.983 | 0.028 | 5.057 | |
logical2factor | 0.002 | 0.000 | 0.001 | |
make_alpha_palette | 0.718 | 0.004 | 0.728 | |
make_colors | 0.011 | 0.000 | 0.011 | |
make_volcano_dt | 1.163 | 0.004 | 1.171 | |
map_fvalues | 0.606 | 0.008 | 0.615 | |
matrix2sumexp | 1.299 | 0.127 | 1.437 | |
merge_sample_file | 0.662 | 0.020 | 0.684 | |
merge_sdata | 0.847 | 0.052 | 1.272 | |
message_df | 0.003 | 0.000 | 0.003 | |
modelvar | 5.055 | 0.024 | 5.268 | |
order_on_p | 1.292 | 0.019 | 1.317 | |
pca | 4.107 | 0.052 | 4.255 | |
pg_to_canonical | 0.008 | 0.000 | 0.008 | |
plot_contrast_venn | 3.341 | 0.016 | 3.907 | |
plot_contrastogram | 4.309 | 0.080 | 4.866 | |
plot_data | 1.734 | 0.016 | 2.074 | |
plot_densities | 12.150 | 0.096 | 12.699 | |
plot_design | 0.821 | 0.000 | 0.823 | |
plot_exprs | 34.035 | 0.123 | 35.734 | |
plot_exprs_per_coef | 34.013 | 0.235 | 35.363 | |
plot_fit_summary | 2.517 | 0.028 | 2.575 | |
plot_heatmap | 2.390 | 0.012 | 2.446 | |
plot_matrix | 0.658 | 0.012 | 0.673 | |
plot_sample_nas | 8.071 | 0.020 | 9.381 | |
plot_subgroup_points | 6.188 | 0.079 | 7.071 | |
plot_summary | 17.655 | 0.211 | 18.637 | |
plot_venn | 0.014 | 0.004 | 0.019 | |
plot_venn_heatmap | 0.028 | 0.000 | 0.028 | |
plot_violins | 5.240 | 0.024 | 5.283 | |
plot_volcano | 13.861 | 0.087 | 15.453 | |
preprocess_rnaseq_counts | 0.482 | 0.000 | 0.579 | |
pull_columns | 0.002 | 0.000 | 0.003 | |
read_affymetrix | 0 | 0 | 0 | |
read_contaminants | 0.058 | 0.000 | 1.857 | |
read_diann_proteingroups | 33.021 | 0.337 | 43.531 | |
read_fragpipe | 8.358 | 0.108 | 10.293 | |
read_maxquant_phosphosites | 2.005 | 0.004 | 2.656 | |
read_maxquant_proteingroups | 1.637 | 0.000 | 1.702 | |
read_metabolon | 17.325 | 0.032 | 19.139 | |
read_msigdt | 0.001 | 0.000 | 0.001 | |
read_olink | 1.449 | 0.016 | 2.294 | |
read_rectangles | 0.205 | 0.012 | 0.218 | |
read_rnaseq_counts | 38.068 | 1.511 | 47.010 | |
read_salmon | 0 | 0 | 0 | |
read_somascan | 19.136 | 0.338 | 25.548 | |
read_uniprotdt | 0.340 | 0.016 | 0.358 | |
reset_fit | 6.737 | 0.016 | 7.136 | |
rm_diann_contaminants | 7.182 | 0.123 | 9.866 | |
rm_missing_in_some_samples | 0.745 | 0.016 | 1.152 | |
rm_unmatched_samples | 0.717 | 0.000 | 0.718 | |
scaledlibsizes | 0.512 | 0.008 | 0.521 | |
scoremat | 1.379 | 0.040 | 1.459 | |
slevels | 0.561 | 0.000 | 0.620 | |
snames | 0.537 | 0.012 | 0.558 | |
split_extract_fixed | 0.672 | 0.008 | 0.682 | |
split_samples | 1.611 | 0.016 | 2.317 | |
stri_any_regex | 0.000 | 0.000 | 0.001 | |
stri_detect_fixed_in_collapsed | 0.473 | 0.028 | 0.502 | |
subgroup_matrix | 0.744 | 0.036 | 0.966 | |
subtract_baseline | 5.793 | 0.127 | 6.497 | |
sumexp_to_longdt | 2.476 | 0.059 | 2.600 | |
sumexp_to_tsv | 0.674 | 0.007 | 0.720 | |
sumexplist_to_longdt | 2.149 | 0.004 | 2.352 | |
summarize_fit | 2.289 | 0.008 | 2.530 | |
svalues | 0.554 | 0.004 | 0.559 | |
svars | 0.557 | 0.008 | 0.610 | |
systematic_nas | 0.777 | 0.004 | 0.827 | |
tag_features | 1.407 | 0.020 | 1.456 | |
tag_hdlproteins | 0.695 | 0.008 | 0.707 | |
taxon2org | 0.001 | 0.000 | 0.002 | |
tpm | 0.516 | 0.000 | 0.517 | |
uncollapse | 0.012 | 0.000 | 0.013 | |
values | 0.557 | 0.004 | 0.562 | |
varlevels_dont_clash | 0.027 | 0.000 | 0.027 | |
venn_detects | 0.806 | 0.000 | 0.827 | |
weights | 0.534 | 0.000 | 0.618 | |
write_xl | 0.920 | 0.016 | 0.959 | |
zero_to_na | 0.002 | 0.000 | 0.002 | |