Back to Multiple platform build/check report for BioC 3.20: simplified long |
|
This page was generated on 2025-02-06 12:09 -0500 (Thu, 06 Feb 2025).
Hostname | OS | Arch (*) | R version | Installed pkgs |
---|---|---|---|---|
nebbiolo2 | Linux (Ubuntu 24.04.1 LTS) | x86_64 | 4.4.2 (2024-10-31) -- "Pile of Leaves" | 4753 |
palomino8 | Windows Server 2022 Datacenter | x64 | 4.4.2 (2024-10-31 ucrt) -- "Pile of Leaves" | 4501 |
merida1 | macOS 12.7.5 Monterey | x86_64 | 4.4.2 (2024-10-31) -- "Pile of Leaves" | 4524 |
kjohnson1 | macOS 13.6.6 Ventura | arm64 | 4.4.2 (2024-10-31) -- "Pile of Leaves" | 4476 |
taishan | Linux (openEuler 24.03 LTS) | aarch64 | 4.4.2 (2024-10-31) -- "Pile of Leaves" | 4407 |
Click on any hostname to see more info about the system (e.g. compilers) (*) as reported by 'uname -p', except on Windows and Mac OS X |
Package 505/2289 | Hostname | OS / Arch | INSTALL | BUILD | CHECK | BUILD BIN | ||||||||
dar 1.2.0 (landing page) Francesc Catala-Moll
| nebbiolo2 | Linux (Ubuntu 24.04.1 LTS) / x86_64 | OK | OK | OK | ![]() | ||||||||
palomino8 | Windows Server 2022 Datacenter / x64 | OK | OK | OK | OK | ![]() | ||||||||
merida1 | macOS 12.7.5 Monterey / x86_64 | OK | OK | OK | OK | ![]() | ||||||||
kjohnson1 | macOS 13.6.6 Ventura / arm64 | OK | OK | OK | OK | ![]() | ||||||||
taishan | Linux (openEuler 24.03 LTS) / aarch64 | OK | OK | OK | ||||||||||
To the developers/maintainers of the dar package: - Allow up to 24 hours (and sometimes 48 hours) for your latest push to git@git.bioconductor.org:packages/dar.git to reflect on this report. See Troubleshooting Build Report for more information. - Use the following Renviron settings to reproduce errors and warnings. - If 'R CMD check' started to fail recently on the Linux builder(s) over a missing dependency, add the missing dependency to 'Suggests:' in your DESCRIPTION file. See Renviron.bioc for more information. |
Package: dar |
Version: 1.2.0 |
Command: /Library/Frameworks/R.framework/Resources/bin/R CMD check --install=check:dar.install-out.txt --library=/Library/Frameworks/R.framework/Resources/library --no-vignettes --timings dar_1.2.0.tar.gz |
StartedAt: 2025-02-04 17:14:51 -0500 (Tue, 04 Feb 2025) |
EndedAt: 2025-02-04 17:27:46 -0500 (Tue, 04 Feb 2025) |
EllapsedTime: 775.4 seconds |
RetCode: 0 |
Status: OK |
CheckDir: dar.Rcheck |
Warnings: 0 |
############################################################################## ############################################################################## ### ### Running command: ### ### /Library/Frameworks/R.framework/Resources/bin/R CMD check --install=check:dar.install-out.txt --library=/Library/Frameworks/R.framework/Resources/library --no-vignettes --timings dar_1.2.0.tar.gz ### ############################################################################## ############################################################################## * using log directory ‘/Users/biocbuild/bbs-3.20-bioc/meat/dar.Rcheck’ * using R version 4.4.2 (2024-10-31) * using platform: aarch64-apple-darwin20 * R was compiled by Apple clang version 14.0.0 (clang-1400.0.29.202) GNU Fortran (GCC) 12.2.0 * running under: macOS Ventura 13.7.1 * using session charset: UTF-8 * using option ‘--no-vignettes’ * checking for file ‘dar/DESCRIPTION’ ... OK * this is package ‘dar’ version ‘1.2.0’ * package encoding: UTF-8 * checking package namespace information ... OK * checking package dependencies ... OK * checking if this is a source package ... OK * checking if there is a namespace ... OK * checking for hidden files and directories ... OK * checking for portable file names ... OK * checking for sufficient/correct file permissions ... OK * checking whether package ‘dar’ can be installed ... OK * checking installed package size ... OK * checking package directory ... OK * checking ‘build’ directory ... OK * checking DESCRIPTION meta-information ... OK * checking top-level files ... OK * checking for left-over files ... OK * checking index information ... OK * checking package subdirectories ... OK * checking code files for non-ASCII characters ... OK * checking R files for syntax errors ... OK * checking whether the package can be loaded ... OK * checking whether the package can be loaded with stated dependencies ... OK * checking whether the package can be unloaded cleanly ... OK * checking whether the namespace can be loaded with stated dependencies ... OK * checking whether the namespace can be unloaded cleanly ... OK * checking dependencies in R code ... OK * checking S3 generic/method consistency ... OK * checking replacement functions ... OK * checking foreign function calls ... OK * checking R code for possible problems ... OK * checking Rd files ... OK * checking Rd metadata ... OK * checking Rd cross-references ... OK * checking for missing documentation entries ... OK * checking for code/documentation mismatches ... OK * checking Rd \usage sections ... OK * checking Rd contents ... OK * checking for unstated dependencies in examples ... OK * checking contents of ‘data’ directory ... OK * checking data for non-ASCII characters ... OK * checking data for ASCII and uncompressed saves ... OK * checking R/sysdata.rda ... OK * checking files in ‘vignettes’ ... OK * checking examples ... OK Examples with CPU (user + system) or elapsed time > 5s user system elapsed step_aldex 19.038 1.833 20.918 step_ancom 13.251 0.697 13.999 step_deseq 7.005 0.077 7.084 step_metagenomeseq 5.621 0.128 12.535 prep 2.111 0.068 37.741 export_steps 1.689 0.139 13.276 import_steps 1.457 0.080 37.840 recipe 0.769 0.026 18.878 * checking for unstated dependencies in ‘tests’ ... OK * checking tests ... Running ‘testthat.R’ OK * checking for unstated dependencies in vignettes ... OK * checking package vignettes ... OK * checking running R code from vignettes ... SKIPPED * checking re-building of vignette outputs ... SKIPPED * checking PDF version of manual ... OK * DONE Status: OK
dar.Rcheck/00install.out
############################################################################## ############################################################################## ### ### Running command: ### ### /Library/Frameworks/R.framework/Resources/bin/R CMD INSTALL dar ### ############################################################################## ############################################################################## * installing to library ‘/Library/Frameworks/R.framework/Versions/4.4-arm64/Resources/library’ * installing *source* package ‘dar’ ... ** using staged installation ** R ** data ** inst ** byte-compile and prepare package for lazy loading ** help *** installing help indices *** copying figures ** building package indices ** installing vignettes ** testing if installed package can be loaded from temporary location ** testing if installed package can be loaded from final location ** testing if installed package keeps a record of temporary installation path * DONE (dar)
dar.Rcheck/tests/testthat.Rout
R version 4.4.2 (2024-10-31) -- "Pile of Leaves" Copyright (C) 2024 The R Foundation for Statistical Computing Platform: aarch64-apple-darwin20 R is free software and comes with ABSOLUTELY NO WARRANTY. You are welcome to redistribute it under certain conditions. Type 'license()' or 'licence()' for distribution details. R is a collaborative project with many contributors. Type 'contributors()' for more information and 'citation()' on how to cite R or R packages in publications. Type 'demo()' for some demos, 'help()' for on-line help, or 'help.start()' for an HTML browser interface to help. Type 'q()' to quit R. > library(testthat) > library(dar) > > test_check("dar") Starting 2 test processes [ FAIL 0 | WARN 0 | SKIP 10 | PASS 82 ] ══ Skipped tests (10) ══════════════════════════════════════════════════════════ • On CRAN (10): 'test-roxytest-tests-bake.R:18:3', 'test-roxytest-tests-ancom.R:14:3', 'test-roxytest-tests-lefse.R:15:3', 'test-roxytest-tests-maaslin2.R:16:3', 'test-roxytest-tests-pkg_check.R:6:3', 'test-roxytest-tests-misc.R:73:3', 'test-roxytest-tests-misc.R:101:3', 'test-roxytest-tests-misc.R:108:3', 'test-roxytest-tests-read_data.R:24:3', 'test-roxytest-tests-steps_and_checks.R:7:3' [ FAIL 0 | WARN 0 | SKIP 10 | PASS 82 ] > > proc.time() user system elapsed 250.404 16.064 410.227
dar.Rcheck/dar-Ex.timings
name | user | system | elapsed | |
abundance_plt | 2.834 | 0.095 | 2.936 | |
add_tax | 0.178 | 0.007 | 0.188 | |
add_var | 0.172 | 0.007 | 0.179 | |
bake | 0.502 | 0.015 | 0.517 | |
contains_rarefaction | 0.300 | 0.016 | 0.318 | |
cool | 0.291 | 0.008 | 0.299 | |
corr_heatmap | 4.072 | 0.103 | 4.198 | |
exclusion_plt | 0.882 | 0.014 | 0.896 | |
export_steps | 1.689 | 0.139 | 13.276 | |
find_intersections | 0.183 | 0.008 | 0.197 | |
get_comparisons | 0.034 | 0.004 | 0.038 | |
get_phy | 0.029 | 0.003 | 0.032 | |
get_tax | 0.034 | 0.003 | 0.038 | |
get_var | 0.035 | 0.003 | 0.039 | |
import_steps | 1.457 | 0.080 | 37.840 | |
intersection_df | 0.179 | 0.008 | 0.188 | |
intersection_plt | 1.511 | 0.021 | 1.533 | |
mutual_plt | 1.858 | 0.025 | 1.888 | |
otu_table | 0.345 | 0.004 | 0.350 | |
overlap_df | 0.300 | 0.009 | 0.309 | |
phy_qc | 1.133 | 0.020 | 1.153 | |
prep | 2.111 | 0.068 | 37.741 | |
rand_id | 0.000 | 0.001 | 0.001 | |
read_data | 1.359 | 0.164 | 1.444 | |
recipe | 0.769 | 0.026 | 18.878 | |
required_deps | 0.067 | 0.008 | 0.077 | |
sample_data | 0.039 | 0.003 | 0.042 | |
step_aldex | 19.038 | 1.833 | 20.918 | |
step_ancom | 13.251 | 0.697 | 13.999 | |
step_corncob | 2.576 | 0.128 | 2.794 | |
step_deseq | 7.005 | 0.077 | 7.084 | |
step_filter_by_abundance | 0.049 | 0.004 | 0.052 | |
step_filter_by_prevalence | 0.049 | 0.004 | 0.052 | |
step_filter_by_rarity | 0.048 | 0.003 | 0.051 | |
step_filter_by_variance | 0.049 | 0.003 | 0.053 | |
step_filter_taxa | 0.049 | 0.003 | 0.052 | |
step_lefse | 0.077 | 0.005 | 0.082 | |
step_maaslin | 3.195 | 0.155 | 3.349 | |
step_metagenomeseq | 5.621 | 0.128 | 12.535 | |
step_rarefaction | 0.056 | 0.008 | 0.064 | |
step_subset_taxa | 0.050 | 0.004 | 0.055 | |
step_wilcox | 1.809 | 0.032 | 1.840 | |
steps_ids | 0.024 | 0.006 | 0.029 | |
tax_table | 0.115 | 0.007 | 0.122 | |
tidyeval | 0.017 | 0.001 | 0.018 | |
to_tibble | 0.386 | 0.004 | 0.391 | |
use_rarefy | 0.023 | 0.003 | 0.025 | |
zero_otu | 0.407 | 0.009 | 0.416 | |