Back to Multiple platform build/check report for BioC 3.20: simplified long |
|
This page was generated on 2025-02-03 12:05 -0500 (Mon, 03 Feb 2025).
Hostname | OS | Arch (*) | R version | Installed pkgs |
---|---|---|---|---|
nebbiolo2 | Linux (Ubuntu 24.04.1 LTS) | x86_64 | 4.4.2 (2024-10-31) -- "Pile of Leaves" | 4746 |
palomino8 | Windows Server 2022 Datacenter | x64 | 4.4.2 (2024-10-31 ucrt) -- "Pile of Leaves" | 4494 |
merida1 | macOS 12.7.5 Monterey | x86_64 | 4.4.2 (2024-10-31) -- "Pile of Leaves" | 4517 |
kjohnson1 | macOS 13.6.6 Ventura | arm64 | 4.4.2 (2024-10-31) -- "Pile of Leaves" | 4469 |
taishan | Linux (openEuler 24.03 LTS) | aarch64 | 4.4.2 (2024-10-31) -- "Pile of Leaves" | 4400 |
Click on any hostname to see more info about the system (e.g. compilers) (*) as reported by 'uname -p', except on Windows and Mac OS X |
Package 505/2289 | Hostname | OS / Arch | INSTALL | BUILD | CHECK | BUILD BIN | ||||||||
dar 1.2.0 (landing page) Francesc Catala-Moll
| nebbiolo2 | Linux (Ubuntu 24.04.1 LTS) / x86_64 | OK | OK | OK | |||||||||
palomino8 | Windows Server 2022 Datacenter / x64 | OK | OK | OK | OK | |||||||||
merida1 | macOS 12.7.5 Monterey / x86_64 | OK | OK | OK | OK | |||||||||
kjohnson1 | macOS 13.6.6 Ventura / arm64 | OK | OK | OK | OK | |||||||||
taishan | Linux (openEuler 24.03 LTS) / aarch64 | OK | OK | OK | ||||||||||
To the developers/maintainers of the dar package: - Allow up to 24 hours (and sometimes 48 hours) for your latest push to git@git.bioconductor.org:packages/dar.git to reflect on this report. See Troubleshooting Build Report for more information. - Use the following Renviron settings to reproduce errors and warnings. - If 'R CMD check' started to fail recently on the Linux builder(s) over a missing dependency, add the missing dependency to 'Suggests:' in your DESCRIPTION file. See Renviron.bioc for more information. |
Package: dar |
Version: 1.2.0 |
Command: /home/biocbuild/bbs-3.20-bioc/R/bin/R CMD check --install=check:dar.install-out.txt --library=/home/biocbuild/bbs-3.20-bioc/R/site-library --timings dar_1.2.0.tar.gz |
StartedAt: 2025-01-30 21:23:19 -0500 (Thu, 30 Jan 2025) |
EndedAt: 2025-01-30 21:36:04 -0500 (Thu, 30 Jan 2025) |
EllapsedTime: 764.7 seconds |
RetCode: 0 |
Status: OK |
CheckDir: dar.Rcheck |
Warnings: 0 |
############################################################################## ############################################################################## ### ### Running command: ### ### /home/biocbuild/bbs-3.20-bioc/R/bin/R CMD check --install=check:dar.install-out.txt --library=/home/biocbuild/bbs-3.20-bioc/R/site-library --timings dar_1.2.0.tar.gz ### ############################################################################## ############################################################################## * using log directory ‘/home/biocbuild/bbs-3.20-bioc/meat/dar.Rcheck’ * using R version 4.4.2 (2024-10-31) * using platform: x86_64-pc-linux-gnu * R was compiled by gcc (Ubuntu 13.2.0-23ubuntu4) 13.2.0 GNU Fortran (Ubuntu 13.2.0-23ubuntu4) 13.2.0 * running under: Ubuntu 24.04.1 LTS * using session charset: UTF-8 * checking for file ‘dar/DESCRIPTION’ ... OK * this is package ‘dar’ version ‘1.2.0’ * package encoding: UTF-8 * checking package namespace information ... OK * checking package dependencies ... OK * checking if this is a source package ... OK * checking if there is a namespace ... OK * checking for hidden files and directories ... OK * checking for portable file names ... OK * checking for sufficient/correct file permissions ... OK * checking whether package ‘dar’ can be installed ... OK * checking installed package size ... OK * checking package directory ... OK * checking ‘build’ directory ... OK * checking DESCRIPTION meta-information ... OK * checking top-level files ... OK * checking for left-over files ... OK * checking index information ... OK * checking package subdirectories ... OK * checking code files for non-ASCII characters ... OK * checking R files for syntax errors ... OK * checking whether the package can be loaded ... OK * checking whether the package can be loaded with stated dependencies ... OK * checking whether the package can be unloaded cleanly ... OK * checking whether the namespace can be loaded with stated dependencies ... OK * checking whether the namespace can be unloaded cleanly ... OK * checking loading without being on the library search path ... OK * checking dependencies in R code ... OK * checking S3 generic/method consistency ... OK * checking replacement functions ... OK * checking foreign function calls ... OK * checking R code for possible problems ... OK * checking Rd files ... OK * checking Rd metadata ... OK * checking Rd cross-references ... OK * checking for missing documentation entries ... OK * checking for code/documentation mismatches ... OK * checking Rd \usage sections ... OK * checking Rd contents ... OK * checking for unstated dependencies in examples ... OK * checking contents of ‘data’ directory ... OK * checking data for non-ASCII characters ... OK * checking data for ASCII and uncompressed saves ... OK * checking R/sysdata.rda ... OK * checking files in ‘vignettes’ ... OK * checking examples ... OK Examples with CPU (user + system) or elapsed time > 5s user system elapsed step_aldex 17.277 0.848 18.127 step_ancom 12.697 0.535 13.239 step_deseq 6.835 0.072 6.907 corr_heatmap 4.478 0.789 5.268 step_metagenomeseq 4.069 0.122 10.572 prep 2.999 0.211 35.833 export_steps 1.901 0.499 12.536 import_steps 2.036 0.166 33.965 recipe 1.059 0.077 16.446 * checking for unstated dependencies in ‘tests’ ... OK * checking tests ... Running ‘testthat.R’ OK * checking for unstated dependencies in vignettes ... OK * checking package vignettes ... OK * checking re-building of vignette outputs ... OK * checking PDF version of manual ... OK * DONE Status: OK
dar.Rcheck/00install.out
############################################################################## ############################################################################## ### ### Running command: ### ### /home/biocbuild/bbs-3.20-bioc/R/bin/R CMD INSTALL dar ### ############################################################################## ############################################################################## * installing to library ‘/home/biocbuild/bbs-3.20-bioc/R/site-library’ * installing *source* package ‘dar’ ... ** using staged installation ** R ** data ** inst ** byte-compile and prepare package for lazy loading ** help *** installing help indices *** copying figures ** building package indices ** installing vignettes ** testing if installed package can be loaded from temporary location ** testing if installed package can be loaded from final location ** testing if installed package keeps a record of temporary installation path * DONE (dar)
dar.Rcheck/tests/testthat.Rout
R version 4.4.2 (2024-10-31) -- "Pile of Leaves" Copyright (C) 2024 The R Foundation for Statistical Computing Platform: x86_64-pc-linux-gnu R is free software and comes with ABSOLUTELY NO WARRANTY. You are welcome to redistribute it under certain conditions. Type 'license()' or 'licence()' for distribution details. R is a collaborative project with many contributors. Type 'contributors()' for more information and 'citation()' on how to cite R or R packages in publications. Type 'demo()' for some demos, 'help()' for on-line help, or 'help.start()' for an HTML browser interface to help. Type 'q()' to quit R. > library(testthat) > library(dar) > > test_check("dar") Starting 2 test processes [ FAIL 0 | WARN 0 | SKIP 10 | PASS 82 ] ══ Skipped tests (10) ══════════════════════════════════════════════════════════ • On CRAN (10): 'test-roxytest-tests-bake.R:18:3', 'test-roxytest-tests-ancom.R:14:3', 'test-roxytest-tests-lefse.R:15:3', 'test-roxytest-tests-maaslin2.R:16:3', 'test-roxytest-tests-pkg_check.R:6:3', 'test-roxytest-tests-misc.R:73:3', 'test-roxytest-tests-misc.R:101:3', 'test-roxytest-tests-misc.R:108:3', 'test-roxytest-tests-read_data.R:24:3', 'test-roxytest-tests-steps_and_checks.R:7:3' [ FAIL 0 | WARN 0 | SKIP 10 | PASS 82 ] > > proc.time() user system elapsed 213.885 9.852 302.642
dar.Rcheck/dar-Ex.timings
name | user | system | elapsed | |
abundance_plt | 3.055 | 0.185 | 3.242 | |
add_tax | 0.176 | 0.001 | 0.177 | |
add_var | 0.151 | 0.002 | 0.153 | |
bake | 0.524 | 0.002 | 0.527 | |
contains_rarefaction | 0.250 | 0.022 | 0.273 | |
cool | 0.308 | 0.009 | 0.317 | |
corr_heatmap | 4.478 | 0.789 | 5.268 | |
exclusion_plt | 0.992 | 0.066 | 1.058 | |
export_steps | 1.901 | 0.499 | 12.536 | |
find_intersections | 0.179 | 0.014 | 0.193 | |
get_comparisons | 0.025 | 0.000 | 0.026 | |
get_phy | 0.020 | 0.001 | 0.020 | |
get_tax | 0.023 | 0.005 | 0.027 | |
get_var | 0.026 | 0.000 | 0.025 | |
import_steps | 2.036 | 0.166 | 33.965 | |
intersection_df | 0.187 | 0.018 | 0.205 | |
intersection_plt | 1.505 | 0.071 | 1.576 | |
mutual_plt | 1.876 | 0.032 | 1.908 | |
otu_table | 0.375 | 0.005 | 0.380 | |
overlap_df | 0.264 | 0.002 | 0.267 | |
phy_qc | 1.130 | 0.025 | 1.155 | |
prep | 2.999 | 0.211 | 35.833 | |
rand_id | 0 | 0 | 0 | |
read_data | 1.258 | 0.593 | 1.862 | |
recipe | 1.059 | 0.077 | 16.446 | |
required_deps | 0.050 | 0.002 | 0.052 | |
sample_data | 0.029 | 0.002 | 0.031 | |
step_aldex | 17.277 | 0.848 | 18.127 | |
step_ancom | 12.697 | 0.535 | 13.239 | |
step_corncob | 2.732 | 0.069 | 2.801 | |
step_deseq | 6.835 | 0.072 | 6.907 | |
step_filter_by_abundance | 0.042 | 0.000 | 0.042 | |
step_filter_by_prevalence | 0.044 | 0.000 | 0.044 | |
step_filter_by_rarity | 0.049 | 0.000 | 0.049 | |
step_filter_by_variance | 0.045 | 0.001 | 0.046 | |
step_filter_taxa | 0.042 | 0.001 | 0.044 | |
step_lefse | 0.067 | 0.001 | 0.068 | |
step_maaslin | 3.026 | 0.045 | 3.070 | |
step_metagenomeseq | 4.069 | 0.122 | 10.572 | |
step_rarefaction | 0.051 | 0.008 | 0.059 | |
step_subset_taxa | 0.038 | 0.004 | 0.042 | |
step_wilcox | 1.876 | 0.094 | 1.970 | |
steps_ids | 0.017 | 0.000 | 0.017 | |
tax_table | 0.051 | 0.002 | 0.053 | |
tidyeval | 0.017 | 0.000 | 0.017 | |
to_tibble | 0.420 | 0.022 | 0.442 | |
use_rarefy | 0.016 | 0.000 | 0.016 | |
zero_otu | 0.491 | 0.022 | 0.513 | |